BEGIN:VCALENDAR
VERSION:2.0
PRODID:https://www.kufer.de/kuferweb / DE
METHOD:PUBLISH
CALSCALE:GREGORIAN
X-WR-TIMEZONE:Europe/Berlin
BEGIN:VTIMEZONE
TZID:Europe/Berlin
X-LIC-LOCATION:Europe/Berlin
BEGIN:DAYLIGHT
TZOFFSETFROM:+0100
TZOFFSETTO:+0200
TZNAME:CEST
DTSTART:19700329T020000
RRULE:FREQ=YEARLY;INTERVAL=1;BYDAY=-1SU;BYMONTH=3
END:DAYLIGHT
BEGIN:STANDARD
TZOFFSETFROM:+0200
TZOFFSETTO:+0100
TZNAME:CET
DTSTART:19701025T030000
RRULE:FREQ=YEARLY;INTERVAL=1;BYDAY=-1SU;BYMONTH=10
END:STANDARD
END:VTIMEZONE
BEGIN:VEVENT
DTSTAMP:20260424T150535
DTSTART;TZID=Europe/Berlin:20260622T090000
DTEND;TZID=Europe/Berlin:20260622T160000
UID:61300000DG-20260622T090000@VHSDILLENBURG
SUMMARY:Bildungsurlaub: Tai Chi und Qigong - Mit Tai Chi und Qi Gong gesund und leistungsfähig im Berufsalltag (61300000DG) 
LOCATION:VHS: Raum 30 - Mehrzweckraum, Bahnhofstraße 10, 35683 Dillenburg
END:VEVENT
BEGIN:VEVENT
DTSTAMP:20260424T150535
DTSTART;TZID=Europe/Berlin:20260623T090000
DTEND;TZID=Europe/Berlin:20260623T160000
UID:61300000DG-20260623T090000@VHSDILLENBURG
SUMMARY:Bildungsurlaub: Tai Chi und Qigong - Mit Tai Chi und Qi Gong gesund und leistungsfähig im Berufsalltag (61300000DG) 
LOCATION:VHS: Raum 30 - Mehrzweckraum, Bahnhofstraße 10, 35683 Dillenburg
END:VEVENT
BEGIN:VEVENT
DTSTAMP:20260424T150535
DTSTART;TZID=Europe/Berlin:20260624T090000
DTEND;TZID=Europe/Berlin:20260624T160000
UID:61300000DG-20260624T090000@VHSDILLENBURG
SUMMARY:Bildungsurlaub: Tai Chi und Qigong - Mit Tai Chi und Qi Gong gesund und leistungsfähig im Berufsalltag (61300000DG) 
LOCATION:VHS: Raum 30 - Mehrzweckraum, Bahnhofstraße 10, 35683 Dillenburg
END:VEVENT
BEGIN:VEVENT
DTSTAMP:20260424T150535
DTSTART;TZID=Europe/Berlin:20260625T090000
DTEND;TZID=Europe/Berlin:20260625T160000
UID:61300000DG-20260625T090000@VHSDILLENBURG
SUMMARY:Bildungsurlaub: Tai Chi und Qigong - Mit Tai Chi und Qi Gong gesund und leistungsfähig im Berufsalltag (61300000DG) 
LOCATION:VHS: Raum 30 - Mehrzweckraum, Bahnhofstraße 10, 35683 Dillenburg
END:VEVENT
BEGIN:VEVENT
DTSTAMP:20260424T150535
DTSTART;TZID=Europe/Berlin:20260626T090000
DTEND;TZID=Europe/Berlin:20260626T160000
UID:61300000DG-20260626T090000@VHSDILLENBURG
SUMMARY:Bildungsurlaub: Tai Chi und Qigong - Mit Tai Chi und Qi Gong gesund und leistungsfähig im Berufsalltag (61300000DG) 
LOCATION:VHS: Raum 30 - Mehrzweckraum, Bahnhofstraße 10, 35683 Dillenburg
END:VEVENT
END:VCALENDAR