BEGIN:VCALENDAR
VERSION:2.0
PRODID:https://www.kufer.de/kuferweb / DE
METHOD:PUBLISH
CALSCALE:GREGORIAN
X-WR-TIMEZONE:Europe/Berlin
BEGIN:VTIMEZONE
TZID:Europe/Berlin
X-LIC-LOCATION:Europe/Berlin
BEGIN:DAYLIGHT
TZOFFSETFROM:+0100
TZOFFSETTO:+0200
TZNAME:CEST
DTSTART:19700329T020000
RRULE:FREQ=YEARLY;INTERVAL=1;BYDAY=-1SU;BYMONTH=3
END:DAYLIGHT
BEGIN:STANDARD
TZOFFSETFROM:+0200
TZOFFSETTO:+0100
TZNAME:CET
DTSTART:19701025T030000
RRULE:FREQ=YEARLY;INTERVAL=1;BYDAY=-1SU;BYMONTH=10
END:STANDARD
END:VTIMEZONE
BEGIN:VEVENT
DTSTAMP:20260423T142639
DTSTART;TZID=Europe/Berlin:20260428T173000
DTEND;TZID=Europe/Berlin:20260428T190000
UID:61301334HH-20260428T173000@VHSDILLENBURG
SUMMARY:Hatha Yoga für Anfänger/innen und Geübte (61301334HH) 
LOCATION:Hohenahr-Hohensolms, Dorfgemeinschaftshaus, Höhenweg 5, 35644 Hohenahr
END:VEVENT
BEGIN:VEVENT
DTSTAMP:20260423T142639
DTSTART;TZID=Europe/Berlin:20260505T173000
DTEND;TZID=Europe/Berlin:20260505T190000
UID:61301334HH-20260505T173000@VHSDILLENBURG
SUMMARY:Hatha Yoga für Anfänger/innen und Geübte (61301334HH) 
LOCATION:Hohenahr-Hohensolms, Dorfgemeinschaftshaus, Höhenweg 5, 35644 Hohenahr
END:VEVENT
BEGIN:VEVENT
DTSTAMP:20260423T142639
DTSTART;TZID=Europe/Berlin:20260512T173000
DTEND;TZID=Europe/Berlin:20260512T190000
UID:61301334HH-20260512T173000@VHSDILLENBURG
SUMMARY:Hatha Yoga für Anfänger/innen und Geübte (61301334HH) 
LOCATION:Hohenahr-Hohensolms, Dorfgemeinschaftshaus, Höhenweg 5, 35644 Hohenahr
END:VEVENT
BEGIN:VEVENT
DTSTAMP:20260423T142639
DTSTART;TZID=Europe/Berlin:20260519T173000
DTEND;TZID=Europe/Berlin:20260519T190000
UID:61301334HH-20260519T173000@VHSDILLENBURG
SUMMARY:Hatha Yoga für Anfänger/innen und Geübte (61301334HH) 
LOCATION:Hohenahr-Hohensolms, Dorfgemeinschaftshaus, Höhenweg 5, 35644 Hohenahr
END:VEVENT
BEGIN:VEVENT
DTSTAMP:20260423T142639
DTSTART;TZID=Europe/Berlin:20260526T173000
DTEND;TZID=Europe/Berlin:20260526T190000
UID:61301334HH-20260526T173000@VHSDILLENBURG
SUMMARY:Hatha Yoga für Anfänger/innen und Geübte (61301334HH) 
LOCATION:Hohenahr-Hohensolms, Dorfgemeinschaftshaus, Höhenweg 5, 35644 Hohenahr
END:VEVENT
BEGIN:VEVENT
DTSTAMP:20260423T142639
DTSTART;TZID=Europe/Berlin:20260602T173000
DTEND;TZID=Europe/Berlin:20260602T190000
UID:61301334HH-20260602T173000@VHSDILLENBURG
SUMMARY:Hatha Yoga für Anfänger/innen und Geübte (61301334HH) 
LOCATION:Hohenahr-Hohensolms, Dorfgemeinschaftshaus, Höhenweg 5, 35644 Hohenahr
END:VEVENT
BEGIN:VEVENT
DTSTAMP:20260423T142639
DTSTART;TZID=Europe/Berlin:20260609T173000
DTEND;TZID=Europe/Berlin:20260609T190000
UID:61301334HH-20260609T173000@VHSDILLENBURG
SUMMARY:Hatha Yoga für Anfänger/innen und Geübte (61301334HH) 
LOCATION:Hohenahr-Hohensolms, Dorfgemeinschaftshaus, Höhenweg 5, 35644 Hohenahr
END:VEVENT
BEGIN:VEVENT
DTSTAMP:20260423T142639
DTSTART;TZID=Europe/Berlin:20260616T173000
DTEND;TZID=Europe/Berlin:20260616T190000
UID:61301334HH-20260616T173000@VHSDILLENBURG
SUMMARY:Hatha Yoga für Anfänger/innen und Geübte (61301334HH) 
LOCATION:Hohenahr-Hohensolms, Dorfgemeinschaftshaus, Höhenweg 5, 35644 Hohenahr
END:VEVENT
END:VCALENDAR