BEGIN:VCALENDAR
VERSION:2.0
PRODID:https://www.kufer.de/kuferweb / DE
METHOD:PUBLISH
CALSCALE:GREGORIAN
X-WR-TIMEZONE:Europe/Berlin
BEGIN:VTIMEZONE
TZID:Europe/Berlin
X-LIC-LOCATION:Europe/Berlin
BEGIN:DAYLIGHT
TZOFFSETFROM:+0100
TZOFFSETTO:+0200
TZNAME:CEST
DTSTART:19700329T020000
RRULE:FREQ=YEARLY;INTERVAL=1;BYDAY=-1SU;BYMONTH=3
END:DAYLIGHT
BEGIN:STANDARD
TZOFFSETFROM:+0200
TZOFFSETTO:+0100
TZNAME:CET
DTSTART:19701025T030000
RRULE:FREQ=YEARLY;INTERVAL=1;BYDAY=-1SU;BYMONTH=10
END:STANDARD
END:VTIMEZONE
BEGIN:VEVENT
DTSTAMP:20260424T150527
DTSTART;TZID=Europe/Berlin:20260415T143000
DTEND;TZID=Europe/Berlin:20260415T153000
UID:61302017BD-20260415T143000@VHSDILLENBURG
SUMMARY:Fit und Gesund - ein Leben lang (61302017BD) 
LOCATION:Breitscheid-Gusternhain, Dorfgemeinschaftshaus, Zillertal 11, 35767 Breitscheid
END:VEVENT
BEGIN:VEVENT
DTSTAMP:20260424T150527
DTSTART;TZID=Europe/Berlin:20260422T143000
DTEND;TZID=Europe/Berlin:20260422T153000
UID:61302017BD-20260422T143000@VHSDILLENBURG
SUMMARY:Fit und Gesund - ein Leben lang (61302017BD) 
LOCATION:Breitscheid-Gusternhain, Dorfgemeinschaftshaus, Zillertal 11, 35767 Breitscheid
END:VEVENT
BEGIN:VEVENT
DTSTAMP:20260424T150527
DTSTART;TZID=Europe/Berlin:20260429T143000
DTEND;TZID=Europe/Berlin:20260429T153000
UID:61302017BD-20260429T143000@VHSDILLENBURG
SUMMARY:Fit und Gesund - ein Leben lang (61302017BD) 
LOCATION:Breitscheid-Gusternhain, Dorfgemeinschaftshaus, Zillertal 11, 35767 Breitscheid
END:VEVENT
BEGIN:VEVENT
DTSTAMP:20260424T150527
DTSTART;TZID=Europe/Berlin:20260506T143000
DTEND;TZID=Europe/Berlin:20260506T153000
UID:61302017BD-20260506T143000@VHSDILLENBURG
SUMMARY:Fit und Gesund - ein Leben lang (61302017BD) 
LOCATION:Breitscheid-Gusternhain, Dorfgemeinschaftshaus, Zillertal 11, 35767 Breitscheid
END:VEVENT
BEGIN:VEVENT
DTSTAMP:20260424T150527
DTSTART;TZID=Europe/Berlin:20260513T143000
DTEND;TZID=Europe/Berlin:20260513T153000
UID:61302017BD-20260513T143000@VHSDILLENBURG
SUMMARY:Fit und Gesund - ein Leben lang (61302017BD) 
LOCATION:Breitscheid-Gusternhain, Dorfgemeinschaftshaus, Zillertal 11, 35767 Breitscheid
END:VEVENT
BEGIN:VEVENT
DTSTAMP:20260424T150527
DTSTART;TZID=Europe/Berlin:20260520T143000
DTEND;TZID=Europe/Berlin:20260520T153000
UID:61302017BD-20260520T143000@VHSDILLENBURG
SUMMARY:Fit und Gesund - ein Leben lang (61302017BD) 
LOCATION:Breitscheid-Gusternhain, Dorfgemeinschaftshaus, Zillertal 11, 35767 Breitscheid
END:VEVENT
BEGIN:VEVENT
DTSTAMP:20260424T150527
DTSTART;TZID=Europe/Berlin:20260527T143000
DTEND;TZID=Europe/Berlin:20260527T153000
UID:61302017BD-20260527T143000@VHSDILLENBURG
SUMMARY:Fit und Gesund - ein Leben lang (61302017BD) 
LOCATION:Breitscheid-Gusternhain, Dorfgemeinschaftshaus, Zillertal 11, 35767 Breitscheid
END:VEVENT
BEGIN:VEVENT
DTSTAMP:20260424T150527
DTSTART;TZID=Europe/Berlin:20260603T143000
DTEND;TZID=Europe/Berlin:20260603T153000
UID:61302017BD-20260603T143000@VHSDILLENBURG
SUMMARY:Fit und Gesund - ein Leben lang (61302017BD) 
LOCATION:Breitscheid-Gusternhain, Dorfgemeinschaftshaus, Zillertal 11, 35767 Breitscheid
END:VEVENT
BEGIN:VEVENT
DTSTAMP:20260424T150527
DTSTART;TZID=Europe/Berlin:20260610T143000
DTEND;TZID=Europe/Berlin:20260610T153000
UID:61302017BD-20260610T143000@VHSDILLENBURG
SUMMARY:Fit und Gesund - ein Leben lang (61302017BD) 
LOCATION:Breitscheid-Gusternhain, Dorfgemeinschaftshaus, Zillertal 11, 35767 Breitscheid
END:VEVENT
BEGIN:VEVENT
DTSTAMP:20260424T150527
DTSTART;TZID=Europe/Berlin:20260617T143000
DTEND;TZID=Europe/Berlin:20260617T153000
UID:61302017BD-20260617T143000@VHSDILLENBURG
SUMMARY:Fit und Gesund - ein Leben lang (61302017BD) 
LOCATION:Breitscheid-Gusternhain, Dorfgemeinschaftshaus, Zillertal 11, 35767 Breitscheid
END:VEVENT
END:VCALENDAR