BEGIN:VCALENDAR
VERSION:2.0
PRODID:https://www.kufer.de/kuferweb / DE
METHOD:PUBLISH
CALSCALE:GREGORIAN
X-WR-TIMEZONE:Europe/Berlin
BEGIN:VTIMEZONE
TZID:Europe/Berlin
X-LIC-LOCATION:Europe/Berlin
BEGIN:DAYLIGHT
TZOFFSETFROM:+0100
TZOFFSETTO:+0200
TZNAME:CEST
DTSTART:19700329T020000
RRULE:FREQ=YEARLY;INTERVAL=1;BYDAY=-1SU;BYMONTH=3
END:DAYLIGHT
BEGIN:STANDARD
TZOFFSETFROM:+0200
TZOFFSETTO:+0100
TZNAME:CET
DTSTART:19701025T030000
RRULE:FREQ=YEARLY;INTERVAL=1;BYDAY=-1SU;BYMONTH=10
END:STANDARD
END:VTIMEZONE
BEGIN:VEVENT
DTSTAMP:20260424T162522
DTSTART;TZID=Europe/Berlin:20260415T160000
DTEND;TZID=Europe/Berlin:20260415T170000
UID:61302020DF-20260415T160000@VHSDILLENBURG
SUMMARY:Gymnastik am Nachmittag Ausgleichsgymnastik und mehr (61302020DF) 
LOCATION:Driedorf-Roth, Dorfgemeinschaftshaus, Amtsweg 1, 35759 Driedorf
END:VEVENT
BEGIN:VEVENT
DTSTAMP:20260424T162522
DTSTART;TZID=Europe/Berlin:20260422T160000
DTEND;TZID=Europe/Berlin:20260422T170000
UID:61302020DF-20260422T160000@VHSDILLENBURG
SUMMARY:Gymnastik am Nachmittag Ausgleichsgymnastik und mehr (61302020DF) 
LOCATION:Driedorf-Roth, Dorfgemeinschaftshaus, Amtsweg 1, 35759 Driedorf
END:VEVENT
BEGIN:VEVENT
DTSTAMP:20260424T162522
DTSTART;TZID=Europe/Berlin:20260429T160000
DTEND;TZID=Europe/Berlin:20260429T170000
UID:61302020DF-20260429T160000@VHSDILLENBURG
SUMMARY:Gymnastik am Nachmittag Ausgleichsgymnastik und mehr (61302020DF) 
LOCATION:Driedorf-Roth, Dorfgemeinschaftshaus, Amtsweg 1, 35759 Driedorf
END:VEVENT
BEGIN:VEVENT
DTSTAMP:20260424T162522
DTSTART;TZID=Europe/Berlin:20260506T160000
DTEND;TZID=Europe/Berlin:20260506T170000
UID:61302020DF-20260506T160000@VHSDILLENBURG
SUMMARY:Gymnastik am Nachmittag Ausgleichsgymnastik und mehr (61302020DF) 
LOCATION:Driedorf-Roth, Dorfgemeinschaftshaus, Amtsweg 1, 35759 Driedorf
END:VEVENT
BEGIN:VEVENT
DTSTAMP:20260424T162522
DTSTART;TZID=Europe/Berlin:20260513T160000
DTEND;TZID=Europe/Berlin:20260513T170000
UID:61302020DF-20260513T160000@VHSDILLENBURG
SUMMARY:Gymnastik am Nachmittag Ausgleichsgymnastik und mehr (61302020DF) 
LOCATION:Driedorf-Roth, Dorfgemeinschaftshaus, Amtsweg 1, 35759 Driedorf
END:VEVENT
BEGIN:VEVENT
DTSTAMP:20260424T162522
DTSTART;TZID=Europe/Berlin:20260520T160000
DTEND;TZID=Europe/Berlin:20260520T170000
UID:61302020DF-20260520T160000@VHSDILLENBURG
SUMMARY:Gymnastik am Nachmittag Ausgleichsgymnastik und mehr (61302020DF) 
LOCATION:Driedorf-Roth, Dorfgemeinschaftshaus, Amtsweg 1, 35759 Driedorf
END:VEVENT
BEGIN:VEVENT
DTSTAMP:20260424T162522
DTSTART;TZID=Europe/Berlin:20260527T160000
DTEND;TZID=Europe/Berlin:20260527T170000
UID:61302020DF-20260527T160000@VHSDILLENBURG
SUMMARY:Gymnastik am Nachmittag Ausgleichsgymnastik und mehr (61302020DF) 
LOCATION:Driedorf-Roth, Dorfgemeinschaftshaus, Amtsweg 1, 35759 Driedorf
END:VEVENT
BEGIN:VEVENT
DTSTAMP:20260424T162522
DTSTART;TZID=Europe/Berlin:20260603T160000
DTEND;TZID=Europe/Berlin:20260603T170000
UID:61302020DF-20260603T160000@VHSDILLENBURG
SUMMARY:Gymnastik am Nachmittag Ausgleichsgymnastik und mehr (61302020DF) 
LOCATION:Driedorf-Roth, Dorfgemeinschaftshaus, Amtsweg 1, 35759 Driedorf
END:VEVENT
BEGIN:VEVENT
DTSTAMP:20260424T162522
DTSTART;TZID=Europe/Berlin:20260610T160000
DTEND;TZID=Europe/Berlin:20260610T170000
UID:61302020DF-20260610T160000@VHSDILLENBURG
SUMMARY:Gymnastik am Nachmittag Ausgleichsgymnastik und mehr (61302020DF) 
LOCATION:Driedorf-Roth, Dorfgemeinschaftshaus, Amtsweg 1, 35759 Driedorf
END:VEVENT
BEGIN:VEVENT
DTSTAMP:20260424T162522
DTSTART;TZID=Europe/Berlin:20260617T160000
DTEND;TZID=Europe/Berlin:20260617T170000
UID:61302020DF-20260617T160000@VHSDILLENBURG
SUMMARY:Gymnastik am Nachmittag Ausgleichsgymnastik und mehr (61302020DF) 
LOCATION:Driedorf-Roth, Dorfgemeinschaftshaus, Amtsweg 1, 35759 Driedorf
END:VEVENT
END:VCALENDAR