BEGIN:VCALENDAR
VERSION:2.0
PRODID:https://www.kufer.de/kuferweb / DE
METHOD:PUBLISH
CALSCALE:GREGORIAN
X-WR-TIMEZONE:Europe/Berlin
BEGIN:VTIMEZONE
TZID:Europe/Berlin
X-LIC-LOCATION:Europe/Berlin
BEGIN:DAYLIGHT
TZOFFSETFROM:+0100
TZOFFSETTO:+0200
TZNAME:CEST
DTSTART:19700329T020000
RRULE:FREQ=YEARLY;INTERVAL=1;BYDAY=-1SU;BYMONTH=3
END:DAYLIGHT
BEGIN:STANDARD
TZOFFSETFROM:+0200
TZOFFSETTO:+0100
TZNAME:CET
DTSTART:19701025T030000
RRULE:FREQ=YEARLY;INTERVAL=1;BYDAY=-1SU;BYMONTH=10
END:STANDARD
END:VTIMEZONE
BEGIN:VEVENT
DTSTAMP:20260424T151807
DTSTART;TZID=Europe/Berlin:20260414T183000
DTEND;TZID=Europe/Berlin:20260414T193000
UID:61302032HR-20260414T183000@VHSDILLENBURG
SUMMARY:Bewegung hält jung & fit  für Young Generation bis Best Ager (61302032HR) 
LOCATION:Haiger-Niederroßbach,  Grundschule Roßbachtal -  Turnhalle, Grundstraße 91, 35708 Haiger
END:VEVENT
BEGIN:VEVENT
DTSTAMP:20260424T151807
DTSTART;TZID=Europe/Berlin:20260421T183000
DTEND;TZID=Europe/Berlin:20260421T193000
UID:61302032HR-20260421T183000@VHSDILLENBURG
SUMMARY:Bewegung hält jung & fit  für Young Generation bis Best Ager (61302032HR) 
LOCATION:Haiger-Niederroßbach,  Grundschule Roßbachtal -  Turnhalle, Grundstraße 91, 35708 Haiger
END:VEVENT
BEGIN:VEVENT
DTSTAMP:20260424T151807
DTSTART;TZID=Europe/Berlin:20260428T183000
DTEND;TZID=Europe/Berlin:20260428T193000
UID:61302032HR-20260428T183000@VHSDILLENBURG
SUMMARY:Bewegung hält jung & fit  für Young Generation bis Best Ager (61302032HR) 
LOCATION:Haiger-Niederroßbach,  Grundschule Roßbachtal -  Turnhalle, Grundstraße 91, 35708 Haiger
END:VEVENT
BEGIN:VEVENT
DTSTAMP:20260424T151807
DTSTART;TZID=Europe/Berlin:20260505T183000
DTEND;TZID=Europe/Berlin:20260505T193000
UID:61302032HR-20260505T183000@VHSDILLENBURG
SUMMARY:Bewegung hält jung & fit  für Young Generation bis Best Ager (61302032HR) 
LOCATION:Haiger-Niederroßbach,  Grundschule Roßbachtal -  Turnhalle, Grundstraße 91, 35708 Haiger
END:VEVENT
BEGIN:VEVENT
DTSTAMP:20260424T151807
DTSTART;TZID=Europe/Berlin:20260512T183000
DTEND;TZID=Europe/Berlin:20260512T193000
UID:61302032HR-20260512T183000@VHSDILLENBURG
SUMMARY:Bewegung hält jung & fit  für Young Generation bis Best Ager (61302032HR) 
LOCATION:Haiger-Niederroßbach,  Grundschule Roßbachtal -  Turnhalle, Grundstraße 91, 35708 Haiger
END:VEVENT
BEGIN:VEVENT
DTSTAMP:20260424T151807
DTSTART;TZID=Europe/Berlin:20260519T183000
DTEND;TZID=Europe/Berlin:20260519T193000
UID:61302032HR-20260519T183000@VHSDILLENBURG
SUMMARY:Bewegung hält jung & fit  für Young Generation bis Best Ager (61302032HR) 
LOCATION:Haiger-Niederroßbach,  Grundschule Roßbachtal -  Turnhalle, Grundstraße 91, 35708 Haiger
END:VEVENT
BEGIN:VEVENT
DTSTAMP:20260424T151807
DTSTART;TZID=Europe/Berlin:20260526T183000
DTEND;TZID=Europe/Berlin:20260526T193000
UID:61302032HR-20260526T183000@VHSDILLENBURG
SUMMARY:Bewegung hält jung & fit  für Young Generation bis Best Ager (61302032HR) 
LOCATION:Haiger-Niederroßbach,  Grundschule Roßbachtal -  Turnhalle, Grundstraße 91, 35708 Haiger
END:VEVENT
END:VCALENDAR