BEGIN:VCALENDAR
VERSION:2.0
PRODID:https://www.kufer.de/kuferweb / DE
METHOD:PUBLISH
CALSCALE:GREGORIAN
X-WR-TIMEZONE:Europe/Berlin
BEGIN:VTIMEZONE
TZID:Europe/Berlin
X-LIC-LOCATION:Europe/Berlin
BEGIN:DAYLIGHT
TZOFFSETFROM:+0100
TZOFFSETTO:+0200
TZNAME:CEST
DTSTART:19700329T020000
RRULE:FREQ=YEARLY;INTERVAL=1;BYDAY=-1SU;BYMONTH=3
END:DAYLIGHT
BEGIN:STANDARD
TZOFFSETFROM:+0200
TZOFFSETTO:+0100
TZNAME:CET
DTSTART:19701025T030000
RRULE:FREQ=YEARLY;INTERVAL=1;BYDAY=-1SU;BYMONTH=10
END:STANDARD
END:VTIMEZONE
BEGIN:VEVENT
DTSTAMP:20260424T135810
DTSTART;TZID=Europe/Berlin:20260413T100000
DTEND;TZID=Europe/Berlin:20260413T110000
UID:61302052DG-20260413T100000@VHSDILLENBURG
SUMMARY:Bewegung hält jung & fit für Young Generation bis Best Ager (61302052DG) 
LOCATION:VHS: Raum 10 - Gymnastikraum, Bahnhofstraße 10, 35683 Dillenburg
END:VEVENT
BEGIN:VEVENT
DTSTAMP:20260424T135810
DTSTART;TZID=Europe/Berlin:20260420T100000
DTEND;TZID=Europe/Berlin:20260420T110000
UID:61302052DG-20260420T100000@VHSDILLENBURG
SUMMARY:Bewegung hält jung & fit für Young Generation bis Best Ager (61302052DG) 
LOCATION:VHS: Raum 10 - Gymnastikraum, Bahnhofstraße 10, 35683 Dillenburg
END:VEVENT
BEGIN:VEVENT
DTSTAMP:20260424T135810
DTSTART;TZID=Europe/Berlin:20260427T100000
DTEND;TZID=Europe/Berlin:20260427T110000
UID:61302052DG-20260427T100000@VHSDILLENBURG
SUMMARY:Bewegung hält jung & fit für Young Generation bis Best Ager (61302052DG) 
LOCATION:VHS: Raum 10 - Gymnastikraum, Bahnhofstraße 10, 35683 Dillenburg
END:VEVENT
BEGIN:VEVENT
DTSTAMP:20260424T135810
DTSTART;TZID=Europe/Berlin:20260504T100000
DTEND;TZID=Europe/Berlin:20260504T110000
UID:61302052DG-20260504T100000@VHSDILLENBURG
SUMMARY:Bewegung hält jung & fit für Young Generation bis Best Ager (61302052DG) 
LOCATION:VHS: Raum 10 - Gymnastikraum, Bahnhofstraße 10, 35683 Dillenburg
END:VEVENT
BEGIN:VEVENT
DTSTAMP:20260424T135810
DTSTART;TZID=Europe/Berlin:20260511T100000
DTEND;TZID=Europe/Berlin:20260511T110000
UID:61302052DG-20260511T100000@VHSDILLENBURG
SUMMARY:Bewegung hält jung & fit für Young Generation bis Best Ager (61302052DG) 
LOCATION:VHS: Raum 10 - Gymnastikraum, Bahnhofstraße 10, 35683 Dillenburg
END:VEVENT
BEGIN:VEVENT
DTSTAMP:20260424T135810
DTSTART;TZID=Europe/Berlin:20260518T100000
DTEND;TZID=Europe/Berlin:20260518T110000
UID:61302052DG-20260518T100000@VHSDILLENBURG
SUMMARY:Bewegung hält jung & fit für Young Generation bis Best Ager (61302052DG) 
LOCATION:VHS: Raum 10 - Gymnastikraum, Bahnhofstraße 10, 35683 Dillenburg
END:VEVENT
BEGIN:VEVENT
DTSTAMP:20260424T135810
DTSTART;TZID=Europe/Berlin:20260601T100000
DTEND;TZID=Europe/Berlin:20260601T110000
UID:61302052DG-20260601T100000@VHSDILLENBURG
SUMMARY:Bewegung hält jung & fit für Young Generation bis Best Ager (61302052DG) 
LOCATION:VHS: Raum 10 - Gymnastikraum, Bahnhofstraße 10, 35683 Dillenburg
END:VEVENT
END:VCALENDAR