BEGIN:VCALENDAR
VERSION:2.0
PRODID:https://www.kufer.de/kuferweb / DE
METHOD:PUBLISH
CALSCALE:GREGORIAN
X-WR-TIMEZONE:Europe/Berlin
BEGIN:VTIMEZONE
TZID:Europe/Berlin
X-LIC-LOCATION:Europe/Berlin
BEGIN:DAYLIGHT
TZOFFSETFROM:+0100
TZOFFSETTO:+0200
TZNAME:CEST
DTSTART:19700329T020000
RRULE:FREQ=YEARLY;INTERVAL=1;BYDAY=-1SU;BYMONTH=3
END:DAYLIGHT
BEGIN:STANDARD
TZOFFSETFROM:+0200
TZOFFSETTO:+0100
TZNAME:CET
DTSTART:19701025T030000
RRULE:FREQ=YEARLY;INTERVAL=1;BYDAY=-1SU;BYMONTH=10
END:STANDARD
END:VTIMEZONE
BEGIN:VEVENT
DTSTAMP:20260424T162524
DTSTART;TZID=Europe/Berlin:20260414T191500
DTEND;TZID=Europe/Berlin:20260414T201500
UID:61302061DG-20260414T191500@VHSDILLENBURG
SUMMARY:Yin Yoga & Body Balance – Sanfte Dehnung und gezielte Rückenstärkung (61302061DG) 
LOCATION:VHS: Raum 30 - Mehrzweckraum, Bahnhofstraße 10, 35683 Dillenburg
END:VEVENT
BEGIN:VEVENT
DTSTAMP:20260424T162524
DTSTART;TZID=Europe/Berlin:20260421T191500
DTEND;TZID=Europe/Berlin:20260421T201500
UID:61302061DG-20260421T191500@VHSDILLENBURG
SUMMARY:Yin Yoga & Body Balance – Sanfte Dehnung und gezielte Rückenstärkung (61302061DG) 
LOCATION:VHS: Raum 30 - Mehrzweckraum, Bahnhofstraße 10, 35683 Dillenburg
END:VEVENT
BEGIN:VEVENT
DTSTAMP:20260424T162524
DTSTART;TZID=Europe/Berlin:20260428T191500
DTEND;TZID=Europe/Berlin:20260428T201500
UID:61302061DG-20260428T191500@VHSDILLENBURG
SUMMARY:Yin Yoga & Body Balance – Sanfte Dehnung und gezielte Rückenstärkung (61302061DG) 
LOCATION:VHS: Raum 30 - Mehrzweckraum, Bahnhofstraße 10, 35683 Dillenburg
END:VEVENT
BEGIN:VEVENT
DTSTAMP:20260424T162524
DTSTART;TZID=Europe/Berlin:20260505T191500
DTEND;TZID=Europe/Berlin:20260505T201500
UID:61302061DG-20260505T191500@VHSDILLENBURG
SUMMARY:Yin Yoga & Body Balance – Sanfte Dehnung und gezielte Rückenstärkung (61302061DG) 
LOCATION:VHS: Raum 30 - Mehrzweckraum, Bahnhofstraße 10, 35683 Dillenburg
END:VEVENT
BEGIN:VEVENT
DTSTAMP:20260424T162524
DTSTART;TZID=Europe/Berlin:20260512T191500
DTEND;TZID=Europe/Berlin:20260512T201500
UID:61302061DG-20260512T191500@VHSDILLENBURG
SUMMARY:Yin Yoga & Body Balance – Sanfte Dehnung und gezielte Rückenstärkung (61302061DG) 
LOCATION:VHS: Raum 30 - Mehrzweckraum, Bahnhofstraße 10, 35683 Dillenburg
END:VEVENT
BEGIN:VEVENT
DTSTAMP:20260424T162524
DTSTART;TZID=Europe/Berlin:20260519T191500
DTEND;TZID=Europe/Berlin:20260519T201500
UID:61302061DG-20260519T191500@VHSDILLENBURG
SUMMARY:Yin Yoga & Body Balance – Sanfte Dehnung und gezielte Rückenstärkung (61302061DG) 
LOCATION:VHS: Raum 30 - Mehrzweckraum, Bahnhofstraße 10, 35683 Dillenburg
END:VEVENT
BEGIN:VEVENT
DTSTAMP:20260424T162524
DTSTART;TZID=Europe/Berlin:20260526T191500
DTEND;TZID=Europe/Berlin:20260526T201500
UID:61302061DG-20260526T191500@VHSDILLENBURG
SUMMARY:Yin Yoga & Body Balance – Sanfte Dehnung und gezielte Rückenstärkung (61302061DG) 
LOCATION:VHS: Raum 30 - Mehrzweckraum, Bahnhofstraße 10, 35683 Dillenburg
END:VEVENT
BEGIN:VEVENT
DTSTAMP:20260424T162524
DTSTART;TZID=Europe/Berlin:20260602T191500
DTEND;TZID=Europe/Berlin:20260602T201500
UID:61302061DG-20260602T191500@VHSDILLENBURG
SUMMARY:Yin Yoga & Body Balance – Sanfte Dehnung und gezielte Rückenstärkung (61302061DG) 
LOCATION:VHS: Raum 30 - Mehrzweckraum, Bahnhofstraße 10, 35683 Dillenburg
END:VEVENT
END:VCALENDAR