BEGIN:VCALENDAR
VERSION:2.0
PRODID:https://www.kufer.de/kuferweb / DE
METHOD:PUBLISH
CALSCALE:GREGORIAN
X-WR-TIMEZONE:Europe/Berlin
BEGIN:VTIMEZONE
TZID:Europe/Berlin
X-LIC-LOCATION:Europe/Berlin
BEGIN:DAYLIGHT
TZOFFSETFROM:+0100
TZOFFSETTO:+0200
TZNAME:CEST
DTSTART:19700329T020000
RRULE:FREQ=YEARLY;INTERVAL=1;BYDAY=-1SU;BYMONTH=3
END:DAYLIGHT
BEGIN:STANDARD
TZOFFSETFROM:+0200
TZOFFSETTO:+0100
TZNAME:CET
DTSTART:19701025T030000
RRULE:FREQ=YEARLY;INTERVAL=1;BYDAY=-1SU;BYMONTH=10
END:STANDARD
END:VTIMEZONE
BEGIN:VEVENT
DTSTAMP:20260424T174410
DTSTART;TZID=Europe/Berlin:20260421T185000
DTEND;TZID=Europe/Berlin:20260421T195000
UID:61302122DG-20260421T185000@VHSDILLENBURG
SUMMARY:Pilates Workout mit Miniball - für jedes Level geeignet (61302122DG) 
LOCATION:Dillenburg, Juliane-von-Stolberg-Schule - Turnhalle, Maibachstr. 1, 35683 Dillenburg
END:VEVENT
BEGIN:VEVENT
DTSTAMP:20260424T174410
DTSTART;TZID=Europe/Berlin:20260428T185000
DTEND;TZID=Europe/Berlin:20260428T195000
UID:61302122DG-20260428T185000@VHSDILLENBURG
SUMMARY:Pilates Workout mit Miniball - für jedes Level geeignet (61302122DG) 
LOCATION:Dillenburg, Juliane-von-Stolberg-Schule - Turnhalle, Maibachstr. 1, 35683 Dillenburg
END:VEVENT
BEGIN:VEVENT
DTSTAMP:20260424T174410
DTSTART;TZID=Europe/Berlin:20260505T185000
DTEND;TZID=Europe/Berlin:20260505T195000
UID:61302122DG-20260505T185000@VHSDILLENBURG
SUMMARY:Pilates Workout mit Miniball - für jedes Level geeignet (61302122DG) 
LOCATION:Dillenburg, Juliane-von-Stolberg-Schule - Turnhalle, Maibachstr. 1, 35683 Dillenburg
END:VEVENT
BEGIN:VEVENT
DTSTAMP:20260424T174410
DTSTART;TZID=Europe/Berlin:20260512T185000
DTEND;TZID=Europe/Berlin:20260512T195000
UID:61302122DG-20260512T185000@VHSDILLENBURG
SUMMARY:Pilates Workout mit Miniball - für jedes Level geeignet (61302122DG) 
LOCATION:Dillenburg, Juliane-von-Stolberg-Schule - Turnhalle, Maibachstr. 1, 35683 Dillenburg
END:VEVENT
BEGIN:VEVENT
DTSTAMP:20260424T174410
DTSTART;TZID=Europe/Berlin:20260519T185000
DTEND;TZID=Europe/Berlin:20260519T195000
UID:61302122DG-20260519T185000@VHSDILLENBURG
SUMMARY:Pilates Workout mit Miniball - für jedes Level geeignet (61302122DG) 
LOCATION:Dillenburg, Juliane-von-Stolberg-Schule - Turnhalle, Maibachstr. 1, 35683 Dillenburg
END:VEVENT
BEGIN:VEVENT
DTSTAMP:20260424T174410
DTSTART;TZID=Europe/Berlin:20260526T185000
DTEND;TZID=Europe/Berlin:20260526T195000
UID:61302122DG-20260526T185000@VHSDILLENBURG
SUMMARY:Pilates Workout mit Miniball - für jedes Level geeignet (61302122DG) 
LOCATION:Dillenburg, Juliane-von-Stolberg-Schule - Turnhalle, Maibachstr. 1, 35683 Dillenburg
END:VEVENT
BEGIN:VEVENT
DTSTAMP:20260424T174410
DTSTART;TZID=Europe/Berlin:20260602T185000
DTEND;TZID=Europe/Berlin:20260602T195000
UID:61302122DG-20260602T185000@VHSDILLENBURG
SUMMARY:Pilates Workout mit Miniball - für jedes Level geeignet (61302122DG) 
LOCATION:Dillenburg, Juliane-von-Stolberg-Schule - Turnhalle, Maibachstr. 1, 35683 Dillenburg
END:VEVENT
BEGIN:VEVENT
DTSTAMP:20260424T174410
DTSTART;TZID=Europe/Berlin:20260609T185000
DTEND;TZID=Europe/Berlin:20260609T195000
UID:61302122DG-20260609T185000@VHSDILLENBURG
SUMMARY:Pilates Workout mit Miniball - für jedes Level geeignet (61302122DG) 
LOCATION:Dillenburg, Juliane-von-Stolberg-Schule - Turnhalle, Maibachstr. 1, 35683 Dillenburg
END:VEVENT
END:VCALENDAR