BEGIN:VCALENDAR
VERSION:2.0
PRODID:https://www.kufer.de/kuferweb / DE
METHOD:PUBLISH
CALSCALE:GREGORIAN
X-WR-TIMEZONE:Europe/Berlin
BEGIN:VTIMEZONE
TZID:Europe/Berlin
X-LIC-LOCATION:Europe/Berlin
BEGIN:DAYLIGHT
TZOFFSETFROM:+0100
TZOFFSETTO:+0200
TZNAME:CEST
DTSTART:19700329T020000
RRULE:FREQ=YEARLY;INTERVAL=1;BYDAY=-1SU;BYMONTH=3
END:DAYLIGHT
BEGIN:STANDARD
TZOFFSETFROM:+0200
TZOFFSETTO:+0100
TZNAME:CET
DTSTART:19701025T030000
RRULE:FREQ=YEARLY;INTERVAL=1;BYDAY=-1SU;BYMONTH=10
END:STANDARD
END:VTIMEZONE
BEGIN:VEVENT
DTSTAMP:20260424T162602
DTSTART;TZID=Europe/Berlin:20260416T180000
DTEND;TZID=Europe/Berlin:20260416T190000
UID:61302219DG-20260416T180000@VHSDILLENBURG
SUMMARY:Yoga Flow für Anfängerinnen und Anfänger (61302219DG) 
LOCATION:Dillenburg, Juliane-von-Stolberg-Schule - Turnhalle, Maibachstr. 1, 35683 Dillenburg
END:VEVENT
BEGIN:VEVENT
DTSTAMP:20260424T162602
DTSTART;TZID=Europe/Berlin:20260423T180000
DTEND;TZID=Europe/Berlin:20260423T190000
UID:61302219DG-20260423T180000@VHSDILLENBURG
SUMMARY:Yoga Flow für Anfängerinnen und Anfänger (61302219DG) 
LOCATION:Dillenburg, Juliane-von-Stolberg-Schule - Turnhalle, Maibachstr. 1, 35683 Dillenburg
END:VEVENT
BEGIN:VEVENT
DTSTAMP:20260424T162602
DTSTART;TZID=Europe/Berlin:20260430T180000
DTEND;TZID=Europe/Berlin:20260430T190000
UID:61302219DG-20260430T180000@VHSDILLENBURG
SUMMARY:Yoga Flow für Anfängerinnen und Anfänger (61302219DG) 
LOCATION:Dillenburg, Juliane-von-Stolberg-Schule - Turnhalle, Maibachstr. 1, 35683 Dillenburg
END:VEVENT
BEGIN:VEVENT
DTSTAMP:20260424T162602
DTSTART;TZID=Europe/Berlin:20260507T180000
DTEND;TZID=Europe/Berlin:20260507T190000
UID:61302219DG-20260507T180000@VHSDILLENBURG
SUMMARY:Yoga Flow für Anfängerinnen und Anfänger (61302219DG) 
LOCATION:Dillenburg, Juliane-von-Stolberg-Schule - Turnhalle, Maibachstr. 1, 35683 Dillenburg
END:VEVENT
BEGIN:VEVENT
DTSTAMP:20260424T162602
DTSTART;TZID=Europe/Berlin:20260521T180000
DTEND;TZID=Europe/Berlin:20260521T190000
UID:61302219DG-20260521T180000@VHSDILLENBURG
SUMMARY:Yoga Flow für Anfängerinnen und Anfänger (61302219DG) 
LOCATION:Dillenburg, Juliane-von-Stolberg-Schule - Turnhalle, Maibachstr. 1, 35683 Dillenburg
END:VEVENT
BEGIN:VEVENT
DTSTAMP:20260424T162602
DTSTART;TZID=Europe/Berlin:20260528T180000
DTEND;TZID=Europe/Berlin:20260528T190000
UID:61302219DG-20260528T180000@VHSDILLENBURG
SUMMARY:Yoga Flow für Anfängerinnen und Anfänger (61302219DG) 
LOCATION:Dillenburg, Juliane-von-Stolberg-Schule - Turnhalle, Maibachstr. 1, 35683 Dillenburg
END:VEVENT
BEGIN:VEVENT
DTSTAMP:20260424T162602
DTSTART;TZID=Europe/Berlin:20260611T180000
DTEND;TZID=Europe/Berlin:20260611T190000
UID:61302219DG-20260611T180000@VHSDILLENBURG
SUMMARY:Yoga Flow für Anfängerinnen und Anfänger (61302219DG) 
LOCATION:Dillenburg, Juliane-von-Stolberg-Schule - Turnhalle, Maibachstr. 1, 35683 Dillenburg
END:VEVENT
END:VCALENDAR