BEGIN:VCALENDAR
VERSION:2.0
PRODID:https://www.kufer.de/kuferweb / DE
METHOD:PUBLISH
CALSCALE:GREGORIAN
X-WR-TIMEZONE:Europe/Berlin
BEGIN:VTIMEZONE
TZID:Europe/Berlin
X-LIC-LOCATION:Europe/Berlin
BEGIN:DAYLIGHT
TZOFFSETFROM:+0100
TZOFFSETTO:+0200
TZNAME:CEST
DTSTART:19700329T020000
RRULE:FREQ=YEARLY;INTERVAL=1;BYDAY=-1SU;BYMONTH=3
END:DAYLIGHT
BEGIN:STANDARD
TZOFFSETFROM:+0200
TZOFFSETTO:+0100
TZNAME:CET
DTSTART:19701025T030000
RRULE:FREQ=YEARLY;INTERVAL=1;BYDAY=-1SU;BYMONTH=10
END:STANDARD
END:VTIMEZONE
BEGIN:VEVENT
DTSTAMP:20260424T150853
DTSTART;TZID=Europe/Berlin:20260416T165000
DTEND;TZID=Europe/Berlin:20260416T175000
UID:61302312DG-20260416T165000@VHSDILLENBURG
SUMMARY:Bodyworkout After Work für Frauen (61302312DG) 
LOCATION:VHS: Raum 18 - Mehrzweckraum, Bahnhofstr. 10, 35683 Dillenburg
END:VEVENT
BEGIN:VEVENT
DTSTAMP:20260424T150853
DTSTART;TZID=Europe/Berlin:20260423T165000
DTEND;TZID=Europe/Berlin:20260423T175000
UID:61302312DG-20260423T165000@VHSDILLENBURG
SUMMARY:Bodyworkout After Work für Frauen (61302312DG) 
LOCATION:VHS: Raum 18 - Mehrzweckraum, Bahnhofstr. 10, 35683 Dillenburg
END:VEVENT
BEGIN:VEVENT
DTSTAMP:20260424T150853
DTSTART;TZID=Europe/Berlin:20260430T165000
DTEND;TZID=Europe/Berlin:20260430T175000
UID:61302312DG-20260430T165000@VHSDILLENBURG
SUMMARY:Bodyworkout After Work für Frauen (61302312DG) 
LOCATION:VHS: Raum 18 - Mehrzweckraum, Bahnhofstr. 10, 35683 Dillenburg
END:VEVENT
BEGIN:VEVENT
DTSTAMP:20260424T150853
DTSTART;TZID=Europe/Berlin:20260521T163000
DTEND;TZID=Europe/Berlin:20260521T173000
UID:61302312DG-20260521T163000@VHSDILLENBURG
SUMMARY:Bodyworkout After Work für Frauen (61302312DG) 
LOCATION:VHS: Raum 18 - Mehrzweckraum, Bahnhofstr. 10, 35683 Dillenburg
END:VEVENT
BEGIN:VEVENT
DTSTAMP:20260424T150853
DTSTART;TZID=Europe/Berlin:20260528T165000
DTEND;TZID=Europe/Berlin:20260528T175000
UID:61302312DG-20260528T165000@VHSDILLENBURG
SUMMARY:Bodyworkout After Work für Frauen (61302312DG) 
LOCATION:VHS: Raum 18 - Mehrzweckraum, Bahnhofstr. 10, 35683 Dillenburg
END:VEVENT
BEGIN:VEVENT
DTSTAMP:20260424T150853
DTSTART;TZID=Europe/Berlin:20260611T165000
DTEND;TZID=Europe/Berlin:20260611T175000
UID:61302312DG-20260611T165000@VHSDILLENBURG
SUMMARY:Bodyworkout After Work für Frauen (61302312DG) 
LOCATION:VHS: Raum 18 - Mehrzweckraum, Bahnhofstr. 10, 35683 Dillenburg
END:VEVENT
BEGIN:VEVENT
DTSTAMP:20260424T150853
DTSTART;TZID=Europe/Berlin:20260618T165000
DTEND;TZID=Europe/Berlin:20260618T175000
UID:61302312DG-20260618T165000@VHSDILLENBURG
DESCRIPTION:07.05 kein Kurs
SUMMARY:Bodyworkout After Work für Frauen (61302312DG) 
LOCATION:VHS: Raum 18 - Mehrzweckraum, Bahnhofstr. 10, 35683 Dillenburg
END:VEVENT
END:VCALENDAR