BEGIN:VCALENDAR
VERSION:2.0
PRODID:https://www.kufer.de/kuferweb / DE
METHOD:PUBLISH
CALSCALE:GREGORIAN
X-WR-TIMEZONE:Europe/Berlin
BEGIN:VTIMEZONE
TZID:Europe/Berlin
X-LIC-LOCATION:Europe/Berlin
BEGIN:DAYLIGHT
TZOFFSETFROM:+0100
TZOFFSETTO:+0200
TZNAME:CEST
DTSTART:19700329T020000
RRULE:FREQ=YEARLY;INTERVAL=1;BYDAY=-1SU;BYMONTH=3
END:DAYLIGHT
BEGIN:STANDARD
TZOFFSETFROM:+0200
TZOFFSETTO:+0100
TZNAME:CET
DTSTART:19701025T030000
RRULE:FREQ=YEARLY;INTERVAL=1;BYDAY=-1SU;BYMONTH=10
END:STANDARD
END:VTIMEZONE
BEGIN:VEVENT
DTSTAMP:20260424T150752
DTSTART;TZID=Europe/Berlin:20260413T174500
DTEND;TZID=Europe/Berlin:20260413T184500
UID:61302327DG-20260413T174500@VHSDILLENBURG
SUMMARY:Fitness Mix  für Anfängerinnen und Anfänger mit geringen Vorkenntnissen (61302327DG) 
LOCATION:VHS: Raum 10 - Gymnastikraum, Bahnhofstraße 10, 35683 Dillenburg
END:VEVENT
BEGIN:VEVENT
DTSTAMP:20260424T150752
DTSTART;TZID=Europe/Berlin:20260420T174500
DTEND;TZID=Europe/Berlin:20260420T184500
UID:61302327DG-20260420T174500@VHSDILLENBURG
SUMMARY:Fitness Mix  für Anfängerinnen und Anfänger mit geringen Vorkenntnissen (61302327DG) 
LOCATION:VHS: Raum 10 - Gymnastikraum, Bahnhofstraße 10, 35683 Dillenburg
END:VEVENT
BEGIN:VEVENT
DTSTAMP:20260424T150752
DTSTART;TZID=Europe/Berlin:20260427T174500
DTEND;TZID=Europe/Berlin:20260427T184500
UID:61302327DG-20260427T174500@VHSDILLENBURG
SUMMARY:Fitness Mix  für Anfängerinnen und Anfänger mit geringen Vorkenntnissen (61302327DG) 
LOCATION:VHS: Raum 10 - Gymnastikraum, Bahnhofstraße 10, 35683 Dillenburg
END:VEVENT
BEGIN:VEVENT
DTSTAMP:20260424T150752
DTSTART;TZID=Europe/Berlin:20260504T174500
DTEND;TZID=Europe/Berlin:20260504T184500
UID:61302327DG-20260504T174500@VHSDILLENBURG
SUMMARY:Fitness Mix  für Anfängerinnen und Anfänger mit geringen Vorkenntnissen (61302327DG) 
LOCATION:VHS: Raum 10 - Gymnastikraum, Bahnhofstraße 10, 35683 Dillenburg
END:VEVENT
BEGIN:VEVENT
DTSTAMP:20260424T150752
DTSTART;TZID=Europe/Berlin:20260511T174500
DTEND;TZID=Europe/Berlin:20260511T184500
UID:61302327DG-20260511T174500@VHSDILLENBURG
SUMMARY:Fitness Mix  für Anfängerinnen und Anfänger mit geringen Vorkenntnissen (61302327DG) 
LOCATION:VHS: Raum 10 - Gymnastikraum, Bahnhofstraße 10, 35683 Dillenburg
END:VEVENT
BEGIN:VEVENT
DTSTAMP:20260424T150752
DTSTART;TZID=Europe/Berlin:20260518T174500
DTEND;TZID=Europe/Berlin:20260518T184500
UID:61302327DG-20260518T174500@VHSDILLENBURG
SUMMARY:Fitness Mix  für Anfängerinnen und Anfänger mit geringen Vorkenntnissen (61302327DG) 
LOCATION:VHS: Raum 10 - Gymnastikraum, Bahnhofstraße 10, 35683 Dillenburg
END:VEVENT
BEGIN:VEVENT
DTSTAMP:20260424T150752
DTSTART;TZID=Europe/Berlin:20260601T174500
DTEND;TZID=Europe/Berlin:20260601T184500
UID:61302327DG-20260601T174500@VHSDILLENBURG
SUMMARY:Fitness Mix  für Anfängerinnen und Anfänger mit geringen Vorkenntnissen (61302327DG) 
LOCATION:VHS: Raum 10 - Gymnastikraum, Bahnhofstraße 10, 35683 Dillenburg
END:VEVENT
END:VCALENDAR