BEGIN:VCALENDAR
VERSION:2.0
PRODID:https://www.kufer.de/kuferweb / DE
METHOD:PUBLISH
CALSCALE:GREGORIAN
X-WR-TIMEZONE:Europe/Berlin
BEGIN:VTIMEZONE
TZID:Europe/Berlin
X-LIC-LOCATION:Europe/Berlin
BEGIN:DAYLIGHT
TZOFFSETFROM:+0100
TZOFFSETTO:+0200
TZNAME:CEST
DTSTART:19700329T020000
RRULE:FREQ=YEARLY;INTERVAL=1;BYDAY=-1SU;BYMONTH=3
END:DAYLIGHT
BEGIN:STANDARD
TZOFFSETFROM:+0200
TZOFFSETTO:+0100
TZNAME:CET
DTSTART:19701025T030000
RRULE:FREQ=YEARLY;INTERVAL=1;BYDAY=-1SU;BYMONTH=10
END:STANDARD
END:VTIMEZONE
BEGIN:VEVENT
DTSTAMP:20260424T145942
DTSTART;TZID=Europe/Berlin:20260417T180000
DTEND;TZID=Europe/Berlin:20260417T184500
UID:61302608EN-20260417T180000@VHSDILLENBURG
SUMMARY:Aqua - Fit   Tiefwasser-Workout (61302608EN) 
LOCATION:Ehringshausen, Hallenbad, Pestalozzistraße 7, 35630 Ehringshausen
END:VEVENT
BEGIN:VEVENT
DTSTAMP:20260424T145942
DTSTART;TZID=Europe/Berlin:20260424T180000
DTEND;TZID=Europe/Berlin:20260424T184500
UID:61302608EN-20260424T180000@VHSDILLENBURG
SUMMARY:Aqua - Fit   Tiefwasser-Workout (61302608EN) 
LOCATION:Ehringshausen, Hallenbad, Pestalozzistraße 7, 35630 Ehringshausen
END:VEVENT
BEGIN:VEVENT
DTSTAMP:20260424T145942
DTSTART;TZID=Europe/Berlin:20260508T180000
DTEND;TZID=Europe/Berlin:20260508T184500
UID:61302608EN-20260508T180000@VHSDILLENBURG
SUMMARY:Aqua - Fit   Tiefwasser-Workout (61302608EN) 
LOCATION:Ehringshausen, Hallenbad, Pestalozzistraße 7, 35630 Ehringshausen
END:VEVENT
BEGIN:VEVENT
DTSTAMP:20260424T145942
DTSTART;TZID=Europe/Berlin:20260522T180000
DTEND;TZID=Europe/Berlin:20260522T184500
UID:61302608EN-20260522T180000@VHSDILLENBURG
SUMMARY:Aqua - Fit   Tiefwasser-Workout (61302608EN) 
LOCATION:Ehringshausen, Hallenbad, Pestalozzistraße 7, 35630 Ehringshausen
END:VEVENT
BEGIN:VEVENT
DTSTAMP:20260424T145942
DTSTART;TZID=Europe/Berlin:20260529T180000
DTEND;TZID=Europe/Berlin:20260529T184500
UID:61302608EN-20260529T180000@VHSDILLENBURG
SUMMARY:Aqua - Fit   Tiefwasser-Workout (61302608EN) 
LOCATION:Ehringshausen, Hallenbad, Pestalozzistraße 7, 35630 Ehringshausen
END:VEVENT
BEGIN:VEVENT
DTSTAMP:20260424T145942
DTSTART;TZID=Europe/Berlin:20260612T180000
DTEND;TZID=Europe/Berlin:20260612T184500
UID:61302608EN-20260612T180000@VHSDILLENBURG
SUMMARY:Aqua - Fit   Tiefwasser-Workout (61302608EN) 
LOCATION:Ehringshausen, Hallenbad, Pestalozzistraße 7, 35630 Ehringshausen
END:VEVENT
BEGIN:VEVENT
DTSTAMP:20260424T145942
DTSTART;TZID=Europe/Berlin:20260619T180000
DTEND;TZID=Europe/Berlin:20260619T184500
UID:61302608EN-20260619T180000@VHSDILLENBURG
SUMMARY:Aqua - Fit   Tiefwasser-Workout (61302608EN) 
LOCATION:Ehringshausen, Hallenbad, Pestalozzistraße 7, 35630 Ehringshausen
END:VEVENT
BEGIN:VEVENT
DTSTAMP:20260424T145942
DTSTART;TZID=Europe/Berlin:20260626T180000
DTEND;TZID=Europe/Berlin:20260626T184500
UID:61302608EN-20260626T180000@VHSDILLENBURG
SUMMARY:Aqua - Fit   Tiefwasser-Workout (61302608EN) 
LOCATION:Ehringshausen, Hallenbad, Pestalozzistraße 7, 35630 Ehringshausen
END:VEVENT
END:VCALENDAR