BEGIN:VCALENDAR
VERSION:2.0
PRODID:https://www.kufer.de/kuferweb / DE
METHOD:PUBLISH
CALSCALE:GREGORIAN
X-WR-TIMEZONE:Europe/Berlin
BEGIN:VTIMEZONE
TZID:Europe/Berlin
X-LIC-LOCATION:Europe/Berlin
BEGIN:DAYLIGHT
TZOFFSETFROM:+0100
TZOFFSETTO:+0200
TZNAME:CEST
DTSTART:19700329T020000
RRULE:FREQ=YEARLY;INTERVAL=1;BYDAY=-1SU;BYMONTH=3
END:DAYLIGHT
BEGIN:STANDARD
TZOFFSETFROM:+0200
TZOFFSETTO:+0100
TZNAME:CET
DTSTART:19701025T030000
RRULE:FREQ=YEARLY;INTERVAL=1;BYDAY=-1SU;BYMONTH=10
END:STANDARD
END:VTIMEZONE
BEGIN:VEVENT
DTSTAMP:20260424T140252
DTSTART;TZID=Europe/Berlin:20260330T150000
DTEND;TZID=Europe/Berlin:20260330T181500
UID:61404001DG-20260330T150000@VHSDILLENBURG
DESCRIPTION:23.12.25 (*LI): Ersatz 26.05.
SUMMARY:Deutsch als Fremd-/Zweitsprache - Alphabetisierungskurs - Modul 7 (61404001DG) 
LOCATION:VHS: Raum 34 - Unterrichtsraum, Bahnhofstraße 10, 35683 Dillenburg
END:VEVENT
BEGIN:VEVENT
DTSTAMP:20260424T140252
DTSTART;TZID=Europe/Berlin:20260331T150000
DTEND;TZID=Europe/Berlin:20260331T181500
UID:61404001DG-20260331T150000@VHSDILLENBURG
DESCRIPTION:23.12.25 (*LI): Ausfall KW 21
SUMMARY:Deutsch als Fremd-/Zweitsprache - Alphabetisierungskurs - Modul 7 (61404001DG) 
LOCATION:VHS: Raum 34 - Unterrichtsraum, Bahnhofstraße 10, 35683 Dillenburg
END:VEVENT
BEGIN:VEVENT
DTSTAMP:20260424T140252
DTSTART;TZID=Europe/Berlin:20260401T150000
DTEND;TZID=Europe/Berlin:20260401T181500
UID:61404001DG-20260401T150000@VHSDILLENBURG
DESCRIPTION:23.12.25 (*LI): Ausfall KW 21
SUMMARY:Deutsch als Fremd-/Zweitsprache - Alphabetisierungskurs - Modul 7 (61404001DG) 
LOCATION:VHS: Raum 34 - Unterrichtsraum, Bahnhofstraße 10, 35683 Dillenburg
END:VEVENT
BEGIN:VEVENT
DTSTAMP:20260424T140252
DTSTART;TZID=Europe/Berlin:20260402T150000
DTEND;TZID=Europe/Berlin:20260402T181500
UID:61404001DG-20260402T150000@VHSDILLENBURG
DESCRIPTION:23.12.25 (*LI): Ausfall KW 21
SUMMARY:Deutsch als Fremd-/Zweitsprache - Alphabetisierungskurs - Modul 7 (61404001DG) 
LOCATION:VHS: Raum 34 - Unterrichtsraum, Bahnhofstraße 10, 35683 Dillenburg
END:VEVENT
BEGIN:VEVENT
DTSTAMP:20260424T140252
DTSTART;TZID=Europe/Berlin:20260413T150000
DTEND;TZID=Europe/Berlin:20260413T181500
UID:61404001DG-20260413T150000@VHSDILLENBURG
DESCRIPTION:23.12.25 (*LI): Ersatz 18.05. 
SUMMARY:Deutsch als Fremd-/Zweitsprache - Alphabetisierungskurs - Modul 7 (61404001DG) 
LOCATION:VHS: Raum 34 - Unterrichtsraum, Bahnhofstraße 10, 35683 Dillenburg
END:VEVENT
BEGIN:VEVENT
DTSTAMP:20260424T140252
DTSTART;TZID=Europe/Berlin:20260414T150000
DTEND;TZID=Europe/Berlin:20260414T181500
UID:61404001DG-20260414T150000@VHSDILLENBURG
DESCRIPTION:23.12.25 (*LI): Ersatz 19.05.
SUMMARY:Deutsch als Fremd-/Zweitsprache - Alphabetisierungskurs - Modul 7 (61404001DG) 
LOCATION:VHS: Raum 34 - Unterrichtsraum, Bahnhofstraße 10, 35683 Dillenburg
END:VEVENT
BEGIN:VEVENT
DTSTAMP:20260424T140252
DTSTART;TZID=Europe/Berlin:20260415T150000
DTEND;TZID=Europe/Berlin:20260415T181500
UID:61404001DG-20260415T150000@VHSDILLENBURG
DESCRIPTION:23.12.25 (*LI): Ersatz 2.0.5 
SUMMARY:Deutsch als Fremd-/Zweitsprache - Alphabetisierungskurs - Modul 7 (61404001DG) 
LOCATION:VHS: Raum 34 - Unterrichtsraum, Bahnhofstraße 10, 35683 Dillenburg
END:VEVENT
BEGIN:VEVENT
DTSTAMP:20260424T140252
DTSTART;TZID=Europe/Berlin:20260416T150000
DTEND;TZID=Europe/Berlin:20260416T181500
UID:61404001DG-20260416T150000@VHSDILLENBURG
DESCRIPTION:23.12.25 (*LI): Ersatz 21.05. 
SUMMARY:Deutsch als Fremd-/Zweitsprache - Alphabetisierungskurs - Modul 7 (61404001DG) 
LOCATION:VHS: Raum 34 - Unterrichtsraum, Bahnhofstraße 10, 35683 Dillenburg
END:VEVENT
BEGIN:VEVENT
DTSTAMP:20260424T140252
DTSTART;TZID=Europe/Berlin:20260420T150000
DTEND;TZID=Europe/Berlin:20260420T181500
UID:61404001DG-20260420T150000@VHSDILLENBURG
SUMMARY:Deutsch als Fremd-/Zweitsprache - Alphabetisierungskurs - Modul 7 (61404001DG) 
LOCATION:VHS: Raum 34 - Unterrichtsraum, Bahnhofstraße 10, 35683 Dillenburg
END:VEVENT
BEGIN:VEVENT
DTSTAMP:20260424T140252
DTSTART;TZID=Europe/Berlin:20260421T150000
DTEND;TZID=Europe/Berlin:20260421T181500
UID:61404001DG-20260421T150000@VHSDILLENBURG
SUMMARY:Deutsch als Fremd-/Zweitsprache - Alphabetisierungskurs - Modul 7 (61404001DG) 
LOCATION:VHS: Raum 34 - Unterrichtsraum, Bahnhofstraße 10, 35683 Dillenburg
END:VEVENT
BEGIN:VEVENT
DTSTAMP:20260424T140252
DTSTART;TZID=Europe/Berlin:20260422T150000
DTEND;TZID=Europe/Berlin:20260422T181500
UID:61404001DG-20260422T150000@VHSDILLENBURG
SUMMARY:Deutsch als Fremd-/Zweitsprache - Alphabetisierungskurs - Modul 7 (61404001DG) 
LOCATION:VHS: Raum 34 - Unterrichtsraum, Bahnhofstraße 10, 35683 Dillenburg
END:VEVENT
BEGIN:VEVENT
DTSTAMP:20260424T140252
DTSTART;TZID=Europe/Berlin:20260423T150000
DTEND;TZID=Europe/Berlin:20260423T181500
UID:61404001DG-20260423T150000@VHSDILLENBURG
SUMMARY:Deutsch als Fremd-/Zweitsprache - Alphabetisierungskurs - Modul 7 (61404001DG) 
LOCATION:VHS: Raum 34 - Unterrichtsraum, Bahnhofstraße 10, 35683 Dillenburg
END:VEVENT
BEGIN:VEVENT
DTSTAMP:20260424T140252
DTSTART;TZID=Europe/Berlin:20260427T150000
DTEND;TZID=Europe/Berlin:20260427T181500
UID:61404001DG-20260427T150000@VHSDILLENBURG
SUMMARY:Deutsch als Fremd-/Zweitsprache - Alphabetisierungskurs - Modul 7 (61404001DG) 
LOCATION:VHS: Raum 34 - Unterrichtsraum, Bahnhofstraße 10, 35683 Dillenburg
END:VEVENT
BEGIN:VEVENT
DTSTAMP:20260424T140252
DTSTART;TZID=Europe/Berlin:20260428T150000
DTEND;TZID=Europe/Berlin:20260428T181500
UID:61404001DG-20260428T150000@VHSDILLENBURG
SUMMARY:Deutsch als Fremd-/Zweitsprache - Alphabetisierungskurs - Modul 7 (61404001DG) 
LOCATION:VHS: Raum 34 - Unterrichtsraum, Bahnhofstraße 10, 35683 Dillenburg
END:VEVENT
BEGIN:VEVENT
DTSTAMP:20260424T140252
DTSTART;TZID=Europe/Berlin:20260429T150000
DTEND;TZID=Europe/Berlin:20260429T181500
UID:61404001DG-20260429T150000@VHSDILLENBURG
SUMMARY:Deutsch als Fremd-/Zweitsprache - Alphabetisierungskurs - Modul 7 (61404001DG) 
LOCATION:VHS: Raum 34 - Unterrichtsraum, Bahnhofstraße 10, 35683 Dillenburg
END:VEVENT
BEGIN:VEVENT
DTSTAMP:20260424T140252
DTSTART;TZID=Europe/Berlin:20260430T150000
DTEND;TZID=Europe/Berlin:20260430T181500
UID:61404001DG-20260430T150000@VHSDILLENBURG
SUMMARY:Deutsch als Fremd-/Zweitsprache - Alphabetisierungskurs - Modul 7 (61404001DG) 
LOCATION:VHS: Raum 34 - Unterrichtsraum, Bahnhofstraße 10, 35683 Dillenburg
END:VEVENT
BEGIN:VEVENT
DTSTAMP:20260424T140252
DTSTART;TZID=Europe/Berlin:20260504T150000
DTEND;TZID=Europe/Berlin:20260504T181500
UID:61404001DG-20260504T150000@VHSDILLENBURG
SUMMARY:Deutsch als Fremd-/Zweitsprache - Alphabetisierungskurs - Modul 7 (61404001DG) 
LOCATION:VHS: Raum 34 - Unterrichtsraum, Bahnhofstraße 10, 35683 Dillenburg
END:VEVENT
BEGIN:VEVENT
DTSTAMP:20260424T140252
DTSTART;TZID=Europe/Berlin:20260505T150000
DTEND;TZID=Europe/Berlin:20260505T181500
UID:61404001DG-20260505T150000@VHSDILLENBURG
SUMMARY:Deutsch als Fremd-/Zweitsprache - Alphabetisierungskurs - Modul 7 (61404001DG) 
LOCATION:VHS: Raum 34 - Unterrichtsraum, Bahnhofstraße 10, 35683 Dillenburg
END:VEVENT
BEGIN:VEVENT
DTSTAMP:20260424T140252
DTSTART;TZID=Europe/Berlin:20260506T150000
DTEND;TZID=Europe/Berlin:20260506T181500
UID:61404001DG-20260506T150000@VHSDILLENBURG
SUMMARY:Deutsch als Fremd-/Zweitsprache - Alphabetisierungskurs - Modul 7 (61404001DG) 
LOCATION:VHS: Raum 34 - Unterrichtsraum, Bahnhofstraße 10, 35683 Dillenburg
END:VEVENT
BEGIN:VEVENT
DTSTAMP:20260424T140252
DTSTART;TZID=Europe/Berlin:20260507T150000
DTEND;TZID=Europe/Berlin:20260507T181500
UID:61404001DG-20260507T150000@VHSDILLENBURG
SUMMARY:Deutsch als Fremd-/Zweitsprache - Alphabetisierungskurs - Modul 7 (61404001DG) 
LOCATION:VHS: Raum 34 - Unterrichtsraum, Bahnhofstraße 10, 35683 Dillenburg
END:VEVENT
BEGIN:VEVENT
DTSTAMP:20260424T140252
DTSTART;TZID=Europe/Berlin:20260511T150000
DTEND;TZID=Europe/Berlin:20260511T181500
UID:61404001DG-20260511T150000@VHSDILLENBURG
SUMMARY:Deutsch als Fremd-/Zweitsprache - Alphabetisierungskurs - Modul 7 (61404001DG) 
LOCATION:VHS: Raum 34 - Unterrichtsraum, Bahnhofstraße 10, 35683 Dillenburg
END:VEVENT
BEGIN:VEVENT
DTSTAMP:20260424T140252
DTSTART;TZID=Europe/Berlin:20260512T150000
DTEND;TZID=Europe/Berlin:20260512T181500
UID:61404001DG-20260512T150000@VHSDILLENBURG
SUMMARY:Deutsch als Fremd-/Zweitsprache - Alphabetisierungskurs - Modul 7 (61404001DG) 
LOCATION:VHS: Raum 34 - Unterrichtsraum, Bahnhofstraße 10, 35683 Dillenburg
END:VEVENT
BEGIN:VEVENT
DTSTAMP:20260424T140252
DTSTART;TZID=Europe/Berlin:20260513T150000
DTEND;TZID=Europe/Berlin:20260513T181500
UID:61404001DG-20260513T150000@VHSDILLENBURG
SUMMARY:Deutsch als Fremd-/Zweitsprache - Alphabetisierungskurs - Modul 7 (61404001DG) 
LOCATION:VHS: Raum 34 - Unterrichtsraum, Bahnhofstraße 10, 35683 Dillenburg
END:VEVENT
BEGIN:VEVENT
DTSTAMP:20260424T140252
DTSTART;TZID=Europe/Berlin:20260527T150000
DTEND;TZID=Europe/Berlin:20260527T181500
UID:61404001DG-20260527T150000@VHSDILLENBURG
SUMMARY:Deutsch als Fremd-/Zweitsprache - Alphabetisierungskurs - Modul 7 (61404001DG) 
LOCATION:VHS: Raum 34 - Unterrichtsraum, Bahnhofstraße 10, 35683 Dillenburg
END:VEVENT
BEGIN:VEVENT
DTSTAMP:20260424T140252
DTSTART;TZID=Europe/Berlin:20260528T150000
DTEND;TZID=Europe/Berlin:20260528T181500
UID:61404001DG-20260528T150000@VHSDILLENBURG
SUMMARY:Deutsch als Fremd-/Zweitsprache - Alphabetisierungskurs - Modul 7 (61404001DG) 
LOCATION:VHS: Raum 34 - Unterrichtsraum, Bahnhofstraße 10, 35683 Dillenburg
END:VEVENT
END:VCALENDAR