BEGIN:VCALENDAR
VERSION:2.0
PRODID:https://www.kufer.de/kuferweb / DE
METHOD:PUBLISH
CALSCALE:GREGORIAN
X-WR-TIMEZONE:Europe/Berlin
BEGIN:VTIMEZONE
TZID:Europe/Berlin
X-LIC-LOCATION:Europe/Berlin
BEGIN:DAYLIGHT
TZOFFSETFROM:+0100
TZOFFSETTO:+0200
TZNAME:CEST
DTSTART:19700329T020000
RRULE:FREQ=YEARLY;INTERVAL=1;BYDAY=-1SU;BYMONTH=3
END:DAYLIGHT
BEGIN:STANDARD
TZOFFSETFROM:+0200
TZOFFSETTO:+0100
TZNAME:CET
DTSTART:19701025T030000
RRULE:FREQ=YEARLY;INTERVAL=1;BYDAY=-1SU;BYMONTH=10
END:STANDARD
END:VTIMEZONE
BEGIN:VEVENT
DTSTAMP:20260424T152302
DTSTART;TZID=Europe/Berlin:20260520T124500
DTEND;TZID=Europe/Berlin:20260520T160000
UID:61404009DG-20260520T124500@VHSDILLENBURG
SUMMARY:Deutsch als Fremd-/Zweitsprache - Alphabetisierungskurs - Modul 7 (61404009DG) 
LOCATION:VHS: Raum 06 - Unterrichtsraum, Bahnhofstraße 10, 35683 Dillenburg
END:VEVENT
BEGIN:VEVENT
DTSTAMP:20260424T152302
DTSTART;TZID=Europe/Berlin:20260526T124500
DTEND;TZID=Europe/Berlin:20260526T160000
UID:61404009DG-20260526T124500@VHSDILLENBURG
SUMMARY:Deutsch als Fremd-/Zweitsprache - Alphabetisierungskurs - Modul 7 (61404009DG) 
LOCATION:VHS: Raum 06 - Unterrichtsraum, Bahnhofstraße 10, 35683 Dillenburg
END:VEVENT
BEGIN:VEVENT
DTSTAMP:20260424T152302
DTSTART;TZID=Europe/Berlin:20260527T124500
DTEND;TZID=Europe/Berlin:20260527T160000
UID:61404009DG-20260527T124500@VHSDILLENBURG
SUMMARY:Deutsch als Fremd-/Zweitsprache - Alphabetisierungskurs - Modul 7 (61404009DG) 
LOCATION:VHS: Raum 06 - Unterrichtsraum, Bahnhofstraße 10, 35683 Dillenburg
END:VEVENT
BEGIN:VEVENT
DTSTAMP:20260424T152302
DTSTART;TZID=Europe/Berlin:20260528T124500
DTEND;TZID=Europe/Berlin:20260528T160000
UID:61404009DG-20260528T124500@VHSDILLENBURG
SUMMARY:Deutsch als Fremd-/Zweitsprache - Alphabetisierungskurs - Modul 7 (61404009DG) 
LOCATION:VHS: Raum 06 - Unterrichtsraum, Bahnhofstraße 10, 35683 Dillenburg
END:VEVENT
BEGIN:VEVENT
DTSTAMP:20260424T152302
DTSTART;TZID=Europe/Berlin:20260601T124500
DTEND;TZID=Europe/Berlin:20260601T160000
UID:61404009DG-20260601T124500@VHSDILLENBURG
SUMMARY:Deutsch als Fremd-/Zweitsprache - Alphabetisierungskurs - Modul 7 (61404009DG) 
LOCATION:VHS: Raum 06 - Unterrichtsraum, Bahnhofstraße 10, 35683 Dillenburg
END:VEVENT
BEGIN:VEVENT
DTSTAMP:20260424T152302
DTSTART;TZID=Europe/Berlin:20260602T124500
DTEND;TZID=Europe/Berlin:20260602T160000
UID:61404009DG-20260602T124500@VHSDILLENBURG
SUMMARY:Deutsch als Fremd-/Zweitsprache - Alphabetisierungskurs - Modul 7 (61404009DG) 
LOCATION:VHS: Raum 06 - Unterrichtsraum, Bahnhofstraße 10, 35683 Dillenburg
END:VEVENT
BEGIN:VEVENT
DTSTAMP:20260424T152302
DTSTART;TZID=Europe/Berlin:20260603T124500
DTEND;TZID=Europe/Berlin:20260603T160000
UID:61404009DG-20260603T124500@VHSDILLENBURG
SUMMARY:Deutsch als Fremd-/Zweitsprache - Alphabetisierungskurs - Modul 7 (61404009DG) 
LOCATION:VHS: Raum 06 - Unterrichtsraum, Bahnhofstraße 10, 35683 Dillenburg
END:VEVENT
BEGIN:VEVENT
DTSTAMP:20260424T152302
DTSTART;TZID=Europe/Berlin:20260609T124500
DTEND;TZID=Europe/Berlin:20260609T160000
UID:61404009DG-20260609T124500@VHSDILLENBURG
SUMMARY:Deutsch als Fremd-/Zweitsprache - Alphabetisierungskurs - Modul 7 (61404009DG) 
LOCATION:VHS: Raum 06 - Unterrichtsraum, Bahnhofstraße 10, 35683 Dillenburg
END:VEVENT
BEGIN:VEVENT
DTSTAMP:20260424T152302
DTSTART;TZID=Europe/Berlin:20260610T124500
DTEND;TZID=Europe/Berlin:20260610T160000
UID:61404009DG-20260610T124500@VHSDILLENBURG
SUMMARY:Deutsch als Fremd-/Zweitsprache - Alphabetisierungskurs - Modul 7 (61404009DG) 
LOCATION:VHS: Raum 06 - Unterrichtsraum, Bahnhofstraße 10, 35683 Dillenburg
END:VEVENT
BEGIN:VEVENT
DTSTAMP:20260424T152302
DTSTART;TZID=Europe/Berlin:20260615T124500
DTEND;TZID=Europe/Berlin:20260615T160000
UID:61404009DG-20260615T124500@VHSDILLENBURG
SUMMARY:Deutsch als Fremd-/Zweitsprache - Alphabetisierungskurs - Modul 7 (61404009DG) 
LOCATION:VHS: Raum 06 - Unterrichtsraum, Bahnhofstraße 10, 35683 Dillenburg
END:VEVENT
BEGIN:VEVENT
DTSTAMP:20260424T152302
DTSTART;TZID=Europe/Berlin:20260616T124500
DTEND;TZID=Europe/Berlin:20260616T160000
UID:61404009DG-20260616T124500@VHSDILLENBURG
SUMMARY:Deutsch als Fremd-/Zweitsprache - Alphabetisierungskurs - Modul 7 (61404009DG) 
LOCATION:VHS: Raum 06 - Unterrichtsraum, Bahnhofstraße 10, 35683 Dillenburg
END:VEVENT
BEGIN:VEVENT
DTSTAMP:20260424T152302
DTSTART;TZID=Europe/Berlin:20260617T124500
DTEND;TZID=Europe/Berlin:20260617T160000
UID:61404009DG-20260617T124500@VHSDILLENBURG
SUMMARY:Deutsch als Fremd-/Zweitsprache - Alphabetisierungskurs - Modul 7 (61404009DG) 
LOCATION:VHS: Raum 06 - Unterrichtsraum, Bahnhofstraße 10, 35683 Dillenburg
END:VEVENT
BEGIN:VEVENT
DTSTAMP:20260424T152302
DTSTART;TZID=Europe/Berlin:20260618T124500
DTEND;TZID=Europe/Berlin:20260618T160000
UID:61404009DG-20260618T124500@VHSDILLENBURG
SUMMARY:Deutsch als Fremd-/Zweitsprache - Alphabetisierungskurs - Modul 7 (61404009DG) 
LOCATION:VHS: Raum 06 - Unterrichtsraum, Bahnhofstraße 10, 35683 Dillenburg
END:VEVENT
BEGIN:VEVENT
DTSTAMP:20260424T152302
DTSTART;TZID=Europe/Berlin:20260622T124500
DTEND;TZID=Europe/Berlin:20260622T160000
UID:61404009DG-20260622T124500@VHSDILLENBURG
SUMMARY:Deutsch als Fremd-/Zweitsprache - Alphabetisierungskurs - Modul 7 (61404009DG) 
LOCATION:VHS: Raum 06 - Unterrichtsraum, Bahnhofstraße 10, 35683 Dillenburg
END:VEVENT
BEGIN:VEVENT
DTSTAMP:20260424T152302
DTSTART;TZID=Europe/Berlin:20260623T124500
DTEND;TZID=Europe/Berlin:20260623T160000
UID:61404009DG-20260623T124500@VHSDILLENBURG
SUMMARY:Deutsch als Fremd-/Zweitsprache - Alphabetisierungskurs - Modul 7 (61404009DG) 
LOCATION:VHS: Raum 06 - Unterrichtsraum, Bahnhofstraße 10, 35683 Dillenburg
END:VEVENT
BEGIN:VEVENT
DTSTAMP:20260424T152302
DTSTART;TZID=Europe/Berlin:20260624T124500
DTEND;TZID=Europe/Berlin:20260624T160000
UID:61404009DG-20260624T124500@VHSDILLENBURG
SUMMARY:Deutsch als Fremd-/Zweitsprache - Alphabetisierungskurs - Modul 7 (61404009DG) 
LOCATION:VHS: Raum 06 - Unterrichtsraum, Bahnhofstraße 10, 35683 Dillenburg
END:VEVENT
BEGIN:VEVENT
DTSTAMP:20260424T152302
DTSTART;TZID=Europe/Berlin:20260625T124500
DTEND;TZID=Europe/Berlin:20260625T160000
UID:61404009DG-20260625T124500@VHSDILLENBURG
SUMMARY:Deutsch als Fremd-/Zweitsprache - Alphabetisierungskurs - Modul 7 (61404009DG) 
LOCATION:VHS: Raum 06 - Unterrichtsraum, Bahnhofstraße 10, 35683 Dillenburg
END:VEVENT
BEGIN:VEVENT
DTSTAMP:20260424T152302
DTSTART;TZID=Europe/Berlin:20260810T124500
DTEND;TZID=Europe/Berlin:20260810T160000
UID:61404009DG-20260810T124500@VHSDILLENBURG
SUMMARY:Deutsch als Fremd-/Zweitsprache - Alphabetisierungskurs - Modul 7 (61404009DG) 
LOCATION:VHS: Raum 06 - Unterrichtsraum, Bahnhofstraße 10, 35683 Dillenburg
END:VEVENT
BEGIN:VEVENT
DTSTAMP:20260424T152302
DTSTART;TZID=Europe/Berlin:20260811T124500
DTEND;TZID=Europe/Berlin:20260811T160000
UID:61404009DG-20260811T124500@VHSDILLENBURG
SUMMARY:Deutsch als Fremd-/Zweitsprache - Alphabetisierungskurs - Modul 7 (61404009DG) 
LOCATION:VHS: Raum 06 - Unterrichtsraum, Bahnhofstraße 10, 35683 Dillenburg
END:VEVENT
BEGIN:VEVENT
DTSTAMP:20260424T152302
DTSTART;TZID=Europe/Berlin:20260812T124500
DTEND;TZID=Europe/Berlin:20260812T160000
UID:61404009DG-20260812T124500@VHSDILLENBURG
SUMMARY:Deutsch als Fremd-/Zweitsprache - Alphabetisierungskurs - Modul 7 (61404009DG) 
LOCATION:VHS: Raum 06 - Unterrichtsraum, Bahnhofstraße 10, 35683 Dillenburg
END:VEVENT
BEGIN:VEVENT
DTSTAMP:20260424T152302
DTSTART;TZID=Europe/Berlin:20260813T124500
DTEND;TZID=Europe/Berlin:20260813T160000
UID:61404009DG-20260813T124500@VHSDILLENBURG
SUMMARY:Deutsch als Fremd-/Zweitsprache - Alphabetisierungskurs - Modul 7 (61404009DG) 
LOCATION:VHS: Raum 06 - Unterrichtsraum, Bahnhofstraße 10, 35683 Dillenburg
END:VEVENT
BEGIN:VEVENT
DTSTAMP:20260424T152302
DTSTART;TZID=Europe/Berlin:20260817T124500
DTEND;TZID=Europe/Berlin:20260817T160000
UID:61404009DG-20260817T124500@VHSDILLENBURG
DESCRIPTION:04.03.26 (*LI): Nachholtermin 08.06. (ZKS) 
SUMMARY:Deutsch als Fremd-/Zweitsprache - Alphabetisierungskurs - Modul 7 (61404009DG) 
LOCATION:VHS: Raum 06 - Unterrichtsraum, Bahnhofstraße 10, 35683 Dillenburg
END:VEVENT
BEGIN:VEVENT
DTSTAMP:20260424T152302
DTSTART;TZID=Europe/Berlin:20260818T124500
DTEND;TZID=Europe/Berlin:20260818T160000
UID:61404009DG-20260818T124500@VHSDILLENBURG
DESCRIPTION:06.03.26 (*LI): Ersatz 19.05.
SUMMARY:Deutsch als Fremd-/Zweitsprache - Alphabetisierungskurs - Modul 7 (61404009DG) 
LOCATION:VHS: Raum 06 - Unterrichtsraum, Bahnhofstraße 10, 35683 Dillenburg
END:VEVENT
BEGIN:VEVENT
DTSTAMP:20260424T152302
DTSTART;TZID=Europe/Berlin:20260819T124500
DTEND;TZID=Europe/Berlin:20260819T160000
UID:61404009DG-20260819T124500@VHSDILLENBURG
DESCRIPTION:06.03.26 (*LI): Ersatz 21.05.
SUMMARY:Deutsch als Fremd-/Zweitsprache - Alphabetisierungskurs - Modul 7 (61404009DG) 
LOCATION:VHS: Raum 06 - Unterrichtsraum, Bahnhofstraße 10, 35683 Dillenburg
END:VEVENT
BEGIN:VEVENT
DTSTAMP:20260424T152302
DTSTART;TZID=Europe/Berlin:20260820T124500
DTEND;TZID=Europe/Berlin:20260820T160000
UID:61404009DG-20260820T124500@VHSDILLENBURG
DESCRIPTION:06.03.26 (*LI): Ersatz 11.06.
SUMMARY:Deutsch als Fremd-/Zweitsprache - Alphabetisierungskurs - Modul 7 (61404009DG) 
LOCATION:VHS: Raum 06 - Unterrichtsraum, Bahnhofstraße 10, 35683 Dillenburg
END:VEVENT
END:VCALENDAR