BEGIN:VCALENDAR
VERSION:2.0
PRODID:https://www.kufer.de/kuferweb / DE
METHOD:PUBLISH
CALSCALE:GREGORIAN
X-WR-TIMEZONE:Europe/Berlin
BEGIN:VTIMEZONE
TZID:Europe/Berlin
X-LIC-LOCATION:Europe/Berlin
BEGIN:DAYLIGHT
TZOFFSETFROM:+0100
TZOFFSETTO:+0200
TZNAME:CEST
DTSTART:19700329T020000
RRULE:FREQ=YEARLY;INTERVAL=1;BYDAY=-1SU;BYMONTH=3
END:DAYLIGHT
BEGIN:STANDARD
TZOFFSETFROM:+0200
TZOFFSETTO:+0100
TZNAME:CET
DTSTART:19701025T030000
RRULE:FREQ=YEARLY;INTERVAL=1;BYDAY=-1SU;BYMONTH=10
END:STANDARD
END:VTIMEZONE
BEGIN:VEVENT
DTSTAMP:20260423T143013
DTSTART;TZID=Europe/Berlin:20260608T100000
DTEND;TZID=Europe/Berlin:20260608T121500
UID:61404019DG-20260608T100000@VHSDILLENBURG
SUMMARY:Deutsch als Fremd-/Zweitsprache - Grundstufe A1 - Teil 1 (61404019DG) 
LOCATION:VHS: Raum 20 - Atelier, Bahnhofstraße 10, 35683 Dillenburg
END:VEVENT
BEGIN:VEVENT
DTSTAMP:20260423T143013
DTSTART;TZID=Europe/Berlin:20260611T100000
DTEND;TZID=Europe/Berlin:20260611T121500
UID:61404019DG-20260611T100000@VHSDILLENBURG
SUMMARY:Deutsch als Fremd-/Zweitsprache - Grundstufe A1 - Teil 1 (61404019DG) 
LOCATION:VHS: Raum 20 - Atelier, Bahnhofstraße 10, 35683 Dillenburg
END:VEVENT
BEGIN:VEVENT
DTSTAMP:20260423T143013
DTSTART;TZID=Europe/Berlin:20260615T100000
DTEND;TZID=Europe/Berlin:20260615T121500
UID:61404019DG-20260615T100000@VHSDILLENBURG
SUMMARY:Deutsch als Fremd-/Zweitsprache - Grundstufe A1 - Teil 1 (61404019DG) 
LOCATION:VHS: Raum 23 - EDV-Raum, Bahnhofstraße 10, 35683 Dillenburg
END:VEVENT
BEGIN:VEVENT
DTSTAMP:20260423T143013
DTSTART;TZID=Europe/Berlin:20260618T100000
DTEND;TZID=Europe/Berlin:20260618T121500
UID:61404019DG-20260618T100000@VHSDILLENBURG
SUMMARY:Deutsch als Fremd-/Zweitsprache - Grundstufe A1 - Teil 1 (61404019DG) 
LOCATION:VHS: Raum 23 - EDV-Raum, Bahnhofstraße 10, 35683 Dillenburg
END:VEVENT
BEGIN:VEVENT
DTSTAMP:20260423T143013
DTSTART;TZID=Europe/Berlin:20260622T100000
DTEND;TZID=Europe/Berlin:20260622T121500
UID:61404019DG-20260622T100000@VHSDILLENBURG
SUMMARY:Deutsch als Fremd-/Zweitsprache - Grundstufe A1 - Teil 1 (61404019DG) 
LOCATION:VHS: Raum 23 - EDV-Raum, Bahnhofstraße 10, 35683 Dillenburg
END:VEVENT
BEGIN:VEVENT
DTSTAMP:20260423T143013
DTSTART;TZID=Europe/Berlin:20260625T100000
DTEND;TZID=Europe/Berlin:20260625T121500
UID:61404019DG-20260625T100000@VHSDILLENBURG
SUMMARY:Deutsch als Fremd-/Zweitsprache - Grundstufe A1 - Teil 1 (61404019DG) 
LOCATION:VHS: Raum 23 - EDV-Raum, Bahnhofstraße 10, 35683 Dillenburg
END:VEVENT
BEGIN:VEVENT
DTSTAMP:20260423T143013
DTSTART;TZID=Europe/Berlin:20260810T100000
DTEND;TZID=Europe/Berlin:20260810T121500
UID:61404019DG-20260810T100000@VHSDILLENBURG
SUMMARY:Deutsch als Fremd-/Zweitsprache - Grundstufe A1 - Teil 1 (61404019DG) 
LOCATION:VHS: Raum 20 - Atelier, Bahnhofstraße 10, 35683 Dillenburg
END:VEVENT
BEGIN:VEVENT
DTSTAMP:20260423T143013
DTSTART;TZID=Europe/Berlin:20260813T100000
DTEND;TZID=Europe/Berlin:20260813T121500
UID:61404019DG-20260813T100000@VHSDILLENBURG
SUMMARY:Deutsch als Fremd-/Zweitsprache - Grundstufe A1 - Teil 1 (61404019DG) 
LOCATION:VHS: Raum 20 - Atelier, Bahnhofstraße 10, 35683 Dillenburg
END:VEVENT
BEGIN:VEVENT
DTSTAMP:20260423T143013
DTSTART;TZID=Europe/Berlin:20260817T100000
DTEND;TZID=Europe/Berlin:20260817T121500
UID:61404019DG-20260817T100000@VHSDILLENBURG
SUMMARY:Deutsch als Fremd-/Zweitsprache - Grundstufe A1 - Teil 1 (61404019DG) 
LOCATION:VHS: Raum 20 - Atelier, Bahnhofstraße 10, 35683 Dillenburg
END:VEVENT
BEGIN:VEVENT
DTSTAMP:20260423T143013
DTSTART;TZID=Europe/Berlin:20260820T100000
DTEND;TZID=Europe/Berlin:20260820T121500
UID:61404019DG-20260820T100000@VHSDILLENBURG
SUMMARY:Deutsch als Fremd-/Zweitsprache - Grundstufe A1 - Teil 1 (61404019DG) 
LOCATION:VHS: Raum 20 - Atelier, Bahnhofstraße 10, 35683 Dillenburg
END:VEVENT
BEGIN:VEVENT
DTSTAMP:20260423T143013
DTSTART;TZID=Europe/Berlin:20260824T100000
DTEND;TZID=Europe/Berlin:20260824T121500
UID:61404019DG-20260824T100000@VHSDILLENBURG
SUMMARY:Deutsch als Fremd-/Zweitsprache - Grundstufe A1 - Teil 1 (61404019DG) 
LOCATION:VHS: Raum 20 - Atelier, Bahnhofstraße 10, 35683 Dillenburg
END:VEVENT
BEGIN:VEVENT
DTSTAMP:20260423T143013
DTSTART;TZID=Europe/Berlin:20260827T100000
DTEND;TZID=Europe/Berlin:20260827T121500
UID:61404019DG-20260827T100000@VHSDILLENBURG
SUMMARY:Deutsch als Fremd-/Zweitsprache - Grundstufe A1 - Teil 1 (61404019DG) 
LOCATION:VHS: Raum 20 - Atelier, Bahnhofstraße 10, 35683 Dillenburg
END:VEVENT
BEGIN:VEVENT
DTSTAMP:20260423T143013
DTSTART;TZID=Europe/Berlin:20260831T100000
DTEND;TZID=Europe/Berlin:20260831T121500
UID:61404019DG-20260831T100000@VHSDILLENBURG
SUMMARY:Deutsch als Fremd-/Zweitsprache - Grundstufe A1 - Teil 1 (61404019DG) 
LOCATION:VHS: Raum 20 - Atelier, Bahnhofstraße 10, 35683 Dillenburg
END:VEVENT
BEGIN:VEVENT
DTSTAMP:20260423T143013
DTSTART;TZID=Europe/Berlin:20260903T100000
DTEND;TZID=Europe/Berlin:20260903T121500
UID:61404019DG-20260903T100000@VHSDILLENBURG
SUMMARY:Deutsch als Fremd-/Zweitsprache - Grundstufe A1 - Teil 1 (61404019DG) 
LOCATION:VHS: Raum 20 - Atelier, Bahnhofstraße 10, 35683 Dillenburg
END:VEVENT
BEGIN:VEVENT
DTSTAMP:20260423T143013
DTSTART;TZID=Europe/Berlin:20260907T100000
DTEND;TZID=Europe/Berlin:20260907T121500
UID:61404019DG-20260907T100000@VHSDILLENBURG
SUMMARY:Deutsch als Fremd-/Zweitsprache - Grundstufe A1 - Teil 1 (61404019DG) 
LOCATION:VHS: Raum 20 - Atelier, Bahnhofstraße 10, 35683 Dillenburg
END:VEVENT
BEGIN:VEVENT
DTSTAMP:20260423T143013
DTSTART;TZID=Europe/Berlin:20260910T100000
DTEND;TZID=Europe/Berlin:20260910T121500
UID:61404019DG-20260910T100000@VHSDILLENBURG
SUMMARY:Deutsch als Fremd-/Zweitsprache - Grundstufe A1 - Teil 1 (61404019DG) 
LOCATION:VHS: Raum 20 - Atelier, Bahnhofstraße 10, 35683 Dillenburg
END:VEVENT
BEGIN:VEVENT
DTSTAMP:20260423T143013
DTSTART;TZID=Europe/Berlin:20260914T100000
DTEND;TZID=Europe/Berlin:20260914T121500
UID:61404019DG-20260914T100000@VHSDILLENBURG
SUMMARY:Deutsch als Fremd-/Zweitsprache - Grundstufe A1 - Teil 1 (61404019DG) 
LOCATION:VHS: Raum 20 - Atelier, Bahnhofstraße 10, 35683 Dillenburg
END:VEVENT
BEGIN:VEVENT
DTSTAMP:20260423T143013
DTSTART;TZID=Europe/Berlin:20260917T100000
DTEND;TZID=Europe/Berlin:20260917T121500
UID:61404019DG-20260917T100000@VHSDILLENBURG
SUMMARY:Deutsch als Fremd-/Zweitsprache - Grundstufe A1 - Teil 1 (61404019DG) 
LOCATION:VHS: Raum 20 - Atelier, Bahnhofstraße 10, 35683 Dillenburg
END:VEVENT
END:VCALENDAR