BEGIN:VCALENDAR
VERSION:2.0
PRODID:https://www.kufer.de/kuferweb / DE
METHOD:PUBLISH
CALSCALE:GREGORIAN
X-WR-TIMEZONE:Europe/Berlin
BEGIN:VTIMEZONE
TZID:Europe/Berlin
X-LIC-LOCATION:Europe/Berlin
BEGIN:DAYLIGHT
TZOFFSETFROM:+0100
TZOFFSETTO:+0200
TZNAME:CEST
DTSTART:19700329T020000
RRULE:FREQ=YEARLY;INTERVAL=1;BYDAY=-1SU;BYMONTH=3
END:DAYLIGHT
BEGIN:STANDARD
TZOFFSETFROM:+0200
TZOFFSETTO:+0100
TZNAME:CET
DTSTART:19701025T030000
RRULE:FREQ=YEARLY;INTERVAL=1;BYDAY=-1SU;BYMONTH=10
END:STANDARD
END:VTIMEZONE
BEGIN:VEVENT
DTSTAMP:20260424T140338
DTSTART;TZID=Europe/Berlin:20260326T090000
DTEND;TZID=Europe/Berlin:20260326T121500
UID:61404053DG-20260326T090000@VHSDILLENBURG
SUMMARY:Deutsch als Fremd-/Zweitsprache - Integrationskurs - Modul 5 (61404053DG) 
LOCATION:VHS: Raum 14 - Mehrzweckraum, Bahnhofstraße 10, 35683 Dillenburg
END:VEVENT
BEGIN:VEVENT
DTSTAMP:20260424T140338
DTSTART;TZID=Europe/Berlin:20260413T100000
DTEND;TZID=Europe/Berlin:20260413T131500
UID:61404053DG-20260413T100000@VHSDILLENBURG
SUMMARY:Deutsch als Fremd-/Zweitsprache - Integrationskurs - Modul 5 (61404053DG) 
LOCATION:VHS: Raum 03 -Mehrzweckraum, Bahnhofstraße 10, 35683 Dillenburg
END:VEVENT
BEGIN:VEVENT
DTSTAMP:20260424T140338
DTSTART;TZID=Europe/Berlin:20260414T100000
DTEND;TZID=Europe/Berlin:20260414T131500
UID:61404053DG-20260414T100000@VHSDILLENBURG
SUMMARY:Deutsch als Fremd-/Zweitsprache - Integrationskurs - Modul 5 (61404053DG) 
LOCATION:VHS: Raum 03 -Mehrzweckraum, Bahnhofstraße 10, 35683 Dillenburg
END:VEVENT
BEGIN:VEVENT
DTSTAMP:20260424T140338
DTSTART;TZID=Europe/Berlin:20260415T090000
DTEND;TZID=Europe/Berlin:20260415T121500
UID:61404053DG-20260415T090000@VHSDILLENBURG
SUMMARY:Deutsch als Fremd-/Zweitsprache - Integrationskurs - Modul 5 (61404053DG) 
LOCATION:VHS: Raum 03 -Mehrzweckraum, Bahnhofstraße 10, 35683 Dillenburg
END:VEVENT
BEGIN:VEVENT
DTSTAMP:20260424T140338
DTSTART;TZID=Europe/Berlin:20260416T090000
DTEND;TZID=Europe/Berlin:20260416T121500
UID:61404053DG-20260416T090000@VHSDILLENBURG
SUMMARY:Deutsch als Fremd-/Zweitsprache - Integrationskurs - Modul 5 (61404053DG) 
LOCATION:VHS: Raum 03 -Mehrzweckraum, Bahnhofstraße 10, 35683 Dillenburg
END:VEVENT
BEGIN:VEVENT
DTSTAMP:20260424T140338
DTSTART;TZID=Europe/Berlin:20260417T090000
DTEND;TZID=Europe/Berlin:20260417T121500
UID:61404053DG-20260417T090000@VHSDILLENBURG
SUMMARY:Deutsch als Fremd-/Zweitsprache - Integrationskurs - Modul 5 (61404053DG) 
LOCATION:VHS: Raum 03 -Mehrzweckraum, Bahnhofstraße 10, 35683 Dillenburg
END:VEVENT
BEGIN:VEVENT
DTSTAMP:20260424T140338
DTSTART;TZID=Europe/Berlin:20260420T100000
DTEND;TZID=Europe/Berlin:20260420T131500
UID:61404053DG-20260420T100000@VHSDILLENBURG
SUMMARY:Deutsch als Fremd-/Zweitsprache - Integrationskurs - Modul 5 (61404053DG) 
LOCATION:VHS: Raum 03 -Mehrzweckraum, Bahnhofstraße 10, 35683 Dillenburg
END:VEVENT
BEGIN:VEVENT
DTSTAMP:20260424T140338
DTSTART;TZID=Europe/Berlin:20260421T100000
DTEND;TZID=Europe/Berlin:20260421T131500
UID:61404053DG-20260421T100000@VHSDILLENBURG
SUMMARY:Deutsch als Fremd-/Zweitsprache - Integrationskurs - Modul 5 (61404053DG) 
LOCATION:VHS: Raum 03 -Mehrzweckraum, Bahnhofstraße 10, 35683 Dillenburg
END:VEVENT
BEGIN:VEVENT
DTSTAMP:20260424T140338
DTSTART;TZID=Europe/Berlin:20260422T090000
DTEND;TZID=Europe/Berlin:20260422T121500
UID:61404053DG-20260422T090000@VHSDILLENBURG
SUMMARY:Deutsch als Fremd-/Zweitsprache - Integrationskurs - Modul 5 (61404053DG) 
LOCATION:VHS: Raum 03 -Mehrzweckraum, Bahnhofstraße 10, 35683 Dillenburg
END:VEVENT
BEGIN:VEVENT
DTSTAMP:20260424T140338
DTSTART;TZID=Europe/Berlin:20260423T090000
DTEND;TZID=Europe/Berlin:20260423T121500
UID:61404053DG-20260423T090000@VHSDILLENBURG
SUMMARY:Deutsch als Fremd-/Zweitsprache - Integrationskurs - Modul 5 (61404053DG) 
LOCATION:VHS: Raum 03 -Mehrzweckraum, Bahnhofstraße 10, 35683 Dillenburg
END:VEVENT
BEGIN:VEVENT
DTSTAMP:20260424T140338
DTSTART;TZID=Europe/Berlin:20260424T090000
DTEND;TZID=Europe/Berlin:20260424T121500
UID:61404053DG-20260424T090000@VHSDILLENBURG
SUMMARY:Deutsch als Fremd-/Zweitsprache - Integrationskurs - Modul 5 (61404053DG) 
LOCATION:VHS: Raum 03 -Mehrzweckraum, Bahnhofstraße 10, 35683 Dillenburg
END:VEVENT
BEGIN:VEVENT
DTSTAMP:20260424T140338
DTSTART;TZID=Europe/Berlin:20260427T100000
DTEND;TZID=Europe/Berlin:20260427T131500
UID:61404053DG-20260427T100000@VHSDILLENBURG
SUMMARY:Deutsch als Fremd-/Zweitsprache - Integrationskurs - Modul 5 (61404053DG) 
LOCATION:VHS: Raum 03 -Mehrzweckraum, Bahnhofstraße 10, 35683 Dillenburg
END:VEVENT
BEGIN:VEVENT
DTSTAMP:20260424T140338
DTSTART;TZID=Europe/Berlin:20260428T100000
DTEND;TZID=Europe/Berlin:20260428T131500
UID:61404053DG-20260428T100000@VHSDILLENBURG
SUMMARY:Deutsch als Fremd-/Zweitsprache - Integrationskurs - Modul 5 (61404053DG) 
LOCATION:VHS: Raum 03 -Mehrzweckraum, Bahnhofstraße 10, 35683 Dillenburg
END:VEVENT
BEGIN:VEVENT
DTSTAMP:20260424T140338
DTSTART;TZID=Europe/Berlin:20260429T090000
DTEND;TZID=Europe/Berlin:20260429T121500
UID:61404053DG-20260429T090000@VHSDILLENBURG
SUMMARY:Deutsch als Fremd-/Zweitsprache - Integrationskurs - Modul 5 (61404053DG) 
LOCATION:VHS: Raum 03 -Mehrzweckraum, Bahnhofstraße 10, 35683 Dillenburg
END:VEVENT
BEGIN:VEVENT
DTSTAMP:20260424T140338
DTSTART;TZID=Europe/Berlin:20260430T090000
DTEND;TZID=Europe/Berlin:20260430T121500
UID:61404053DG-20260430T090000@VHSDILLENBURG
SUMMARY:Deutsch als Fremd-/Zweitsprache - Integrationskurs - Modul 5 (61404053DG) 
LOCATION:VHS: Raum 03 -Mehrzweckraum, Bahnhofstraße 10, 35683 Dillenburg
END:VEVENT
BEGIN:VEVENT
DTSTAMP:20260424T140338
DTSTART;TZID=Europe/Berlin:20260504T100000
DTEND;TZID=Europe/Berlin:20260504T131500
UID:61404053DG-20260504T100000@VHSDILLENBURG
SUMMARY:Deutsch als Fremd-/Zweitsprache - Integrationskurs - Modul 5 (61404053DG) 
LOCATION:VHS: Raum 03 -Mehrzweckraum, Bahnhofstraße 10, 35683 Dillenburg
END:VEVENT
BEGIN:VEVENT
DTSTAMP:20260424T140338
DTSTART;TZID=Europe/Berlin:20260505T100000
DTEND;TZID=Europe/Berlin:20260505T131500
UID:61404053DG-20260505T100000@VHSDILLENBURG
SUMMARY:Deutsch als Fremd-/Zweitsprache - Integrationskurs - Modul 5 (61404053DG) 
LOCATION:VHS: Raum 03 -Mehrzweckraum, Bahnhofstraße 10, 35683 Dillenburg
END:VEVENT
BEGIN:VEVENT
DTSTAMP:20260424T140338
DTSTART;TZID=Europe/Berlin:20260506T090000
DTEND;TZID=Europe/Berlin:20260506T121500
UID:61404053DG-20260506T090000@VHSDILLENBURG
SUMMARY:Deutsch als Fremd-/Zweitsprache - Integrationskurs - Modul 5 (61404053DG) 
LOCATION:VHS: Raum 03 -Mehrzweckraum, Bahnhofstraße 10, 35683 Dillenburg
END:VEVENT
BEGIN:VEVENT
DTSTAMP:20260424T140338
DTSTART;TZID=Europe/Berlin:20260507T090000
DTEND;TZID=Europe/Berlin:20260507T121500
UID:61404053DG-20260507T090000@VHSDILLENBURG
SUMMARY:Deutsch als Fremd-/Zweitsprache - Integrationskurs - Modul 5 (61404053DG) 
LOCATION:VHS: Raum 03 -Mehrzweckraum, Bahnhofstraße 10, 35683 Dillenburg
END:VEVENT
BEGIN:VEVENT
DTSTAMP:20260424T140338
DTSTART;TZID=Europe/Berlin:20260508T090000
DTEND;TZID=Europe/Berlin:20260508T121500
UID:61404053DG-20260508T090000@VHSDILLENBURG
SUMMARY:Deutsch als Fremd-/Zweitsprache - Integrationskurs - Modul 5 (61404053DG) 
LOCATION:VHS: Raum 03 -Mehrzweckraum, Bahnhofstraße 10, 35683 Dillenburg
END:VEVENT
BEGIN:VEVENT
DTSTAMP:20260424T140338
DTSTART;TZID=Europe/Berlin:20260511T100000
DTEND;TZID=Europe/Berlin:20260511T131500
UID:61404053DG-20260511T100000@VHSDILLENBURG
SUMMARY:Deutsch als Fremd-/Zweitsprache - Integrationskurs - Modul 5 (61404053DG) 
LOCATION:VHS: Raum 03 -Mehrzweckraum, Bahnhofstraße 10, 35683 Dillenburg
END:VEVENT
BEGIN:VEVENT
DTSTAMP:20260424T140338
DTSTART;TZID=Europe/Berlin:20260513T100000
DTEND;TZID=Europe/Berlin:20260513T131500
UID:61404053DG-20260513T100000@VHSDILLENBURG
SUMMARY:Deutsch als Fremd-/Zweitsprache - Integrationskurs - Modul 5 (61404053DG) 
LOCATION:VHS: Raum 03 -Mehrzweckraum, Bahnhofstraße 10, 35683 Dillenburg
END:VEVENT
BEGIN:VEVENT
DTSTAMP:20260424T140338
DTSTART;TZID=Europe/Berlin:20260518T100000
DTEND;TZID=Europe/Berlin:20260518T131500
UID:61404053DG-20260518T100000@VHSDILLENBURG
SUMMARY:Deutsch als Fremd-/Zweitsprache - Integrationskurs - Modul 5 (61404053DG) 
LOCATION:VHS: Raum 03 -Mehrzweckraum, Bahnhofstraße 10, 35683 Dillenburg
END:VEVENT
BEGIN:VEVENT
DTSTAMP:20260424T140338
DTSTART;TZID=Europe/Berlin:20260519T100000
DTEND;TZID=Europe/Berlin:20260519T131500
UID:61404053DG-20260519T100000@VHSDILLENBURG
SUMMARY:Deutsch als Fremd-/Zweitsprache - Integrationskurs - Modul 5 (61404053DG) 
LOCATION:VHS: Raum 03 -Mehrzweckraum, Bahnhofstraße 10, 35683 Dillenburg
END:VEVENT
BEGIN:VEVENT
DTSTAMP:20260424T140338
DTSTART;TZID=Europe/Berlin:20260520T090000
DTEND;TZID=Europe/Berlin:20260520T121500
UID:61404053DG-20260520T090000@VHSDILLENBURG
SUMMARY:Deutsch als Fremd-/Zweitsprache - Integrationskurs - Modul 5 (61404053DG) 
LOCATION:VHS: Raum 03 -Mehrzweckraum, Bahnhofstraße 10, 35683 Dillenburg
END:VEVENT
END:VCALENDAR