BEGIN:VCALENDAR
VERSION:2.0
PRODID:https://www.kufer.de/kuferweb / DE
METHOD:PUBLISH
CALSCALE:GREGORIAN
X-WR-TIMEZONE:Europe/Berlin
BEGIN:VTIMEZONE
TZID:Europe/Berlin
X-LIC-LOCATION:Europe/Berlin
BEGIN:DAYLIGHT
TZOFFSETFROM:+0100
TZOFFSETTO:+0200
TZNAME:CEST
DTSTART:19700329T020000
RRULE:FREQ=YEARLY;INTERVAL=1;BYDAY=-1SU;BYMONTH=3
END:DAYLIGHT
BEGIN:STANDARD
TZOFFSETFROM:+0200
TZOFFSETTO:+0100
TZNAME:CET
DTSTART:19701025T030000
RRULE:FREQ=YEARLY;INTERVAL=1;BYDAY=-1SU;BYMONTH=10
END:STANDARD
END:VTIMEZONE
BEGIN:VEVENT
DTSTAMP:20260424T161837
DTSTART;TZID=Europe/Berlin:20260518T143000
DTEND;TZID=Europe/Berlin:20260518T174500
UID:61404066DG-20260518T143000@VHSDILLENBURG
SUMMARY:Deutsch als Fremd-/Zweitsprache - Integrationskurs - Modul 6 (61404066DG) 
LOCATION:VHS: Raum 14 - Mehrzweckraum, Bahnhofstraße 10, 35683 Dillenburg
END:VEVENT
BEGIN:VEVENT
DTSTAMP:20260424T161837
DTSTART;TZID=Europe/Berlin:20260520T143000
DTEND;TZID=Europe/Berlin:20260520T174500
UID:61404066DG-20260520T143000@VHSDILLENBURG
SUMMARY:Deutsch als Fremd-/Zweitsprache - Integrationskurs - Modul 6 (61404066DG) 
LOCATION:VHS: Raum 14 - Mehrzweckraum, Bahnhofstraße 10, 35683 Dillenburg
END:VEVENT
BEGIN:VEVENT
DTSTAMP:20260424T161837
DTSTART;TZID=Europe/Berlin:20260521T150000
DTEND;TZID=Europe/Berlin:20260521T181500
UID:61404066DG-20260521T150000@VHSDILLENBURG
SUMMARY:Deutsch als Fremd-/Zweitsprache - Integrationskurs - Modul 6 (61404066DG) 
LOCATION:VHS: Raum 14 - Mehrzweckraum, Bahnhofstraße 10, 35683 Dillenburg
END:VEVENT
BEGIN:VEVENT
DTSTAMP:20260424T161837
DTSTART;TZID=Europe/Berlin:20260527T143000
DTEND;TZID=Europe/Berlin:20260527T174500
UID:61404066DG-20260527T143000@VHSDILLENBURG
SUMMARY:Deutsch als Fremd-/Zweitsprache - Integrationskurs - Modul 6 (61404066DG) 
LOCATION:VHS: Raum 14 - Mehrzweckraum, Bahnhofstraße 10, 35683 Dillenburg
END:VEVENT
BEGIN:VEVENT
DTSTAMP:20260424T161837
DTSTART;TZID=Europe/Berlin:20260528T150000
DTEND;TZID=Europe/Berlin:20260528T181500
UID:61404066DG-20260528T150000@VHSDILLENBURG
SUMMARY:Deutsch als Fremd-/Zweitsprache - Integrationskurs - Modul 6 (61404066DG) 
LOCATION:VHS: Raum 14 - Mehrzweckraum, Bahnhofstraße 10, 35683 Dillenburg
END:VEVENT
BEGIN:VEVENT
DTSTAMP:20260424T161837
DTSTART;TZID=Europe/Berlin:20260601T143000
DTEND;TZID=Europe/Berlin:20260601T174500
UID:61404066DG-20260601T143000@VHSDILLENBURG
SUMMARY:Deutsch als Fremd-/Zweitsprache - Integrationskurs - Modul 6 (61404066DG) 
LOCATION:VHS: Raum 14 - Mehrzweckraum, Bahnhofstraße 10, 35683 Dillenburg
END:VEVENT
BEGIN:VEVENT
DTSTAMP:20260424T161837
DTSTART;TZID=Europe/Berlin:20260603T143000
DTEND;TZID=Europe/Berlin:20260603T174500
UID:61404066DG-20260603T143000@VHSDILLENBURG
SUMMARY:Deutsch als Fremd-/Zweitsprache - Integrationskurs - Modul 6 (61404066DG) 
LOCATION:VHS: Raum 14 - Mehrzweckraum, Bahnhofstraße 10, 35683 Dillenburg
END:VEVENT
BEGIN:VEVENT
DTSTAMP:20260424T161837
DTSTART;TZID=Europe/Berlin:20260608T143000
DTEND;TZID=Europe/Berlin:20260608T174500
UID:61404066DG-20260608T143000@VHSDILLENBURG
SUMMARY:Deutsch als Fremd-/Zweitsprache - Integrationskurs - Modul 6 (61404066DG) 
LOCATION:VHS: Raum 14 - Mehrzweckraum, Bahnhofstraße 10, 35683 Dillenburg
END:VEVENT
BEGIN:VEVENT
DTSTAMP:20260424T161837
DTSTART;TZID=Europe/Berlin:20260610T143000
DTEND;TZID=Europe/Berlin:20260610T174500
UID:61404066DG-20260610T143000@VHSDILLENBURG
SUMMARY:Deutsch als Fremd-/Zweitsprache - Integrationskurs - Modul 6 (61404066DG) 
LOCATION:VHS: Raum 14 - Mehrzweckraum, Bahnhofstraße 10, 35683 Dillenburg
END:VEVENT
BEGIN:VEVENT
DTSTAMP:20260424T161837
DTSTART;TZID=Europe/Berlin:20260611T150000
DTEND;TZID=Europe/Berlin:20260611T181500
UID:61404066DG-20260611T150000@VHSDILLENBURG
SUMMARY:Deutsch als Fremd-/Zweitsprache - Integrationskurs - Modul 6 (61404066DG) 
LOCATION:VHS: Raum 14 - Mehrzweckraum, Bahnhofstraße 10, 35683 Dillenburg
END:VEVENT
BEGIN:VEVENT
DTSTAMP:20260424T161837
DTSTART;TZID=Europe/Berlin:20260615T143000
DTEND;TZID=Europe/Berlin:20260615T174500
UID:61404066DG-20260615T143000@VHSDILLENBURG
SUMMARY:Deutsch als Fremd-/Zweitsprache - Integrationskurs - Modul 6 (61404066DG) 
LOCATION:VHS: Raum 14 - Mehrzweckraum, Bahnhofstraße 10, 35683 Dillenburg
END:VEVENT
BEGIN:VEVENT
DTSTAMP:20260424T161837
DTSTART;TZID=Europe/Berlin:20260617T143000
DTEND;TZID=Europe/Berlin:20260617T174500
UID:61404066DG-20260617T143000@VHSDILLENBURG
SUMMARY:Deutsch als Fremd-/Zweitsprache - Integrationskurs - Modul 6 (61404066DG) 
LOCATION:VHS: Raum 14 - Mehrzweckraum, Bahnhofstraße 10, 35683 Dillenburg
END:VEVENT
BEGIN:VEVENT
DTSTAMP:20260424T161837
DTSTART;TZID=Europe/Berlin:20260618T150000
DTEND;TZID=Europe/Berlin:20260618T181500
UID:61404066DG-20260618T150000@VHSDILLENBURG
SUMMARY:Deutsch als Fremd-/Zweitsprache - Integrationskurs - Modul 6 (61404066DG) 
LOCATION:VHS: Raum 14 - Mehrzweckraum, Bahnhofstraße 10, 35683 Dillenburg
END:VEVENT
BEGIN:VEVENT
DTSTAMP:20260424T161837
DTSTART;TZID=Europe/Berlin:20260622T143000
DTEND;TZID=Europe/Berlin:20260622T174500
UID:61404066DG-20260622T143000@VHSDILLENBURG
SUMMARY:Deutsch als Fremd-/Zweitsprache - Integrationskurs - Modul 6 (61404066DG) 
LOCATION:VHS: Raum 14 - Mehrzweckraum, Bahnhofstraße 10, 35683 Dillenburg
END:VEVENT
BEGIN:VEVENT
DTSTAMP:20260424T161837
DTSTART;TZID=Europe/Berlin:20260624T143000
DTEND;TZID=Europe/Berlin:20260624T174500
UID:61404066DG-20260624T143000@VHSDILLENBURG
SUMMARY:Deutsch als Fremd-/Zweitsprache - Integrationskurs - Modul 6 (61404066DG) 
LOCATION:VHS: Raum 14 - Mehrzweckraum, Bahnhofstraße 10, 35683 Dillenburg
END:VEVENT
BEGIN:VEVENT
DTSTAMP:20260424T161837
DTSTART;TZID=Europe/Berlin:20260625T150000
DTEND;TZID=Europe/Berlin:20260625T181500
UID:61404066DG-20260625T150000@VHSDILLENBURG
SUMMARY:Deutsch als Fremd-/Zweitsprache - Integrationskurs - Modul 6 (61404066DG) 
LOCATION:VHS: Raum 14 - Mehrzweckraum, Bahnhofstraße 10, 35683 Dillenburg
END:VEVENT
BEGIN:VEVENT
DTSTAMP:20260424T161837
DTSTART;TZID=Europe/Berlin:20260810T143000
DTEND;TZID=Europe/Berlin:20260810T174500
UID:61404066DG-20260810T143000@VHSDILLENBURG
SUMMARY:Deutsch als Fremd-/Zweitsprache - Integrationskurs - Modul 6 (61404066DG) 
LOCATION:VHS: Raum 14 - Mehrzweckraum, Bahnhofstraße 10, 35683 Dillenburg
END:VEVENT
BEGIN:VEVENT
DTSTAMP:20260424T161837
DTSTART;TZID=Europe/Berlin:20260812T143000
DTEND;TZID=Europe/Berlin:20260812T174500
UID:61404066DG-20260812T143000@VHSDILLENBURG
SUMMARY:Deutsch als Fremd-/Zweitsprache - Integrationskurs - Modul 6 (61404066DG) 
LOCATION:VHS: Raum 14 - Mehrzweckraum, Bahnhofstraße 10, 35683 Dillenburg
END:VEVENT
BEGIN:VEVENT
DTSTAMP:20260424T161837
DTSTART;TZID=Europe/Berlin:20260813T150000
DTEND;TZID=Europe/Berlin:20260813T181500
UID:61404066DG-20260813T150000@VHSDILLENBURG
SUMMARY:Deutsch als Fremd-/Zweitsprache - Integrationskurs - Modul 6 (61404066DG) 
LOCATION:VHS: Raum 14 - Mehrzweckraum, Bahnhofstraße 10, 35683 Dillenburg
END:VEVENT
BEGIN:VEVENT
DTSTAMP:20260424T161837
DTSTART;TZID=Europe/Berlin:20260817T143000
DTEND;TZID=Europe/Berlin:20260817T174500
UID:61404066DG-20260817T143000@VHSDILLENBURG
SUMMARY:Deutsch als Fremd-/Zweitsprache - Integrationskurs - Modul 6 (61404066DG) 
LOCATION:VHS: Raum 14 - Mehrzweckraum, Bahnhofstraße 10, 35683 Dillenburg
END:VEVENT
BEGIN:VEVENT
DTSTAMP:20260424T161837
DTSTART;TZID=Europe/Berlin:20260819T143000
DTEND;TZID=Europe/Berlin:20260819T174500
UID:61404066DG-20260819T143000@VHSDILLENBURG
SUMMARY:Deutsch als Fremd-/Zweitsprache - Integrationskurs - Modul 6 (61404066DG) 
LOCATION:VHS: Raum 14 - Mehrzweckraum, Bahnhofstraße 10, 35683 Dillenburg
END:VEVENT
BEGIN:VEVENT
DTSTAMP:20260424T161837
DTSTART;TZID=Europe/Berlin:20260820T150000
DTEND;TZID=Europe/Berlin:20260820T181500
UID:61404066DG-20260820T150000@VHSDILLENBURG
SUMMARY:Deutsch als Fremd-/Zweitsprache - Integrationskurs - Modul 6 (61404066DG) 
LOCATION:VHS: Raum 14 - Mehrzweckraum, Bahnhofstraße 10, 35683 Dillenburg
END:VEVENT
BEGIN:VEVENT
DTSTAMP:20260424T161837
DTSTART;TZID=Europe/Berlin:20260824T143000
DTEND;TZID=Europe/Berlin:20260824T174500
UID:61404066DG-20260824T143000@VHSDILLENBURG
SUMMARY:Deutsch als Fremd-/Zweitsprache - Integrationskurs - Modul 6 (61404066DG) 
LOCATION:VHS: Raum 14 - Mehrzweckraum, Bahnhofstraße 10, 35683 Dillenburg
END:VEVENT
BEGIN:VEVENT
DTSTAMP:20260424T161837
DTSTART;TZID=Europe/Berlin:20260826T143000
DTEND;TZID=Europe/Berlin:20260826T174500
UID:61404066DG-20260826T143000@VHSDILLENBURG
SUMMARY:Deutsch als Fremd-/Zweitsprache - Integrationskurs - Modul 6 (61404066DG) 
LOCATION:VHS: Raum 14 - Mehrzweckraum, Bahnhofstraße 10, 35683 Dillenburg
END:VEVENT
BEGIN:VEVENT
DTSTAMP:20260424T161837
DTSTART;TZID=Europe/Berlin:20260827T150000
DTEND;TZID=Europe/Berlin:20260827T181500
UID:61404066DG-20260827T150000@VHSDILLENBURG
SUMMARY:Deutsch als Fremd-/Zweitsprache - Integrationskurs - Modul 6 (61404066DG) 
LOCATION:VHS: Raum 14 - Mehrzweckraum, Bahnhofstraße 10, 35683 Dillenburg
END:VEVENT
END:VCALENDAR