BEGIN:VCALENDAR
VERSION:2.0
PRODID:https://www.kufer.de/kuferweb / DE
METHOD:PUBLISH
CALSCALE:GREGORIAN
X-WR-TIMEZONE:Europe/Berlin
BEGIN:VTIMEZONE
TZID:Europe/Berlin
X-LIC-LOCATION:Europe/Berlin
BEGIN:DAYLIGHT
TZOFFSETFROM:+0100
TZOFFSETTO:+0200
TZNAME:CEST
DTSTART:19700329T020000
RRULE:FREQ=YEARLY;INTERVAL=1;BYDAY=-1SU;BYMONTH=3
END:DAYLIGHT
BEGIN:STANDARD
TZOFFSETFROM:+0200
TZOFFSETTO:+0100
TZNAME:CET
DTSTART:19701025T030000
RRULE:FREQ=YEARLY;INTERVAL=1;BYDAY=-1SU;BYMONTH=10
END:STANDARD
END:VTIMEZONE
BEGIN:VEVENT
DTSTAMP:20260424T150849
DTSTART;TZID=Europe/Berlin:20260504T173000
DTEND;TZID=Europe/Berlin:20260504T203000
UID:61404091DG-20260504T173000@VHSDILLENBURG
SUMMARY:Deutsch als Fremd-/Zweitsprache - Oberstufe C1 - Modul 1 (61404091DG) 
LOCATION:VHS: Raum 06 - Unterrichtsraum, Bahnhofstraße 10, 35683 Dillenburg
END:VEVENT
BEGIN:VEVENT
DTSTAMP:20260424T150849
DTSTART;TZID=Europe/Berlin:20260506T173000
DTEND;TZID=Europe/Berlin:20260506T194500
UID:61404091DG-20260506T173000@VHSDILLENBURG
SUMMARY:Deutsch als Fremd-/Zweitsprache - Oberstufe C1 - Modul 1 (61404091DG) 
LOCATION:VHS: Raum 06 - Unterrichtsraum, Bahnhofstraße 10, 35683 Dillenburg
END:VEVENT
BEGIN:VEVENT
DTSTAMP:20260424T150849
DTSTART;TZID=Europe/Berlin:20260511T173000
DTEND;TZID=Europe/Berlin:20260511T194500
UID:61404091DG-20260511T173000@VHSDILLENBURG
SUMMARY:Deutsch als Fremd-/Zweitsprache - Oberstufe C1 - Modul 1 (61404091DG) 
LOCATION:VHS: Raum 06 - Unterrichtsraum, Bahnhofstraße 10, 35683 Dillenburg
END:VEVENT
BEGIN:VEVENT
DTSTAMP:20260424T150849
DTSTART;TZID=Europe/Berlin:20260513T173000
DTEND;TZID=Europe/Berlin:20260513T194500
UID:61404091DG-20260513T173000@VHSDILLENBURG
SUMMARY:Deutsch als Fremd-/Zweitsprache - Oberstufe C1 - Modul 1 (61404091DG) 
LOCATION:VHS: Raum 06 - Unterrichtsraum, Bahnhofstraße 10, 35683 Dillenburg
END:VEVENT
BEGIN:VEVENT
DTSTAMP:20260424T150849
DTSTART;TZID=Europe/Berlin:20260518T173000
DTEND;TZID=Europe/Berlin:20260518T194500
UID:61404091DG-20260518T173000@VHSDILLENBURG
SUMMARY:Deutsch als Fremd-/Zweitsprache - Oberstufe C1 - Modul 1 (61404091DG) 
LOCATION:VHS: Raum 06 - Unterrichtsraum, Bahnhofstraße 10, 35683 Dillenburg
END:VEVENT
BEGIN:VEVENT
DTSTAMP:20260424T150849
DTSTART;TZID=Europe/Berlin:20260520T173000
DTEND;TZID=Europe/Berlin:20260520T194500
UID:61404091DG-20260520T173000@VHSDILLENBURG
SUMMARY:Deutsch als Fremd-/Zweitsprache - Oberstufe C1 - Modul 1 (61404091DG) 
LOCATION:VHS: Raum 06 - Unterrichtsraum, Bahnhofstraße 10, 35683 Dillenburg
END:VEVENT
BEGIN:VEVENT
DTSTAMP:20260424T150849
DTSTART;TZID=Europe/Berlin:20260527T173000
DTEND;TZID=Europe/Berlin:20260527T194500
UID:61404091DG-20260527T173000@VHSDILLENBURG
SUMMARY:Deutsch als Fremd-/Zweitsprache - Oberstufe C1 - Modul 1 (61404091DG) 
LOCATION:VHS: Raum 06 - Unterrichtsraum, Bahnhofstraße 10, 35683 Dillenburg
END:VEVENT
BEGIN:VEVENT
DTSTAMP:20260424T150849
DTSTART;TZID=Europe/Berlin:20260601T173000
DTEND;TZID=Europe/Berlin:20260601T194500
UID:61404091DG-20260601T173000@VHSDILLENBURG
SUMMARY:Deutsch als Fremd-/Zweitsprache - Oberstufe C1 - Modul 1 (61404091DG) 
LOCATION:VHS: Raum 06 - Unterrichtsraum, Bahnhofstraße 10, 35683 Dillenburg
END:VEVENT
BEGIN:VEVENT
DTSTAMP:20260424T150849
DTSTART;TZID=Europe/Berlin:20260603T173000
DTEND;TZID=Europe/Berlin:20260603T194500
UID:61404091DG-20260603T173000@VHSDILLENBURG
SUMMARY:Deutsch als Fremd-/Zweitsprache - Oberstufe C1 - Modul 1 (61404091DG) 
LOCATION:VHS: Raum 06 - Unterrichtsraum, Bahnhofstraße 10, 35683 Dillenburg
END:VEVENT
BEGIN:VEVENT
DTSTAMP:20260424T150849
DTSTART;TZID=Europe/Berlin:20260608T173000
DTEND;TZID=Europe/Berlin:20260608T194500
UID:61404091DG-20260608T173000@VHSDILLENBURG
SUMMARY:Deutsch als Fremd-/Zweitsprache - Oberstufe C1 - Modul 1 (61404091DG) 
LOCATION:VHS: Raum 06 - Unterrichtsraum, Bahnhofstraße 10, 35683 Dillenburg
END:VEVENT
BEGIN:VEVENT
DTSTAMP:20260424T150849
DTSTART;TZID=Europe/Berlin:20260610T173000
DTEND;TZID=Europe/Berlin:20260610T194500
UID:61404091DG-20260610T173000@VHSDILLENBURG
SUMMARY:Deutsch als Fremd-/Zweitsprache - Oberstufe C1 - Modul 1 (61404091DG) 
LOCATION:VHS: Raum 06 - Unterrichtsraum, Bahnhofstraße 10, 35683 Dillenburg
END:VEVENT
BEGIN:VEVENT
DTSTAMP:20260424T150849
DTSTART;TZID=Europe/Berlin:20260615T173000
DTEND;TZID=Europe/Berlin:20260615T194500
UID:61404091DG-20260615T173000@VHSDILLENBURG
SUMMARY:Deutsch als Fremd-/Zweitsprache - Oberstufe C1 - Modul 1 (61404091DG) 
LOCATION:VHS: Raum 06 - Unterrichtsraum, Bahnhofstraße 10, 35683 Dillenburg
END:VEVENT
BEGIN:VEVENT
DTSTAMP:20260424T150849
DTSTART;TZID=Europe/Berlin:20260617T173000
DTEND;TZID=Europe/Berlin:20260617T194500
UID:61404091DG-20260617T173000@VHSDILLENBURG
SUMMARY:Deutsch als Fremd-/Zweitsprache - Oberstufe C1 - Modul 1 (61404091DG) 
LOCATION:VHS: Raum 06 - Unterrichtsraum, Bahnhofstraße 10, 35683 Dillenburg
END:VEVENT
BEGIN:VEVENT
DTSTAMP:20260424T150849
DTSTART;TZID=Europe/Berlin:20260622T173000
DTEND;TZID=Europe/Berlin:20260622T194500
UID:61404091DG-20260622T173000@VHSDILLENBURG
SUMMARY:Deutsch als Fremd-/Zweitsprache - Oberstufe C1 - Modul 1 (61404091DG) 
LOCATION:VHS: Raum 06 - Unterrichtsraum, Bahnhofstraße 10, 35683 Dillenburg
END:VEVENT
BEGIN:VEVENT
DTSTAMP:20260424T150849
DTSTART;TZID=Europe/Berlin:20260624T173000
DTEND;TZID=Europe/Berlin:20260624T194500
UID:61404091DG-20260624T173000@VHSDILLENBURG
SUMMARY:Deutsch als Fremd-/Zweitsprache - Oberstufe C1 - Modul 1 (61404091DG) 
LOCATION:VHS: Raum 06 - Unterrichtsraum, Bahnhofstraße 10, 35683 Dillenburg
END:VEVENT
BEGIN:VEVENT
DTSTAMP:20260424T150849
DTSTART;TZID=Europe/Berlin:20260810T173000
DTEND;TZID=Europe/Berlin:20260810T194500
UID:61404091DG-20260810T173000@VHSDILLENBURG
SUMMARY:Deutsch als Fremd-/Zweitsprache - Oberstufe C1 - Modul 1 (61404091DG) 
LOCATION:VHS: Raum 06 - Unterrichtsraum, Bahnhofstraße 10, 35683 Dillenburg
END:VEVENT
BEGIN:VEVENT
DTSTAMP:20260424T150849
DTSTART;TZID=Europe/Berlin:20260812T173000
DTEND;TZID=Europe/Berlin:20260812T194500
UID:61404091DG-20260812T173000@VHSDILLENBURG
SUMMARY:Deutsch als Fremd-/Zweitsprache - Oberstufe C1 - Modul 1 (61404091DG) 
LOCATION:VHS: Raum 06 - Unterrichtsraum, Bahnhofstraße 10, 35683 Dillenburg
END:VEVENT
END:VCALENDAR