BEGIN:VCALENDAR
VERSION:2.0
PRODID:https://www.kufer.de/kuferweb / DE
METHOD:PUBLISH
CALSCALE:GREGORIAN
X-WR-TIMEZONE:Europe/Berlin
BEGIN:VTIMEZONE
TZID:Europe/Berlin
X-LIC-LOCATION:Europe/Berlin
BEGIN:DAYLIGHT
TZOFFSETFROM:+0100
TZOFFSETTO:+0200
TZNAME:CEST
DTSTART:19700329T020000
RRULE:FREQ=YEARLY;INTERVAL=1;BYDAY=-1SU;BYMONTH=3
END:DAYLIGHT
BEGIN:STANDARD
TZOFFSETFROM:+0200
TZOFFSETTO:+0100
TZNAME:CET
DTSTART:19701025T030000
RRULE:FREQ=YEARLY;INTERVAL=1;BYDAY=-1SU;BYMONTH=10
END:STANDARD
END:VTIMEZONE
BEGIN:VEVENT
DTSTAMP:20260424T162036
DTSTART;TZID=Europe/Berlin:20260813T173000
DTEND;TZID=Europe/Berlin:20260813T190000
UID:62212001DG-20260813T173000@VHSDILLENBURG
SUMMARY:Von Debussy bis Schönberg: Musik im 20. Jhd. -NEU- (62212001DG) 
LOCATION:VHS: Raum 03 -Mehrzweckraum, Bahnhofstraße 10, 35683 Dillenburg
END:VEVENT
BEGIN:VEVENT
DTSTAMP:20260424T162036
DTSTART;TZID=Europe/Berlin:20260820T173000
DTEND;TZID=Europe/Berlin:20260820T190000
UID:62212001DG-20260820T173000@VHSDILLENBURG
SUMMARY:Von Debussy bis Schönberg: Musik im 20. Jhd. -NEU- (62212001DG) 
LOCATION:VHS: Raum 03 -Mehrzweckraum, Bahnhofstraße 10, 35683 Dillenburg
END:VEVENT
BEGIN:VEVENT
DTSTAMP:20260424T162036
DTSTART;TZID=Europe/Berlin:20260827T173000
DTEND;TZID=Europe/Berlin:20260827T190000
UID:62212001DG-20260827T173000@VHSDILLENBURG
SUMMARY:Von Debussy bis Schönberg: Musik im 20. Jhd. -NEU- (62212001DG) 
LOCATION:VHS: Raum 03 -Mehrzweckraum, Bahnhofstraße 10, 35683 Dillenburg
END:VEVENT
BEGIN:VEVENT
DTSTAMP:20260424T162036
DTSTART;TZID=Europe/Berlin:20260903T173000
DTEND;TZID=Europe/Berlin:20260903T190000
UID:62212001DG-20260903T173000@VHSDILLENBURG
SUMMARY:Von Debussy bis Schönberg: Musik im 20. Jhd. -NEU- (62212001DG) 
LOCATION:VHS: Raum 03 -Mehrzweckraum, Bahnhofstraße 10, 35683 Dillenburg
END:VEVENT
BEGIN:VEVENT
DTSTAMP:20260424T162036
DTSTART;TZID=Europe/Berlin:20260910T173000
DTEND;TZID=Europe/Berlin:20260910T190000
UID:62212001DG-20260910T173000@VHSDILLENBURG
SUMMARY:Von Debussy bis Schönberg: Musik im 20. Jhd. -NEU- (62212001DG) 
LOCATION:VHS: Raum 03 -Mehrzweckraum, Bahnhofstraße 10, 35683 Dillenburg
END:VEVENT
BEGIN:VEVENT
DTSTAMP:20260424T162036
DTSTART;TZID=Europe/Berlin:20260917T173000
DTEND;TZID=Europe/Berlin:20260917T190000
UID:62212001DG-20260917T173000@VHSDILLENBURG
SUMMARY:Von Debussy bis Schönberg: Musik im 20. Jhd. -NEU- (62212001DG) 
LOCATION:VHS: Raum 03 -Mehrzweckraum, Bahnhofstraße 10, 35683 Dillenburg
END:VEVENT
END:VCALENDAR