BEGIN:VCALENDAR
VERSION:2.0
PRODID:https://www.kufer.de/kuferweb / DE
METHOD:PUBLISH
CALSCALE:GREGORIAN
X-WR-TIMEZONE:Europe/Berlin
BEGIN:VTIMEZONE
TZID:Europe/Berlin
X-LIC-LOCATION:Europe/Berlin
BEGIN:DAYLIGHT
TZOFFSETFROM:+0100
TZOFFSETTO:+0200
TZNAME:CEST
DTSTART:19700329T020000
RRULE:FREQ=YEARLY;INTERVAL=1;BYDAY=-1SU;BYMONTH=3
END:DAYLIGHT
BEGIN:STANDARD
TZOFFSETFROM:+0200
TZOFFSETTO:+0100
TZNAME:CET
DTSTART:19701025T030000
RRULE:FREQ=YEARLY;INTERVAL=1;BYDAY=-1SU;BYMONTH=10
END:STANDARD
END:VTIMEZONE
BEGIN:VEVENT
DTSTAMP:20260423T144415
DTSTART;TZID=Europe/Berlin:20260812T190000
DTEND;TZID=Europe/Berlin:20260812T200000
UID:62302010DF-20260812T190000@VHSDILLENBURG
SUMMARY:Fit und Gesund durchs tägliche Leben (62302010DF) 
LOCATION:Driedorf, Sportzentrum, Zur Hassel 14, 35759 Driedorf
END:VEVENT
BEGIN:VEVENT
DTSTAMP:20260423T144415
DTSTART;TZID=Europe/Berlin:20260819T190000
DTEND;TZID=Europe/Berlin:20260819T200000
UID:62302010DF-20260819T190000@VHSDILLENBURG
SUMMARY:Fit und Gesund durchs tägliche Leben (62302010DF) 
LOCATION:Driedorf, Sportzentrum, Zur Hassel 14, 35759 Driedorf
END:VEVENT
BEGIN:VEVENT
DTSTAMP:20260423T144415
DTSTART;TZID=Europe/Berlin:20260826T190000
DTEND;TZID=Europe/Berlin:20260826T200000
UID:62302010DF-20260826T190000@VHSDILLENBURG
SUMMARY:Fit und Gesund durchs tägliche Leben (62302010DF) 
LOCATION:Driedorf, Sportzentrum, Zur Hassel 14, 35759 Driedorf
END:VEVENT
BEGIN:VEVENT
DTSTAMP:20260423T144415
DTSTART;TZID=Europe/Berlin:20260902T190000
DTEND;TZID=Europe/Berlin:20260902T200000
UID:62302010DF-20260902T190000@VHSDILLENBURG
SUMMARY:Fit und Gesund durchs tägliche Leben (62302010DF) 
LOCATION:Driedorf, Sportzentrum, Zur Hassel 14, 35759 Driedorf
END:VEVENT
BEGIN:VEVENT
DTSTAMP:20260423T144415
DTSTART;TZID=Europe/Berlin:20260909T190000
DTEND;TZID=Europe/Berlin:20260909T200000
UID:62302010DF-20260909T190000@VHSDILLENBURG
SUMMARY:Fit und Gesund durchs tägliche Leben (62302010DF) 
LOCATION:Driedorf, Sportzentrum, Zur Hassel 14, 35759 Driedorf
END:VEVENT
BEGIN:VEVENT
DTSTAMP:20260423T144415
DTSTART;TZID=Europe/Berlin:20260916T190000
DTEND;TZID=Europe/Berlin:20260916T200000
UID:62302010DF-20260916T190000@VHSDILLENBURG
SUMMARY:Fit und Gesund durchs tägliche Leben (62302010DF) 
LOCATION:Driedorf, Sportzentrum, Zur Hassel 14, 35759 Driedorf
END:VEVENT
BEGIN:VEVENT
DTSTAMP:20260423T144415
DTSTART;TZID=Europe/Berlin:20260923T190000
DTEND;TZID=Europe/Berlin:20260923T200000
UID:62302010DF-20260923T190000@VHSDILLENBURG
SUMMARY:Fit und Gesund durchs tägliche Leben (62302010DF) 
LOCATION:Driedorf, Sportzentrum, Zur Hassel 14, 35759 Driedorf
END:VEVENT
BEGIN:VEVENT
DTSTAMP:20260423T144415
DTSTART;TZID=Europe/Berlin:20260930T190000
DTEND;TZID=Europe/Berlin:20260930T200000
UID:62302010DF-20260930T190000@VHSDILLENBURG
SUMMARY:Fit und Gesund durchs tägliche Leben (62302010DF) 
LOCATION:Driedorf, Sportzentrum, Zur Hassel 14, 35759 Driedorf
END:VEVENT
BEGIN:VEVENT
DTSTAMP:20260423T144415
DTSTART;TZID=Europe/Berlin:20261021T190000
DTEND;TZID=Europe/Berlin:20261021T200000
UID:62302010DF-20261021T190000@VHSDILLENBURG
SUMMARY:Fit und Gesund durchs tägliche Leben (62302010DF) 
LOCATION:Driedorf, Sportzentrum, Zur Hassel 14, 35759 Driedorf
END:VEVENT
BEGIN:VEVENT
DTSTAMP:20260423T144415
DTSTART;TZID=Europe/Berlin:20261028T190000
DTEND;TZID=Europe/Berlin:20261028T200000
UID:62302010DF-20261028T190000@VHSDILLENBURG
SUMMARY:Fit und Gesund durchs tägliche Leben (62302010DF) 
LOCATION:Driedorf, Sportzentrum, Zur Hassel 14, 35759 Driedorf
END:VEVENT
BEGIN:VEVENT
DTSTAMP:20260423T144415
DTSTART;TZID=Europe/Berlin:20261104T190000
DTEND;TZID=Europe/Berlin:20261104T200000
UID:62302010DF-20261104T190000@VHSDILLENBURG
SUMMARY:Fit und Gesund durchs tägliche Leben (62302010DF) 
LOCATION:Driedorf, Sportzentrum, Zur Hassel 14, 35759 Driedorf
END:VEVENT
BEGIN:VEVENT
DTSTAMP:20260423T144415
DTSTART;TZID=Europe/Berlin:20261111T190000
DTEND;TZID=Europe/Berlin:20261111T200000
UID:62302010DF-20261111T190000@VHSDILLENBURG
SUMMARY:Fit und Gesund durchs tägliche Leben (62302010DF) 
LOCATION:Driedorf, Sportzentrum, Zur Hassel 14, 35759 Driedorf
END:VEVENT
BEGIN:VEVENT
DTSTAMP:20260423T144415
DTSTART;TZID=Europe/Berlin:20261118T190000
DTEND;TZID=Europe/Berlin:20261118T200000
UID:62302010DF-20261118T190000@VHSDILLENBURG
SUMMARY:Fit und Gesund durchs tägliche Leben (62302010DF) 
LOCATION:Driedorf, Sportzentrum, Zur Hassel 14, 35759 Driedorf
END:VEVENT
BEGIN:VEVENT
DTSTAMP:20260423T144415
DTSTART;TZID=Europe/Berlin:20261125T190000
DTEND;TZID=Europe/Berlin:20261125T200000
UID:62302010DF-20261125T190000@VHSDILLENBURG
SUMMARY:Fit und Gesund durchs tägliche Leben (62302010DF) 
LOCATION:Driedorf, Sportzentrum, Zur Hassel 14, 35759 Driedorf
END:VEVENT
BEGIN:VEVENT
DTSTAMP:20260423T144415
DTSTART;TZID=Europe/Berlin:20261202T190000
DTEND;TZID=Europe/Berlin:20261202T200000
UID:62302010DF-20261202T190000@VHSDILLENBURG
SUMMARY:Fit und Gesund durchs tägliche Leben (62302010DF) 
LOCATION:Driedorf, Sportzentrum, Zur Hassel 14, 35759 Driedorf
END:VEVENT
END:VCALENDAR