BEGIN:VCALENDAR
VERSION:2.0
PRODID:https://www.kufer.de/kuferweb / DE
METHOD:PUBLISH
CALSCALE:GREGORIAN
X-WR-TIMEZONE:Europe/Berlin
BEGIN:VTIMEZONE
TZID:Europe/Berlin
X-LIC-LOCATION:Europe/Berlin
BEGIN:DAYLIGHT
TZOFFSETFROM:+0100
TZOFFSETTO:+0200
TZNAME:CEST
DTSTART:19700329T020000
RRULE:FREQ=YEARLY;INTERVAL=1;BYDAY=-1SU;BYMONTH=3
END:DAYLIGHT
BEGIN:STANDARD
TZOFFSETFROM:+0200
TZOFFSETTO:+0100
TZNAME:CET
DTSTART:19701025T030000
RRULE:FREQ=YEARLY;INTERVAL=1;BYDAY=-1SU;BYMONTH=10
END:STANDARD
END:VTIMEZONE
BEGIN:VEVENT
DTSTAMP:20260423T145218
DTSTART;TZID=Europe/Berlin:20260811T193000
DTEND;TZID=Europe/Berlin:20260811T203000
UID:62302023DG-20260811T193000@VHSDILLENBURG
SUMMARY:Funktionelles Kraft- und Ausdauertraining für Erwachsene  (62302023DG) 
LOCATION:Dillenburg, Wilhelm von Oranien Turnhalle - 1 Feld Halle, Jahnstr. 1, 35683 Dillenburg
END:VEVENT
BEGIN:VEVENT
DTSTAMP:20260423T145218
DTSTART;TZID=Europe/Berlin:20260818T193000
DTEND;TZID=Europe/Berlin:20260818T203000
UID:62302023DG-20260818T193000@VHSDILLENBURG
SUMMARY:Funktionelles Kraft- und Ausdauertraining für Erwachsene  (62302023DG) 
LOCATION:Dillenburg, Wilhelm von Oranien Turnhalle - 1 Feld Halle, Jahnstr. 1, 35683 Dillenburg
END:VEVENT
BEGIN:VEVENT
DTSTAMP:20260423T145218
DTSTART;TZID=Europe/Berlin:20260825T193000
DTEND;TZID=Europe/Berlin:20260825T203000
UID:62302023DG-20260825T193000@VHSDILLENBURG
SUMMARY:Funktionelles Kraft- und Ausdauertraining für Erwachsene  (62302023DG) 
LOCATION:Dillenburg, Wilhelm von Oranien Turnhalle - 1 Feld Halle, Jahnstr. 1, 35683 Dillenburg
END:VEVENT
BEGIN:VEVENT
DTSTAMP:20260423T145218
DTSTART;TZID=Europe/Berlin:20260901T193000
DTEND;TZID=Europe/Berlin:20260901T203000
UID:62302023DG-20260901T193000@VHSDILLENBURG
SUMMARY:Funktionelles Kraft- und Ausdauertraining für Erwachsene  (62302023DG) 
LOCATION:Dillenburg, Wilhelm von Oranien Turnhalle - 1 Feld Halle, Jahnstr. 1, 35683 Dillenburg
END:VEVENT
BEGIN:VEVENT
DTSTAMP:20260423T145218
DTSTART;TZID=Europe/Berlin:20260908T193000
DTEND;TZID=Europe/Berlin:20260908T203000
UID:62302023DG-20260908T193000@VHSDILLENBURG
SUMMARY:Funktionelles Kraft- und Ausdauertraining für Erwachsene  (62302023DG) 
LOCATION:Dillenburg, Wilhelm von Oranien Turnhalle - 1 Feld Halle, Jahnstr. 1, 35683 Dillenburg
END:VEVENT
BEGIN:VEVENT
DTSTAMP:20260423T145218
DTSTART;TZID=Europe/Berlin:20260915T193000
DTEND;TZID=Europe/Berlin:20260915T203000
UID:62302023DG-20260915T193000@VHSDILLENBURG
SUMMARY:Funktionelles Kraft- und Ausdauertraining für Erwachsene  (62302023DG) 
LOCATION:Dillenburg, Wilhelm von Oranien Turnhalle - 1 Feld Halle, Jahnstr. 1, 35683 Dillenburg
END:VEVENT
BEGIN:VEVENT
DTSTAMP:20260423T145218
DTSTART;TZID=Europe/Berlin:20260922T193000
DTEND;TZID=Europe/Berlin:20260922T203000
UID:62302023DG-20260922T193000@VHSDILLENBURG
SUMMARY:Funktionelles Kraft- und Ausdauertraining für Erwachsene  (62302023DG) 
LOCATION:Dillenburg, Wilhelm von Oranien Turnhalle - 1 Feld Halle, Jahnstr. 1, 35683 Dillenburg
END:VEVENT
BEGIN:VEVENT
DTSTAMP:20260423T145218
DTSTART;TZID=Europe/Berlin:20260929T193000
DTEND;TZID=Europe/Berlin:20260929T203000
UID:62302023DG-20260929T193000@VHSDILLENBURG
SUMMARY:Funktionelles Kraft- und Ausdauertraining für Erwachsene  (62302023DG) 
LOCATION:Dillenburg, Wilhelm von Oranien Turnhalle - 1 Feld Halle, Jahnstr. 1, 35683 Dillenburg
END:VEVENT
BEGIN:VEVENT
DTSTAMP:20260423T145218
DTSTART;TZID=Europe/Berlin:20261020T193000
DTEND;TZID=Europe/Berlin:20261020T203000
UID:62302023DG-20261020T193000@VHSDILLENBURG
SUMMARY:Funktionelles Kraft- und Ausdauertraining für Erwachsene  (62302023DG) 
LOCATION:Dillenburg, Wilhelm von Oranien Turnhalle - 1 Feld Halle, Jahnstr. 1, 35683 Dillenburg
END:VEVENT
BEGIN:VEVENT
DTSTAMP:20260423T145218
DTSTART;TZID=Europe/Berlin:20261027T193000
DTEND;TZID=Europe/Berlin:20261027T203000
UID:62302023DG-20261027T193000@VHSDILLENBURG
SUMMARY:Funktionelles Kraft- und Ausdauertraining für Erwachsene  (62302023DG) 
LOCATION:Dillenburg, Wilhelm von Oranien Turnhalle - 1 Feld Halle, Jahnstr. 1, 35683 Dillenburg
END:VEVENT
BEGIN:VEVENT
DTSTAMP:20260423T145218
DTSTART;TZID=Europe/Berlin:20261103T193000
DTEND;TZID=Europe/Berlin:20261103T203000
UID:62302023DG-20261103T193000@VHSDILLENBURG
SUMMARY:Funktionelles Kraft- und Ausdauertraining für Erwachsene  (62302023DG) 
LOCATION:Dillenburg, Wilhelm von Oranien Turnhalle - 1 Feld Halle, Jahnstr. 1, 35683 Dillenburg
END:VEVENT
BEGIN:VEVENT
DTSTAMP:20260423T145218
DTSTART;TZID=Europe/Berlin:20261110T193000
DTEND;TZID=Europe/Berlin:20261110T203000
UID:62302023DG-20261110T193000@VHSDILLENBURG
SUMMARY:Funktionelles Kraft- und Ausdauertraining für Erwachsene  (62302023DG) 
LOCATION:Dillenburg, Wilhelm von Oranien Turnhalle - 1 Feld Halle, Jahnstr. 1, 35683 Dillenburg
END:VEVENT
BEGIN:VEVENT
DTSTAMP:20260423T145218
DTSTART;TZID=Europe/Berlin:20261117T193000
DTEND;TZID=Europe/Berlin:20261117T203000
UID:62302023DG-20261117T193000@VHSDILLENBURG
SUMMARY:Funktionelles Kraft- und Ausdauertraining für Erwachsene  (62302023DG) 
LOCATION:Dillenburg, Wilhelm von Oranien Turnhalle - 1 Feld Halle, Jahnstr. 1, 35683 Dillenburg
END:VEVENT
BEGIN:VEVENT
DTSTAMP:20260423T145218
DTSTART;TZID=Europe/Berlin:20261124T193000
DTEND;TZID=Europe/Berlin:20261124T203000
UID:62302023DG-20261124T193000@VHSDILLENBURG
SUMMARY:Funktionelles Kraft- und Ausdauertraining für Erwachsene  (62302023DG) 
LOCATION:Dillenburg, Wilhelm von Oranien Turnhalle - 1 Feld Halle, Jahnstr. 1, 35683 Dillenburg
END:VEVENT
BEGIN:VEVENT
DTSTAMP:20260423T145218
DTSTART;TZID=Europe/Berlin:20261201T193000
DTEND;TZID=Europe/Berlin:20261201T203000
UID:62302023DG-20261201T193000@VHSDILLENBURG
SUMMARY:Funktionelles Kraft- und Ausdauertraining für Erwachsene  (62302023DG) 
LOCATION:Dillenburg, Wilhelm von Oranien Turnhalle - 1 Feld Halle, Jahnstr. 1, 35683 Dillenburg
END:VEVENT
END:VCALENDAR