BEGIN:VCALENDAR
VERSION:2.0
PRODID:https://www.kufer.de/kuferweb / DE
METHOD:PUBLISH
CALSCALE:GREGORIAN
X-WR-TIMEZONE:Europe/Berlin
BEGIN:VTIMEZONE
TZID:Europe/Berlin
X-LIC-LOCATION:Europe/Berlin
BEGIN:DAYLIGHT
TZOFFSETFROM:+0100
TZOFFSETTO:+0200
TZNAME:CEST
DTSTART:19700329T020000
RRULE:FREQ=YEARLY;INTERVAL=1;BYDAY=-1SU;BYMONTH=3
END:DAYLIGHT
BEGIN:STANDARD
TZOFFSETFROM:+0200
TZOFFSETTO:+0100
TZNAME:CET
DTSTART:19701025T030000
RRULE:FREQ=YEARLY;INTERVAL=1;BYDAY=-1SU;BYMONTH=10
END:STANDARD
END:VTIMEZONE
BEGIN:VEVENT
DTSTAMP:20260423T144430
DTSTART;TZID=Europe/Berlin:20260813T183000
DTEND;TZID=Europe/Berlin:20260813T193000
UID:62302030DG-20260813T183000@VHSDILLENBURG
SUMMARY:Funktionelle Rückengymnastik (62302030DG) 
LOCATION:VHS: Raum 10 - Gymnastikraum, Bahnhofstraße 10, 35683 Dillenburg
END:VEVENT
BEGIN:VEVENT
DTSTAMP:20260423T144430
DTSTART;TZID=Europe/Berlin:20260820T183000
DTEND;TZID=Europe/Berlin:20260820T193000
UID:62302030DG-20260820T183000@VHSDILLENBURG
SUMMARY:Funktionelle Rückengymnastik (62302030DG) 
LOCATION:VHS: Raum 10 - Gymnastikraum, Bahnhofstraße 10, 35683 Dillenburg
END:VEVENT
BEGIN:VEVENT
DTSTAMP:20260423T144430
DTSTART;TZID=Europe/Berlin:20260827T183000
DTEND;TZID=Europe/Berlin:20260827T193000
UID:62302030DG-20260827T183000@VHSDILLENBURG
SUMMARY:Funktionelle Rückengymnastik (62302030DG) 
LOCATION:VHS: Raum 10 - Gymnastikraum, Bahnhofstraße 10, 35683 Dillenburg
END:VEVENT
BEGIN:VEVENT
DTSTAMP:20260423T144430
DTSTART;TZID=Europe/Berlin:20260903T183000
DTEND;TZID=Europe/Berlin:20260903T193000
UID:62302030DG-20260903T183000@VHSDILLENBURG
SUMMARY:Funktionelle Rückengymnastik (62302030DG) 
LOCATION:VHS: Raum 10 - Gymnastikraum, Bahnhofstraße 10, 35683 Dillenburg
END:VEVENT
BEGIN:VEVENT
DTSTAMP:20260423T144430
DTSTART;TZID=Europe/Berlin:20260910T183000
DTEND;TZID=Europe/Berlin:20260910T193000
UID:62302030DG-20260910T183000@VHSDILLENBURG
SUMMARY:Funktionelle Rückengymnastik (62302030DG) 
LOCATION:VHS: Raum 10 - Gymnastikraum, Bahnhofstraße 10, 35683 Dillenburg
END:VEVENT
BEGIN:VEVENT
DTSTAMP:20260423T144430
DTSTART;TZID=Europe/Berlin:20260917T183000
DTEND;TZID=Europe/Berlin:20260917T193000
UID:62302030DG-20260917T183000@VHSDILLENBURG
SUMMARY:Funktionelle Rückengymnastik (62302030DG) 
LOCATION:VHS: Raum 10 - Gymnastikraum, Bahnhofstraße 10, 35683 Dillenburg
END:VEVENT
BEGIN:VEVENT
DTSTAMP:20260423T144430
DTSTART;TZID=Europe/Berlin:20260924T183000
DTEND;TZID=Europe/Berlin:20260924T193000
UID:62302030DG-20260924T183000@VHSDILLENBURG
SUMMARY:Funktionelle Rückengymnastik (62302030DG) 
LOCATION:VHS: Raum 10 - Gymnastikraum, Bahnhofstraße 10, 35683 Dillenburg
END:VEVENT
BEGIN:VEVENT
DTSTAMP:20260423T144430
DTSTART;TZID=Europe/Berlin:20261001T183000
DTEND;TZID=Europe/Berlin:20261001T193000
UID:62302030DG-20261001T183000@VHSDILLENBURG
SUMMARY:Funktionelle Rückengymnastik (62302030DG) 
LOCATION:VHS: Raum 10 - Gymnastikraum, Bahnhofstraße 10, 35683 Dillenburg
END:VEVENT
BEGIN:VEVENT
DTSTAMP:20260423T144430
DTSTART;TZID=Europe/Berlin:20261022T183000
DTEND;TZID=Europe/Berlin:20261022T193000
UID:62302030DG-20261022T183000@VHSDILLENBURG
SUMMARY:Funktionelle Rückengymnastik (62302030DG) 
LOCATION:VHS: Raum 10 - Gymnastikraum, Bahnhofstraße 10, 35683 Dillenburg
END:VEVENT
BEGIN:VEVENT
DTSTAMP:20260423T144430
DTSTART;TZID=Europe/Berlin:20261029T183000
DTEND;TZID=Europe/Berlin:20261029T193000
UID:62302030DG-20261029T183000@VHSDILLENBURG
SUMMARY:Funktionelle Rückengymnastik (62302030DG) 
LOCATION:VHS: Raum 10 - Gymnastikraum, Bahnhofstraße 10, 35683 Dillenburg
END:VEVENT
BEGIN:VEVENT
DTSTAMP:20260423T144430
DTSTART;TZID=Europe/Berlin:20261105T183000
DTEND;TZID=Europe/Berlin:20261105T193000
UID:62302030DG-20261105T183000@VHSDILLENBURG
SUMMARY:Funktionelle Rückengymnastik (62302030DG) 
LOCATION:VHS: Raum 10 - Gymnastikraum, Bahnhofstraße 10, 35683 Dillenburg
END:VEVENT
BEGIN:VEVENT
DTSTAMP:20260423T144430
DTSTART;TZID=Europe/Berlin:20261112T183000
DTEND;TZID=Europe/Berlin:20261112T193000
UID:62302030DG-20261112T183000@VHSDILLENBURG
SUMMARY:Funktionelle Rückengymnastik (62302030DG) 
LOCATION:VHS: Raum 10 - Gymnastikraum, Bahnhofstraße 10, 35683 Dillenburg
END:VEVENT
BEGIN:VEVENT
DTSTAMP:20260423T144430
DTSTART;TZID=Europe/Berlin:20261119T183000
DTEND;TZID=Europe/Berlin:20261119T193000
UID:62302030DG-20261119T183000@VHSDILLENBURG
SUMMARY:Funktionelle Rückengymnastik (62302030DG) 
LOCATION:VHS: Raum 10 - Gymnastikraum, Bahnhofstraße 10, 35683 Dillenburg
END:VEVENT
BEGIN:VEVENT
DTSTAMP:20260423T144430
DTSTART;TZID=Europe/Berlin:20261126T183000
DTEND;TZID=Europe/Berlin:20261126T193000
UID:62302030DG-20261126T183000@VHSDILLENBURG
SUMMARY:Funktionelle Rückengymnastik (62302030DG) 
LOCATION:VHS: Raum 10 - Gymnastikraum, Bahnhofstraße 10, 35683 Dillenburg
END:VEVENT
BEGIN:VEVENT
DTSTAMP:20260423T144430
DTSTART;TZID=Europe/Berlin:20261203T183000
DTEND;TZID=Europe/Berlin:20261203T193000
UID:62302030DG-20261203T183000@VHSDILLENBURG
SUMMARY:Funktionelle Rückengymnastik (62302030DG) 
LOCATION:VHS: Raum 10 - Gymnastikraum, Bahnhofstraße 10, 35683 Dillenburg
END:VEVENT
END:VCALENDAR