BEGIN:VCALENDAR
VERSION:2.0
PRODID:https://www.kufer.de/kuferweb / DE
METHOD:PUBLISH
CALSCALE:GREGORIAN
X-WR-TIMEZONE:Europe/Berlin
BEGIN:VTIMEZONE
TZID:Europe/Berlin
X-LIC-LOCATION:Europe/Berlin
BEGIN:DAYLIGHT
TZOFFSETFROM:+0100
TZOFFSETTO:+0200
TZNAME:CEST
DTSTART:19700329T020000
RRULE:FREQ=YEARLY;INTERVAL=1;BYDAY=-1SU;BYMONTH=3
END:DAYLIGHT
BEGIN:STANDARD
TZOFFSETFROM:+0200
TZOFFSETTO:+0100
TZNAME:CET
DTSTART:19701025T030000
RRULE:FREQ=YEARLY;INTERVAL=1;BYDAY=-1SU;BYMONTH=10
END:STANDARD
END:VTIMEZONE
BEGIN:VEVENT
DTSTAMP:20260423T163240
DTSTART;TZID=Europe/Berlin:20260715T181500
DTEND;TZID=Europe/Berlin:20260715T191500
UID:62302050LU-20260715T181500@VHSDILLENBURG
SUMMARY:Fit und entspannt durch die Woche (62302050LU) 
LOCATION:Lahnau-Waldgirmes, Gemeinschaftshaus, Nordendstr. 1, 35633 Lahnau-Waldgirmes
END:VEVENT
BEGIN:VEVENT
DTSTAMP:20260423T163240
DTSTART;TZID=Europe/Berlin:20260722T181500
DTEND;TZID=Europe/Berlin:20260722T191500
UID:62302050LU-20260722T181500@VHSDILLENBURG
SUMMARY:Fit und entspannt durch die Woche (62302050LU) 
LOCATION:Lahnau-Waldgirmes, Gemeinschaftshaus, Nordendstr. 1, 35633 Lahnau-Waldgirmes
END:VEVENT
BEGIN:VEVENT
DTSTAMP:20260423T163240
DTSTART;TZID=Europe/Berlin:20260729T181500
DTEND;TZID=Europe/Berlin:20260729T191500
UID:62302050LU-20260729T181500@VHSDILLENBURG
SUMMARY:Fit und entspannt durch die Woche (62302050LU) 
LOCATION:Lahnau-Waldgirmes, Gemeinschaftshaus, Nordendstr. 1, 35633 Lahnau-Waldgirmes
END:VEVENT
BEGIN:VEVENT
DTSTAMP:20260423T163240
DTSTART;TZID=Europe/Berlin:20260805T181500
DTEND;TZID=Europe/Berlin:20260805T191500
UID:62302050LU-20260805T181500@VHSDILLENBURG
SUMMARY:Fit und entspannt durch die Woche (62302050LU) 
LOCATION:Lahnau-Waldgirmes, Gemeinschaftshaus, Nordendstr. 1, 35633 Lahnau-Waldgirmes
END:VEVENT
BEGIN:VEVENT
DTSTAMP:20260423T163240
DTSTART;TZID=Europe/Berlin:20260902T181500
DTEND;TZID=Europe/Berlin:20260902T191500
UID:62302050LU-20260902T181500@VHSDILLENBURG
SUMMARY:Fit und entspannt durch die Woche (62302050LU) 
LOCATION:Lahnau-Waldgirmes, Gemeinschaftshaus, Nordendstr. 1, 35633 Lahnau-Waldgirmes
END:VEVENT
BEGIN:VEVENT
DTSTAMP:20260423T163240
DTSTART;TZID=Europe/Berlin:20260909T181500
DTEND;TZID=Europe/Berlin:20260909T191500
UID:62302050LU-20260909T181500@VHSDILLENBURG
SUMMARY:Fit und entspannt durch die Woche (62302050LU) 
LOCATION:Lahnau-Waldgirmes, Gemeinschaftshaus, Nordendstr. 1, 35633 Lahnau-Waldgirmes
END:VEVENT
BEGIN:VEVENT
DTSTAMP:20260423T163240
DTSTART;TZID=Europe/Berlin:20260916T181500
DTEND;TZID=Europe/Berlin:20260916T191500
UID:62302050LU-20260916T181500@VHSDILLENBURG
SUMMARY:Fit und entspannt durch die Woche (62302050LU) 
LOCATION:Lahnau-Waldgirmes, Gemeinschaftshaus, Nordendstr. 1, 35633 Lahnau-Waldgirmes
END:VEVENT
BEGIN:VEVENT
DTSTAMP:20260423T163240
DTSTART;TZID=Europe/Berlin:20260923T181500
DTEND;TZID=Europe/Berlin:20260923T191500
UID:62302050LU-20260923T181500@VHSDILLENBURG
SUMMARY:Fit und entspannt durch die Woche (62302050LU) 
LOCATION:Lahnau-Waldgirmes, Gemeinschaftshaus, Nordendstr. 1, 35633 Lahnau-Waldgirmes
END:VEVENT
BEGIN:VEVENT
DTSTAMP:20260423T163240
DTSTART;TZID=Europe/Berlin:20261007T181500
DTEND;TZID=Europe/Berlin:20261007T191500
UID:62302050LU-20261007T181500@VHSDILLENBURG
SUMMARY:Fit und entspannt durch die Woche (62302050LU) 
LOCATION:Lahnau-Waldgirmes, Gemeinschaftshaus, Nordendstr. 1, 35633 Lahnau-Waldgirmes
END:VEVENT
BEGIN:VEVENT
DTSTAMP:20260423T163240
DTSTART;TZID=Europe/Berlin:20261014T181500
DTEND;TZID=Europe/Berlin:20261014T191500
UID:62302050LU-20261014T181500@VHSDILLENBURG
SUMMARY:Fit und entspannt durch die Woche (62302050LU) 
LOCATION:Lahnau-Waldgirmes, Gemeinschaftshaus, Nordendstr. 1, 35633 Lahnau-Waldgirmes
END:VEVENT
BEGIN:VEVENT
DTSTAMP:20260423T163240
DTSTART;TZID=Europe/Berlin:20261021T181500
DTEND;TZID=Europe/Berlin:20261021T191500
UID:62302050LU-20261021T181500@VHSDILLENBURG
SUMMARY:Fit und entspannt durch die Woche (62302050LU) 
LOCATION:Lahnau-Waldgirmes, Gemeinschaftshaus, Nordendstr. 1, 35633 Lahnau-Waldgirmes
END:VEVENT
BEGIN:VEVENT
DTSTAMP:20260423T163240
DTSTART;TZID=Europe/Berlin:20261028T181500
DTEND;TZID=Europe/Berlin:20261028T191500
UID:62302050LU-20261028T181500@VHSDILLENBURG
DESCRIPTION:12.08 kein Kurs
SUMMARY:Fit und entspannt durch die Woche (62302050LU) 
LOCATION:Lahnau-Waldgirmes, Gemeinschaftshaus, Nordendstr. 1, 35633 Lahnau-Waldgirmes
END:VEVENT
BEGIN:VEVENT
DTSTAMP:20260423T163240
DTSTART;TZID=Europe/Berlin:20261104T181500
DTEND;TZID=Europe/Berlin:20261104T191500
UID:62302050LU-20261104T181500@VHSDILLENBURG
DESCRIPTION:19.08 kein Kurs
SUMMARY:Fit und entspannt durch die Woche (62302050LU) 
LOCATION:Lahnau-Waldgirmes, Gemeinschaftshaus, Nordendstr. 1, 35633 Lahnau-Waldgirmes
END:VEVENT
BEGIN:VEVENT
DTSTAMP:20260423T163240
DTSTART;TZID=Europe/Berlin:20261111T181500
DTEND;TZID=Europe/Berlin:20261111T191500
UID:62302050LU-20261111T181500@VHSDILLENBURG
DESCRIPTION:26.08 kein Kurs
SUMMARY:Fit und entspannt durch die Woche (62302050LU) 
LOCATION:Lahnau-Waldgirmes, Gemeinschaftshaus, Nordendstr. 1, 35633 Lahnau-Waldgirmes
END:VEVENT
BEGIN:VEVENT
DTSTAMP:20260423T163240
DTSTART;TZID=Europe/Berlin:20261118T181500
DTEND;TZID=Europe/Berlin:20261118T191500
UID:62302050LU-20261118T181500@VHSDILLENBURG
DESCRIPTION:30.09 kein Kurs
SUMMARY:Fit und entspannt durch die Woche (62302050LU) 
LOCATION:Lahnau-Waldgirmes, Gemeinschaftshaus, Nordendstr. 1, 35633 Lahnau-Waldgirmes
END:VEVENT
END:VCALENDAR