BEGIN:VCALENDAR
VERSION:2.0
PRODID:https://www.kufer.de/kuferweb / DE
METHOD:PUBLISH
CALSCALE:GREGORIAN
X-WR-TIMEZONE:Europe/Berlin
BEGIN:VTIMEZONE
TZID:Europe/Berlin
X-LIC-LOCATION:Europe/Berlin
BEGIN:DAYLIGHT
TZOFFSETFROM:+0100
TZOFFSETTO:+0200
TZNAME:CEST
DTSTART:19700329T020000
RRULE:FREQ=YEARLY;INTERVAL=1;BYDAY=-1SU;BYMONTH=3
END:DAYLIGHT
BEGIN:STANDARD
TZOFFSETFROM:+0200
TZOFFSETTO:+0100
TZNAME:CET
DTSTART:19701025T030000
RRULE:FREQ=YEARLY;INTERVAL=1;BYDAY=-1SU;BYMONTH=10
END:STANDARD
END:VTIMEZONE
BEGIN:VEVENT
DTSTAMP:20260423T162228
DTSTART;TZID=Europe/Berlin:20260715T170000
DTEND;TZID=Europe/Berlin:20260715T180000
UID:62302051LU-20260715T170000@VHSDILLENBURG
SUMMARY:Fit und entspannt durch die Woche (62302051LU) 
LOCATION:Lahnau-Waldgirmes, Gemeinschaftshaus, Nordendstr. 1, 35633 Lahnau-Waldgirmes
END:VEVENT
BEGIN:VEVENT
DTSTAMP:20260423T162228
DTSTART;TZID=Europe/Berlin:20260722T170000
DTEND;TZID=Europe/Berlin:20260722T180000
UID:62302051LU-20260722T170000@VHSDILLENBURG
SUMMARY:Fit und entspannt durch die Woche (62302051LU) 
LOCATION:Lahnau-Waldgirmes, Gemeinschaftshaus, Nordendstr. 1, 35633 Lahnau-Waldgirmes
END:VEVENT
BEGIN:VEVENT
DTSTAMP:20260423T162228
DTSTART;TZID=Europe/Berlin:20260729T170000
DTEND;TZID=Europe/Berlin:20260729T180000
UID:62302051LU-20260729T170000@VHSDILLENBURG
SUMMARY:Fit und entspannt durch die Woche (62302051LU) 
LOCATION:Lahnau-Waldgirmes, Gemeinschaftshaus, Nordendstr. 1, 35633 Lahnau-Waldgirmes
END:VEVENT
BEGIN:VEVENT
DTSTAMP:20260423T162228
DTSTART;TZID=Europe/Berlin:20260805T170000
DTEND;TZID=Europe/Berlin:20260805T180000
UID:62302051LU-20260805T170000@VHSDILLENBURG
SUMMARY:Fit und entspannt durch die Woche (62302051LU) 
LOCATION:Lahnau-Waldgirmes, Gemeinschaftshaus, Nordendstr. 1, 35633 Lahnau-Waldgirmes
END:VEVENT
BEGIN:VEVENT
DTSTAMP:20260423T162228
DTSTART;TZID=Europe/Berlin:20260902T170000
DTEND;TZID=Europe/Berlin:20260902T180000
UID:62302051LU-20260902T170000@VHSDILLENBURG
SUMMARY:Fit und entspannt durch die Woche (62302051LU) 
LOCATION:Lahnau-Waldgirmes, Gemeinschaftshaus, Nordendstr. 1, 35633 Lahnau-Waldgirmes
END:VEVENT
BEGIN:VEVENT
DTSTAMP:20260423T162228
DTSTART;TZID=Europe/Berlin:20260909T170000
DTEND;TZID=Europe/Berlin:20260909T180000
UID:62302051LU-20260909T170000@VHSDILLENBURG
SUMMARY:Fit und entspannt durch die Woche (62302051LU) 
LOCATION:Lahnau-Waldgirmes, Gemeinschaftshaus, Nordendstr. 1, 35633 Lahnau-Waldgirmes
END:VEVENT
BEGIN:VEVENT
DTSTAMP:20260423T162228
DTSTART;TZID=Europe/Berlin:20260916T170000
DTEND;TZID=Europe/Berlin:20260916T180000
UID:62302051LU-20260916T170000@VHSDILLENBURG
SUMMARY:Fit und entspannt durch die Woche (62302051LU) 
LOCATION:Lahnau-Waldgirmes, Gemeinschaftshaus, Nordendstr. 1, 35633 Lahnau-Waldgirmes
END:VEVENT
BEGIN:VEVENT
DTSTAMP:20260423T162228
DTSTART;TZID=Europe/Berlin:20260923T170000
DTEND;TZID=Europe/Berlin:20260923T180000
UID:62302051LU-20260923T170000@VHSDILLENBURG
SUMMARY:Fit und entspannt durch die Woche (62302051LU) 
LOCATION:Lahnau-Waldgirmes, Gemeinschaftshaus, Nordendstr. 1, 35633 Lahnau-Waldgirmes
END:VEVENT
BEGIN:VEVENT
DTSTAMP:20260423T162228
DTSTART;TZID=Europe/Berlin:20261007T170000
DTEND;TZID=Europe/Berlin:20261007T180000
UID:62302051LU-20261007T170000@VHSDILLENBURG
SUMMARY:Fit und entspannt durch die Woche (62302051LU) 
LOCATION:Lahnau-Waldgirmes, Gemeinschaftshaus, Nordendstr. 1, 35633 Lahnau-Waldgirmes
END:VEVENT
BEGIN:VEVENT
DTSTAMP:20260423T162228
DTSTART;TZID=Europe/Berlin:20261014T170000
DTEND;TZID=Europe/Berlin:20261014T180000
UID:62302051LU-20261014T170000@VHSDILLENBURG
SUMMARY:Fit und entspannt durch die Woche (62302051LU) 
LOCATION:Lahnau-Waldgirmes, Gemeinschaftshaus, Nordendstr. 1, 35633 Lahnau-Waldgirmes
END:VEVENT
BEGIN:VEVENT
DTSTAMP:20260423T162228
DTSTART;TZID=Europe/Berlin:20261021T170000
DTEND;TZID=Europe/Berlin:20261021T180000
UID:62302051LU-20261021T170000@VHSDILLENBURG
SUMMARY:Fit und entspannt durch die Woche (62302051LU) 
LOCATION:Lahnau-Waldgirmes, Gemeinschaftshaus, Nordendstr. 1, 35633 Lahnau-Waldgirmes
END:VEVENT
BEGIN:VEVENT
DTSTAMP:20260423T162228
DTSTART;TZID=Europe/Berlin:20261028T170000
DTEND;TZID=Europe/Berlin:20261028T180000
UID:62302051LU-20261028T170000@VHSDILLENBURG
DESCRIPTION:12.08 kein Kurs
SUMMARY:Fit und entspannt durch die Woche (62302051LU) 
LOCATION:Lahnau-Waldgirmes, Gemeinschaftshaus, Nordendstr. 1, 35633 Lahnau-Waldgirmes
END:VEVENT
BEGIN:VEVENT
DTSTAMP:20260423T162228
DTSTART;TZID=Europe/Berlin:20261104T170000
DTEND;TZID=Europe/Berlin:20261104T180000
UID:62302051LU-20261104T170000@VHSDILLENBURG
DESCRIPTION:19.08 kein Kurs 
SUMMARY:Fit und entspannt durch die Woche (62302051LU) 
LOCATION:Lahnau-Waldgirmes, Gemeinschaftshaus, Nordendstr. 1, 35633 Lahnau-Waldgirmes
END:VEVENT
BEGIN:VEVENT
DTSTAMP:20260423T162228
DTSTART;TZID=Europe/Berlin:20261111T170000
DTEND;TZID=Europe/Berlin:20261111T180000
UID:62302051LU-20261111T170000@VHSDILLENBURG
DESCRIPTION:26.08 kein Kurs
SUMMARY:Fit und entspannt durch die Woche (62302051LU) 
LOCATION:Lahnau-Waldgirmes, Gemeinschaftshaus, Nordendstr. 1, 35633 Lahnau-Waldgirmes
END:VEVENT
BEGIN:VEVENT
DTSTAMP:20260423T162228
DTSTART;TZID=Europe/Berlin:20261118T170000
DTEND;TZID=Europe/Berlin:20261118T180000
UID:62302051LU-20261118T170000@VHSDILLENBURG
DESCRIPTION:30.09 kein Kurs
SUMMARY:Fit und entspannt durch die Woche (62302051LU) 
LOCATION:Lahnau-Waldgirmes, Gemeinschaftshaus, Nordendstr. 1, 35633 Lahnau-Waldgirmes
END:VEVENT
END:VCALENDAR