BEGIN:VCALENDAR
VERSION:2.0
PRODID:https://www.kufer.de/kuferweb / DE
METHOD:PUBLISH
CALSCALE:GREGORIAN
X-WR-TIMEZONE:Europe/Berlin
BEGIN:VTIMEZONE
TZID:Europe/Berlin
X-LIC-LOCATION:Europe/Berlin
BEGIN:DAYLIGHT
TZOFFSETFROM:+0100
TZOFFSETTO:+0200
TZNAME:CEST
DTSTART:19700329T020000
RRULE:FREQ=YEARLY;INTERVAL=1;BYDAY=-1SU;BYMONTH=3
END:DAYLIGHT
BEGIN:STANDARD
TZOFFSETFROM:+0200
TZOFFSETTO:+0100
TZNAME:CET
DTSTART:19701025T030000
RRULE:FREQ=YEARLY;INTERVAL=1;BYDAY=-1SU;BYMONTH=10
END:STANDARD
END:VTIMEZONE
BEGIN:VEVENT
DTSTAMP:20260423T150502
DTSTART;TZID=Europe/Berlin:20260813T170000
DTEND;TZID=Europe/Berlin:20260813T180000
UID:62302407DG-20260813T170000@VHSDILLENBURG
SUMMARY:Tabata und Functional Training für Erwachsene mit geringen Vorkenntnissen (62302407DG) 
LOCATION:Dillenburg, Kaufmännische Schulen (Berufliche Schule), Turnhalle, Am Güterbahnhof 14, 35683 Dillenburg
END:VEVENT
BEGIN:VEVENT
DTSTAMP:20260423T150502
DTSTART;TZID=Europe/Berlin:20260820T170000
DTEND;TZID=Europe/Berlin:20260820T180000
UID:62302407DG-20260820T170000@VHSDILLENBURG
SUMMARY:Tabata und Functional Training für Erwachsene mit geringen Vorkenntnissen (62302407DG) 
LOCATION:Dillenburg, Kaufmännische Schulen (Berufliche Schule), Turnhalle, Am Güterbahnhof 14, 35683 Dillenburg
END:VEVENT
BEGIN:VEVENT
DTSTAMP:20260423T150502
DTSTART;TZID=Europe/Berlin:20260827T170000
DTEND;TZID=Europe/Berlin:20260827T180000
UID:62302407DG-20260827T170000@VHSDILLENBURG
SUMMARY:Tabata und Functional Training für Erwachsene mit geringen Vorkenntnissen (62302407DG) 
LOCATION:Dillenburg, Kaufmännische Schulen (Berufliche Schule), Turnhalle, Am Güterbahnhof 14, 35683 Dillenburg
END:VEVENT
BEGIN:VEVENT
DTSTAMP:20260423T150502
DTSTART;TZID=Europe/Berlin:20260903T170000
DTEND;TZID=Europe/Berlin:20260903T180000
UID:62302407DG-20260903T170000@VHSDILLENBURG
SUMMARY:Tabata und Functional Training für Erwachsene mit geringen Vorkenntnissen (62302407DG) 
LOCATION:Dillenburg, Kaufmännische Schulen (Berufliche Schule), Turnhalle, Am Güterbahnhof 14, 35683 Dillenburg
END:VEVENT
BEGIN:VEVENT
DTSTAMP:20260423T150502
DTSTART;TZID=Europe/Berlin:20260910T170000
DTEND;TZID=Europe/Berlin:20260910T180000
UID:62302407DG-20260910T170000@VHSDILLENBURG
SUMMARY:Tabata und Functional Training für Erwachsene mit geringen Vorkenntnissen (62302407DG) 
LOCATION:Dillenburg, Kaufmännische Schulen (Berufliche Schule), Turnhalle, Am Güterbahnhof 14, 35683 Dillenburg
END:VEVENT
BEGIN:VEVENT
DTSTAMP:20260423T150502
DTSTART;TZID=Europe/Berlin:20260917T170000
DTEND;TZID=Europe/Berlin:20260917T180000
UID:62302407DG-20260917T170000@VHSDILLENBURG
SUMMARY:Tabata und Functional Training für Erwachsene mit geringen Vorkenntnissen (62302407DG) 
LOCATION:Dillenburg, Kaufmännische Schulen (Berufliche Schule), Turnhalle, Am Güterbahnhof 14, 35683 Dillenburg
END:VEVENT
BEGIN:VEVENT
DTSTAMP:20260423T150502
DTSTART;TZID=Europe/Berlin:20260924T170000
DTEND;TZID=Europe/Berlin:20260924T180000
UID:62302407DG-20260924T170000@VHSDILLENBURG
SUMMARY:Tabata und Functional Training für Erwachsene mit geringen Vorkenntnissen (62302407DG) 
LOCATION:Dillenburg, Kaufmännische Schulen (Berufliche Schule), Turnhalle, Am Güterbahnhof 14, 35683 Dillenburg
END:VEVENT
BEGIN:VEVENT
DTSTAMP:20260423T150502
DTSTART;TZID=Europe/Berlin:20261001T170000
DTEND;TZID=Europe/Berlin:20261001T180000
UID:62302407DG-20261001T170000@VHSDILLENBURG
SUMMARY:Tabata und Functional Training für Erwachsene mit geringen Vorkenntnissen (62302407DG) 
LOCATION:Dillenburg, Kaufmännische Schulen (Berufliche Schule), Turnhalle, Am Güterbahnhof 14, 35683 Dillenburg
END:VEVENT
BEGIN:VEVENT
DTSTAMP:20260423T150502
DTSTART;TZID=Europe/Berlin:20261022T170000
DTEND;TZID=Europe/Berlin:20261022T180000
UID:62302407DG-20261022T170000@VHSDILLENBURG
SUMMARY:Tabata und Functional Training für Erwachsene mit geringen Vorkenntnissen (62302407DG) 
LOCATION:Dillenburg, Kaufmännische Schulen (Berufliche Schule), Turnhalle, Am Güterbahnhof 14, 35683 Dillenburg
END:VEVENT
BEGIN:VEVENT
DTSTAMP:20260423T150502
DTSTART;TZID=Europe/Berlin:20261029T170000
DTEND;TZID=Europe/Berlin:20261029T180000
UID:62302407DG-20261029T170000@VHSDILLENBURG
SUMMARY:Tabata und Functional Training für Erwachsene mit geringen Vorkenntnissen (62302407DG) 
LOCATION:Dillenburg, Kaufmännische Schulen (Berufliche Schule), Turnhalle, Am Güterbahnhof 14, 35683 Dillenburg
END:VEVENT
BEGIN:VEVENT
DTSTAMP:20260423T150502
DTSTART;TZID=Europe/Berlin:20261105T170000
DTEND;TZID=Europe/Berlin:20261105T180000
UID:62302407DG-20261105T170000@VHSDILLENBURG
SUMMARY:Tabata und Functional Training für Erwachsene mit geringen Vorkenntnissen (62302407DG) 
LOCATION:Dillenburg, Kaufmännische Schulen (Berufliche Schule), Turnhalle, Am Güterbahnhof 14, 35683 Dillenburg
END:VEVENT
BEGIN:VEVENT
DTSTAMP:20260423T150502
DTSTART;TZID=Europe/Berlin:20261112T170000
DTEND;TZID=Europe/Berlin:20261112T180000
UID:62302407DG-20261112T170000@VHSDILLENBURG
SUMMARY:Tabata und Functional Training für Erwachsene mit geringen Vorkenntnissen (62302407DG) 
LOCATION:Dillenburg, Kaufmännische Schulen (Berufliche Schule), Turnhalle, Am Güterbahnhof 14, 35683 Dillenburg
END:VEVENT
BEGIN:VEVENT
DTSTAMP:20260423T150502
DTSTART;TZID=Europe/Berlin:20261119T170000
DTEND;TZID=Europe/Berlin:20261119T180000
UID:62302407DG-20261119T170000@VHSDILLENBURG
SUMMARY:Tabata und Functional Training für Erwachsene mit geringen Vorkenntnissen (62302407DG) 
LOCATION:Dillenburg, Kaufmännische Schulen (Berufliche Schule), Turnhalle, Am Güterbahnhof 14, 35683 Dillenburg
END:VEVENT
BEGIN:VEVENT
DTSTAMP:20260423T150502
DTSTART;TZID=Europe/Berlin:20261126T170000
DTEND;TZID=Europe/Berlin:20261126T180000
UID:62302407DG-20261126T170000@VHSDILLENBURG
SUMMARY:Tabata und Functional Training für Erwachsene mit geringen Vorkenntnissen (62302407DG) 
LOCATION:Dillenburg, Kaufmännische Schulen (Berufliche Schule), Turnhalle, Am Güterbahnhof 14, 35683 Dillenburg
END:VEVENT
BEGIN:VEVENT
DTSTAMP:20260423T150502
DTSTART;TZID=Europe/Berlin:20261203T170000
DTEND;TZID=Europe/Berlin:20261203T180000
UID:62302407DG-20261203T170000@VHSDILLENBURG
SUMMARY:Tabata und Functional Training für Erwachsene mit geringen Vorkenntnissen (62302407DG) 
LOCATION:Dillenburg, Kaufmännische Schulen (Berufliche Schule), Turnhalle, Am Güterbahnhof 14, 35683 Dillenburg
END:VEVENT
END:VCALENDAR