BEGIN:VCALENDAR
VERSION:2.0
PRODID:https://www.kufer.de/kuferweb / DE
METHOD:PUBLISH
CALSCALE:GREGORIAN
X-WR-TIMEZONE:Europe/Berlin
BEGIN:VTIMEZONE
TZID:Europe/Berlin
X-LIC-LOCATION:Europe/Berlin
BEGIN:DAYLIGHT
TZOFFSETFROM:+0100
TZOFFSETTO:+0200
TZNAME:CEST
DTSTART:19700329T020000
RRULE:FREQ=YEARLY;INTERVAL=1;BYDAY=-1SU;BYMONTH=3
END:DAYLIGHT
BEGIN:STANDARD
TZOFFSETFROM:+0200
TZOFFSETTO:+0100
TZNAME:CET
DTSTART:19701025T030000
RRULE:FREQ=YEARLY;INTERVAL=1;BYDAY=-1SU;BYMONTH=10
END:STANDARD
END:VTIMEZONE
BEGIN:VEVENT
DTSTAMP:20260423T144415
DTSTART;TZID=Europe/Berlin:20260811T183000
DTEND;TZID=Europe/Berlin:20260811T200000
UID:62422006DG-20260811T183000@VHSDILLENBURG
SUMMARY:Spanisch - A1 (62422006DG) 
LOCATION:VHS: Raum 34 - Unterrichtsraum, Bahnhofstraße 10, 35683 Dillenburg
END:VEVENT
BEGIN:VEVENT
DTSTAMP:20260423T144415
DTSTART;TZID=Europe/Berlin:20260818T183000
DTEND;TZID=Europe/Berlin:20260818T200000
UID:62422006DG-20260818T183000@VHSDILLENBURG
SUMMARY:Spanisch - A1 (62422006DG) 
LOCATION:VHS: Raum 34 - Unterrichtsraum, Bahnhofstraße 10, 35683 Dillenburg
END:VEVENT
BEGIN:VEVENT
DTSTAMP:20260423T144415
DTSTART;TZID=Europe/Berlin:20260825T183000
DTEND;TZID=Europe/Berlin:20260825T200000
UID:62422006DG-20260825T183000@VHSDILLENBURG
SUMMARY:Spanisch - A1 (62422006DG) 
LOCATION:VHS: Raum 34 - Unterrichtsraum, Bahnhofstraße 10, 35683 Dillenburg
END:VEVENT
BEGIN:VEVENT
DTSTAMP:20260423T144415
DTSTART;TZID=Europe/Berlin:20260901T183000
DTEND;TZID=Europe/Berlin:20260901T200000
UID:62422006DG-20260901T183000@VHSDILLENBURG
SUMMARY:Spanisch - A1 (62422006DG) 
LOCATION:VHS: Raum 34 - Unterrichtsraum, Bahnhofstraße 10, 35683 Dillenburg
END:VEVENT
BEGIN:VEVENT
DTSTAMP:20260423T144415
DTSTART;TZID=Europe/Berlin:20260908T183000
DTEND;TZID=Europe/Berlin:20260908T200000
UID:62422006DG-20260908T183000@VHSDILLENBURG
SUMMARY:Spanisch - A1 (62422006DG) 
LOCATION:VHS: Raum 34 - Unterrichtsraum, Bahnhofstraße 10, 35683 Dillenburg
END:VEVENT
BEGIN:VEVENT
DTSTAMP:20260423T144415
DTSTART;TZID=Europe/Berlin:20260915T183000
DTEND;TZID=Europe/Berlin:20260915T200000
UID:62422006DG-20260915T183000@VHSDILLENBURG
SUMMARY:Spanisch - A1 (62422006DG) 
LOCATION:VHS: Raum 34 - Unterrichtsraum, Bahnhofstraße 10, 35683 Dillenburg
END:VEVENT
BEGIN:VEVENT
DTSTAMP:20260423T144415
DTSTART;TZID=Europe/Berlin:20260922T183000
DTEND;TZID=Europe/Berlin:20260922T200000
UID:62422006DG-20260922T183000@VHSDILLENBURG
SUMMARY:Spanisch - A1 (62422006DG) 
LOCATION:VHS: Raum 34 - Unterrichtsraum, Bahnhofstraße 10, 35683 Dillenburg
END:VEVENT
BEGIN:VEVENT
DTSTAMP:20260423T144415
DTSTART;TZID=Europe/Berlin:20260929T183000
DTEND;TZID=Europe/Berlin:20260929T200000
UID:62422006DG-20260929T183000@VHSDILLENBURG
SUMMARY:Spanisch - A1 (62422006DG) 
LOCATION:VHS: Raum 34 - Unterrichtsraum, Bahnhofstraße 10, 35683 Dillenburg
END:VEVENT
BEGIN:VEVENT
DTSTAMP:20260423T144415
DTSTART;TZID=Europe/Berlin:20261020T183000
DTEND;TZID=Europe/Berlin:20261020T200000
UID:62422006DG-20261020T183000@VHSDILLENBURG
SUMMARY:Spanisch - A1 (62422006DG) 
LOCATION:VHS: Raum 34 - Unterrichtsraum, Bahnhofstraße 10, 35683 Dillenburg
END:VEVENT
BEGIN:VEVENT
DTSTAMP:20260423T144415
DTSTART;TZID=Europe/Berlin:20261027T183000
DTEND;TZID=Europe/Berlin:20261027T200000
UID:62422006DG-20261027T183000@VHSDILLENBURG
SUMMARY:Spanisch - A1 (62422006DG) 
LOCATION:VHS: Raum 34 - Unterrichtsraum, Bahnhofstraße 10, 35683 Dillenburg
END:VEVENT
BEGIN:VEVENT
DTSTAMP:20260423T144415
DTSTART;TZID=Europe/Berlin:20261103T183000
DTEND;TZID=Europe/Berlin:20261103T200000
UID:62422006DG-20261103T183000@VHSDILLENBURG
SUMMARY:Spanisch - A1 (62422006DG) 
LOCATION:VHS: Raum 34 - Unterrichtsraum, Bahnhofstraße 10, 35683 Dillenburg
END:VEVENT
BEGIN:VEVENT
DTSTAMP:20260423T144415
DTSTART;TZID=Europe/Berlin:20261110T183000
DTEND;TZID=Europe/Berlin:20261110T200000
UID:62422006DG-20261110T183000@VHSDILLENBURG
SUMMARY:Spanisch - A1 (62422006DG) 
LOCATION:VHS: Raum 34 - Unterrichtsraum, Bahnhofstraße 10, 35683 Dillenburg
END:VEVENT
BEGIN:VEVENT
DTSTAMP:20260423T144415
DTSTART;TZID=Europe/Berlin:20261117T183000
DTEND;TZID=Europe/Berlin:20261117T200000
UID:62422006DG-20261117T183000@VHSDILLENBURG
SUMMARY:Spanisch - A1 (62422006DG) 
LOCATION:VHS: Raum 34 - Unterrichtsraum, Bahnhofstraße 10, 35683 Dillenburg
END:VEVENT
BEGIN:VEVENT
DTSTAMP:20260423T144415
DTSTART;TZID=Europe/Berlin:20261124T183000
DTEND;TZID=Europe/Berlin:20261124T200000
UID:62422006DG-20261124T183000@VHSDILLENBURG
SUMMARY:Spanisch - A1 (62422006DG) 
LOCATION:VHS: Raum 34 - Unterrichtsraum, Bahnhofstraße 10, 35683 Dillenburg
END:VEVENT
BEGIN:VEVENT
DTSTAMP:20260423T144415
DTSTART;TZID=Europe/Berlin:20261201T183000
DTEND;TZID=Europe/Berlin:20261201T200000
UID:62422006DG-20261201T183000@VHSDILLENBURG
SUMMARY:Spanisch - A1 (62422006DG) 
LOCATION:VHS: Raum 34 - Unterrichtsraum, Bahnhofstraße 10, 35683 Dillenburg
END:VEVENT
END:VCALENDAR