BEGIN:VCALENDAR
VERSION:2.0
PRODID:https://www.kufer.de/kuferweb / DE
METHOD:PUBLISH
CALSCALE:GREGORIAN
X-WR-TIMEZONE:Europe/Berlin
BEGIN:VTIMEZONE
TZID:Europe/Berlin
X-LIC-LOCATION:Europe/Berlin
BEGIN:DAYLIGHT
TZOFFSETFROM:+0100
TZOFFSETTO:+0200
TZNAME:CEST
DTSTART:19700329T020000
RRULE:FREQ=YEARLY;INTERVAL=1;BYDAY=-1SU;BYMONTH=3
END:DAYLIGHT
BEGIN:STANDARD
TZOFFSETFROM:+0200
TZOFFSETTO:+0100
TZNAME:CET
DTSTART:19701025T030000
RRULE:FREQ=YEARLY;INTERVAL=1;BYDAY=-1SU;BYMONTH=10
END:STANDARD
END:VTIMEZONE
BEGIN:VEVENT
DTSTAMP:20260423T144542
DTSTART;TZID=Europe/Berlin:20260810T180000
DTEND;TZID=Europe/Berlin:20260810T193000
UID:62422023HN-20260810T180000@VHSDILLENBURG
SUMMARY:Spanisch - B1 (62422023HN) 
LOCATION:Herborn, Johanneum-Gymnasium - Raum 2201, Otto-Wels-Straße 1a, 35745 Herborn
END:VEVENT
BEGIN:VEVENT
DTSTAMP:20260423T144542
DTSTART;TZID=Europe/Berlin:20260817T180000
DTEND;TZID=Europe/Berlin:20260817T193000
UID:62422023HN-20260817T180000@VHSDILLENBURG
SUMMARY:Spanisch - B1 (62422023HN) 
LOCATION:Herborn, Johanneum-Gymnasium - Raum 2201, Otto-Wels-Straße 1a, 35745 Herborn
END:VEVENT
BEGIN:VEVENT
DTSTAMP:20260423T144542
DTSTART;TZID=Europe/Berlin:20260824T180000
DTEND;TZID=Europe/Berlin:20260824T193000
UID:62422023HN-20260824T180000@VHSDILLENBURG
SUMMARY:Spanisch - B1 (62422023HN) 
LOCATION:Herborn, Johanneum-Gymnasium - Raum 2201, Otto-Wels-Straße 1a, 35745 Herborn
END:VEVENT
BEGIN:VEVENT
DTSTAMP:20260423T144542
DTSTART;TZID=Europe/Berlin:20260831T180000
DTEND;TZID=Europe/Berlin:20260831T193000
UID:62422023HN-20260831T180000@VHSDILLENBURG
SUMMARY:Spanisch - B1 (62422023HN) 
LOCATION:Herborn, Johanneum-Gymnasium - Raum 2201, Otto-Wels-Straße 1a, 35745 Herborn
END:VEVENT
BEGIN:VEVENT
DTSTAMP:20260423T144542
DTSTART;TZID=Europe/Berlin:20260907T180000
DTEND;TZID=Europe/Berlin:20260907T193000
UID:62422023HN-20260907T180000@VHSDILLENBURG
SUMMARY:Spanisch - B1 (62422023HN) 
LOCATION:Herborn, Johanneum-Gymnasium - Raum 2201, Otto-Wels-Straße 1a, 35745 Herborn
END:VEVENT
BEGIN:VEVENT
DTSTAMP:20260423T144542
DTSTART;TZID=Europe/Berlin:20260914T180000
DTEND;TZID=Europe/Berlin:20260914T193000
UID:62422023HN-20260914T180000@VHSDILLENBURG
SUMMARY:Spanisch - B1 (62422023HN) 
LOCATION:Herborn, Johanneum-Gymnasium - Raum 2201, Otto-Wels-Straße 1a, 35745 Herborn
END:VEVENT
BEGIN:VEVENT
DTSTAMP:20260423T144542
DTSTART;TZID=Europe/Berlin:20260921T180000
DTEND;TZID=Europe/Berlin:20260921T193000
UID:62422023HN-20260921T180000@VHSDILLENBURG
SUMMARY:Spanisch - B1 (62422023HN) 
LOCATION:Herborn, Johanneum-Gymnasium - Raum 2201, Otto-Wels-Straße 1a, 35745 Herborn
END:VEVENT
BEGIN:VEVENT
DTSTAMP:20260423T144542
DTSTART;TZID=Europe/Berlin:20260928T180000
DTEND;TZID=Europe/Berlin:20260928T193000
UID:62422023HN-20260928T180000@VHSDILLENBURG
SUMMARY:Spanisch - B1 (62422023HN) 
LOCATION:Herborn, Johanneum-Gymnasium - Raum 2201, Otto-Wels-Straße 1a, 35745 Herborn
END:VEVENT
BEGIN:VEVENT
DTSTAMP:20260423T144542
DTSTART;TZID=Europe/Berlin:20261019T180000
DTEND;TZID=Europe/Berlin:20261019T193000
UID:62422023HN-20261019T180000@VHSDILLENBURG
SUMMARY:Spanisch - B1 (62422023HN) 
LOCATION:Herborn, Johanneum-Gymnasium - Raum 2201, Otto-Wels-Straße 1a, 35745 Herborn
END:VEVENT
BEGIN:VEVENT
DTSTAMP:20260423T144542
DTSTART;TZID=Europe/Berlin:20261026T180000
DTEND;TZID=Europe/Berlin:20261026T193000
UID:62422023HN-20261026T180000@VHSDILLENBURG
SUMMARY:Spanisch - B1 (62422023HN) 
LOCATION:Herborn, Johanneum-Gymnasium - Raum 2201, Otto-Wels-Straße 1a, 35745 Herborn
END:VEVENT
BEGIN:VEVENT
DTSTAMP:20260423T144542
DTSTART;TZID=Europe/Berlin:20261102T180000
DTEND;TZID=Europe/Berlin:20261102T193000
UID:62422023HN-20261102T180000@VHSDILLENBURG
SUMMARY:Spanisch - B1 (62422023HN) 
LOCATION:Herborn, Johanneum-Gymnasium - Raum 2201, Otto-Wels-Straße 1a, 35745 Herborn
END:VEVENT
BEGIN:VEVENT
DTSTAMP:20260423T144542
DTSTART;TZID=Europe/Berlin:20261109T180000
DTEND;TZID=Europe/Berlin:20261109T193000
UID:62422023HN-20261109T180000@VHSDILLENBURG
SUMMARY:Spanisch - B1 (62422023HN) 
LOCATION:Herborn, Johanneum-Gymnasium - Raum 2201, Otto-Wels-Straße 1a, 35745 Herborn
END:VEVENT
BEGIN:VEVENT
DTSTAMP:20260423T144542
DTSTART;TZID=Europe/Berlin:20261116T180000
DTEND;TZID=Europe/Berlin:20261116T193000
UID:62422023HN-20261116T180000@VHSDILLENBURG
SUMMARY:Spanisch - B1 (62422023HN) 
LOCATION:Herborn, Johanneum-Gymnasium - Raum 2201, Otto-Wels-Straße 1a, 35745 Herborn
END:VEVENT
BEGIN:VEVENT
DTSTAMP:20260423T144542
DTSTART;TZID=Europe/Berlin:20261123T180000
DTEND;TZID=Europe/Berlin:20261123T193000
UID:62422023HN-20261123T180000@VHSDILLENBURG
SUMMARY:Spanisch - B1 (62422023HN) 
LOCATION:Herborn, Johanneum-Gymnasium - Raum 2201, Otto-Wels-Straße 1a, 35745 Herborn
END:VEVENT
BEGIN:VEVENT
DTSTAMP:20260423T144542
DTSTART;TZID=Europe/Berlin:20261130T180000
DTEND;TZID=Europe/Berlin:20261130T193000
UID:62422023HN-20261130T180000@VHSDILLENBURG
SUMMARY:Spanisch - B1 (62422023HN) 
LOCATION:Herborn, Johanneum-Gymnasium - Raum 2201, Otto-Wels-Straße 1a, 35745 Herborn
END:VEVENT
END:VCALENDAR