BEGIN:VCALENDAR
VERSION:2.0
PRODID:https://www.kufer.de/kuferweb / DE
METHOD:PUBLISH
CALSCALE:GREGORIAN
X-WR-TIMEZONE:Europe/Berlin
BEGIN:VTIMEZONE
TZID:Europe/Berlin
X-LIC-LOCATION:Europe/Berlin
BEGIN:DAYLIGHT
TZOFFSETFROM:+0100
TZOFFSETTO:+0200
TZNAME:CEST
DTSTART:19700329T020000
RRULE:FREQ=YEARLY;INTERVAL=1;BYDAY=-1SU;BYMONTH=3
END:DAYLIGHT
BEGIN:STANDARD
TZOFFSETFROM:+0200
TZOFFSETTO:+0100
TZNAME:CET
DTSTART:19701025T030000
RRULE:FREQ=YEARLY;INTERVAL=1;BYDAY=-1SU;BYMONTH=10
END:STANDARD
END:VTIMEZONE
BEGIN:VEVENT
DTSTAMP:20260423T144430
DTSTART;TZID=Europe/Berlin:20260813T183000
DTEND;TZID=Europe/Berlin:20260813T200000
UID:62422080HN-20260813T183000@VHSDILLENBURG
SUMMARY:Spanisch - B2 (62422080HN) 
LOCATION:Herborn, Johanneum-Gymnasium - Raum 2205, Otto-Wels-Straße 1a, 35745 Herborn
END:VEVENT
BEGIN:VEVENT
DTSTAMP:20260423T144430
DTSTART;TZID=Europe/Berlin:20260827T183000
DTEND;TZID=Europe/Berlin:20260827T200000
UID:62422080HN-20260827T183000@VHSDILLENBURG
SUMMARY:Spanisch - B2 (62422080HN) 
LOCATION:Herborn, Johanneum-Gymnasium - Raum 2205, Otto-Wels-Straße 1a, 35745 Herborn
END:VEVENT
BEGIN:VEVENT
DTSTAMP:20260423T144430
DTSTART;TZID=Europe/Berlin:20260910T183000
DTEND;TZID=Europe/Berlin:20260910T200000
UID:62422080HN-20260910T183000@VHSDILLENBURG
SUMMARY:Spanisch - B2 (62422080HN) 
LOCATION:Herborn, Johanneum-Gymnasium - Raum 2205, Otto-Wels-Straße 1a, 35745 Herborn
END:VEVENT
BEGIN:VEVENT
DTSTAMP:20260423T144430
DTSTART;TZID=Europe/Berlin:20260924T183000
DTEND;TZID=Europe/Berlin:20260924T200000
UID:62422080HN-20260924T183000@VHSDILLENBURG
SUMMARY:Spanisch - B2 (62422080HN) 
LOCATION:Herborn, Johanneum-Gymnasium - Raum 2205, Otto-Wels-Straße 1a, 35745 Herborn
END:VEVENT
BEGIN:VEVENT
DTSTAMP:20260423T144430
DTSTART;TZID=Europe/Berlin:20261022T183000
DTEND;TZID=Europe/Berlin:20261022T200000
UID:62422080HN-20261022T183000@VHSDILLENBURG
SUMMARY:Spanisch - B2 (62422080HN) 
LOCATION:Herborn, Johanneum-Gymnasium - Raum 2205, Otto-Wels-Straße 1a, 35745 Herborn
END:VEVENT
BEGIN:VEVENT
DTSTAMP:20260423T144430
DTSTART;TZID=Europe/Berlin:20261105T183000
DTEND;TZID=Europe/Berlin:20261105T200000
UID:62422080HN-20261105T183000@VHSDILLENBURG
SUMMARY:Spanisch - B2 (62422080HN) 
LOCATION:Herborn, Johanneum-Gymnasium - Raum 2205, Otto-Wels-Straße 1a, 35745 Herborn
END:VEVENT
BEGIN:VEVENT
DTSTAMP:20260423T144430
DTSTART;TZID=Europe/Berlin:20261119T183000
DTEND;TZID=Europe/Berlin:20261119T200000
UID:62422080HN-20261119T183000@VHSDILLENBURG
SUMMARY:Spanisch - B2 (62422080HN) 
LOCATION:Herborn, Johanneum-Gymnasium - Raum 2205, Otto-Wels-Straße 1a, 35745 Herborn
END:VEVENT
BEGIN:VEVENT
DTSTAMP:20260423T144430
DTSTART;TZID=Europe/Berlin:20261203T183000
DTEND;TZID=Europe/Berlin:20261203T200000
UID:62422080HN-20261203T183000@VHSDILLENBURG
SUMMARY:Spanisch - B2 (62422080HN) 
LOCATION:Herborn, Johanneum-Gymnasium - Raum 2205, Otto-Wels-Straße 1a, 35745 Herborn
END:VEVENT
END:VCALENDAR