BEGIN:VCALENDAR
VERSION:2.0
PRODID:https://www.kufer.de/kuferweb / DE
METHOD:PUBLISH
CALSCALE:GREGORIAN
X-WR-TIMEZONE:Europe/Berlin
BEGIN:VTIMEZONE
TZID:Europe/Berlin
X-LIC-LOCATION:Europe/Berlin
BEGIN:DAYLIGHT
TZOFFSETFROM:+0100
TZOFFSETTO:+0200
TZNAME:CEST
DTSTART:19700329T020000
RRULE:FREQ=YEARLY;INTERVAL=1;BYDAY=-1SU;BYMONTH=3
END:DAYLIGHT
BEGIN:STANDARD
TZOFFSETFROM:+0200
TZOFFSETTO:+0100
TZNAME:CET
DTSTART:19701025T030000
RRULE:FREQ=YEARLY;INTERVAL=1;BYDAY=-1SU;BYMONTH=10
END:STANDARD
END:VTIMEZONE
BEGIN:VEVENT
DTSTAMP:20260424T162027
DTSTART;TZID=Europe/Berlin:20260812T180000
DTEND;TZID=Europe/Berlin:20260812T201500
UID:62504005DG-20260812T180000@VHSDILLENBURG
SUMMARY:Finanzbuchführung 2 (62504005DG) 
LOCATION:VHS: Raum 03 -Mehrzweckraum, Bahnhofstraße 10, 35683 Dillenburg
END:VEVENT
BEGIN:VEVENT
DTSTAMP:20260424T162027
DTSTART;TZID=Europe/Berlin:20260817T180000
DTEND;TZID=Europe/Berlin:20260817T201500
UID:62504005DG-20260817T180000@VHSDILLENBURG
SUMMARY:Finanzbuchführung 2 (62504005DG) 
LOCATION:VHS: Raum 03 -Mehrzweckraum, Bahnhofstraße 10, 35683 Dillenburg
END:VEVENT
BEGIN:VEVENT
DTSTAMP:20260424T162027
DTSTART;TZID=Europe/Berlin:20260819T180000
DTEND;TZID=Europe/Berlin:20260819T201500
UID:62504005DG-20260819T180000@VHSDILLENBURG
SUMMARY:Finanzbuchführung 2 (62504005DG) 
LOCATION:VHS: Raum 03 -Mehrzweckraum, Bahnhofstraße 10, 35683 Dillenburg
END:VEVENT
BEGIN:VEVENT
DTSTAMP:20260424T162027
DTSTART;TZID=Europe/Berlin:20260824T180000
DTEND;TZID=Europe/Berlin:20260824T201500
UID:62504005DG-20260824T180000@VHSDILLENBURG
SUMMARY:Finanzbuchführung 2 (62504005DG) 
LOCATION:VHS: Raum 03 -Mehrzweckraum, Bahnhofstraße 10, 35683 Dillenburg
END:VEVENT
BEGIN:VEVENT
DTSTAMP:20260424T162027
DTSTART;TZID=Europe/Berlin:20260826T180000
DTEND;TZID=Europe/Berlin:20260826T201500
UID:62504005DG-20260826T180000@VHSDILLENBURG
SUMMARY:Finanzbuchführung 2 (62504005DG) 
LOCATION:VHS: Raum 03 -Mehrzweckraum, Bahnhofstraße 10, 35683 Dillenburg
END:VEVENT
BEGIN:VEVENT
DTSTAMP:20260424T162027
DTSTART;TZID=Europe/Berlin:20260831T180000
DTEND;TZID=Europe/Berlin:20260831T201500
UID:62504005DG-20260831T180000@VHSDILLENBURG
SUMMARY:Finanzbuchführung 2 (62504005DG) 
LOCATION:VHS: Raum 03 -Mehrzweckraum, Bahnhofstraße 10, 35683 Dillenburg
END:VEVENT
BEGIN:VEVENT
DTSTAMP:20260424T162027
DTSTART;TZID=Europe/Berlin:20260902T180000
DTEND;TZID=Europe/Berlin:20260902T201500
UID:62504005DG-20260902T180000@VHSDILLENBURG
SUMMARY:Finanzbuchführung 2 (62504005DG) 
LOCATION:VHS: Raum 03 -Mehrzweckraum, Bahnhofstraße 10, 35683 Dillenburg
END:VEVENT
BEGIN:VEVENT
DTSTAMP:20260424T162027
DTSTART;TZID=Europe/Berlin:20260907T180000
DTEND;TZID=Europe/Berlin:20260907T201500
UID:62504005DG-20260907T180000@VHSDILLENBURG
SUMMARY:Finanzbuchführung 2 (62504005DG) 
LOCATION:VHS: Raum 03 -Mehrzweckraum, Bahnhofstraße 10, 35683 Dillenburg
END:VEVENT
BEGIN:VEVENT
DTSTAMP:20260424T162027
DTSTART;TZID=Europe/Berlin:20260909T180000
DTEND;TZID=Europe/Berlin:20260909T201500
UID:62504005DG-20260909T180000@VHSDILLENBURG
SUMMARY:Finanzbuchführung 2 (62504005DG) 
LOCATION:VHS: Raum 03 -Mehrzweckraum, Bahnhofstraße 10, 35683 Dillenburg
END:VEVENT
BEGIN:VEVENT
DTSTAMP:20260424T162027
DTSTART;TZID=Europe/Berlin:20260914T180000
DTEND;TZID=Europe/Berlin:20260914T201500
UID:62504005DG-20260914T180000@VHSDILLENBURG
SUMMARY:Finanzbuchführung 2 (62504005DG) 
LOCATION:VHS: Raum 03 -Mehrzweckraum, Bahnhofstraße 10, 35683 Dillenburg
END:VEVENT
BEGIN:VEVENT
DTSTAMP:20260424T162027
DTSTART;TZID=Europe/Berlin:20260916T180000
DTEND;TZID=Europe/Berlin:20260916T201500
UID:62504005DG-20260916T180000@VHSDILLENBURG
SUMMARY:Finanzbuchführung 2 (62504005DG) 
LOCATION:VHS: Raum 03 -Mehrzweckraum, Bahnhofstraße 10, 35683 Dillenburg
END:VEVENT
BEGIN:VEVENT
DTSTAMP:20260424T162027
DTSTART;TZID=Europe/Berlin:20260921T180000
DTEND;TZID=Europe/Berlin:20260921T201500
UID:62504005DG-20260921T180000@VHSDILLENBURG
SUMMARY:Finanzbuchführung 2 (62504005DG) 
LOCATION:VHS: Raum 03 -Mehrzweckraum, Bahnhofstraße 10, 35683 Dillenburg
END:VEVENT
BEGIN:VEVENT
DTSTAMP:20260424T162027
DTSTART;TZID=Europe/Berlin:20260923T180000
DTEND;TZID=Europe/Berlin:20260923T201500
UID:62504005DG-20260923T180000@VHSDILLENBURG
SUMMARY:Finanzbuchführung 2 (62504005DG) 
LOCATION:VHS: Raum 03 -Mehrzweckraum, Bahnhofstraße 10, 35683 Dillenburg
END:VEVENT
BEGIN:VEVENT
DTSTAMP:20260424T162027
DTSTART;TZID=Europe/Berlin:20260928T180000
DTEND;TZID=Europe/Berlin:20260928T201500
UID:62504005DG-20260928T180000@VHSDILLENBURG
SUMMARY:Finanzbuchführung 2 (62504005DG) 
LOCATION:VHS: Raum 03 -Mehrzweckraum, Bahnhofstraße 10, 35683 Dillenburg
END:VEVENT
BEGIN:VEVENT
DTSTAMP:20260424T162027
DTSTART;TZID=Europe/Berlin:20260930T180000
DTEND;TZID=Europe/Berlin:20260930T201500
UID:62504005DG-20260930T180000@VHSDILLENBURG
SUMMARY:Finanzbuchführung 2 (62504005DG) 
LOCATION:VHS: Raum 03 -Mehrzweckraum, Bahnhofstraße 10, 35683 Dillenburg
END:VEVENT
END:VCALENDAR